Workbook
Name HA_01: INDEX(tableTmp!$C$2:$C$22,MATCH('League Table'!$S$2,tableTmp!$B$2:$B$22,0))
Name HA_02: INDEX(tableTmp!$C$2:$C$22,MATCH('League Table'!$S$3,tableTmp!$B$2:$B$22,0))
Name HA_03: INDEX(tableTmp!$C$2:$C$22,MATCH('League Table'!$S$4,tableTmp!$B$2:$B$22,0))
Name HA_04: INDEX(tableTmp!$C$2:$C$22,MATCH('League Table'!$S$5,tableTmp!$B$2:$B$22,0))
Name HA_05: INDEX(tableTmp!$C$2:$C$22,MATCH('League Table'!$S$6,tableTmp!$B$2:$B$22,0))
Name HA_06: INDEX(tableTmp!$C$2:$C$22,MATCH('League Table'!$S$7,tableTmp!$B$2:$B$22,0))
Name HA_07: INDEX(tableTmp!$C$2:$C$22,MATCH('League Table'!$S$8,tableTmp!$B$2:$B$22,0))
Name HA_08: INDEX(tableTmp!$C$2:$C$22,MATCH('League Table'!$S$9,tableTmp!$B$2:$B$22,0))
Name HA_09: INDEX(tableTmp!$C$2:$C$22,MATCH('League Table'!$S$10,tableTmp!$B$2:$B$22,0))
Name HA_10: INDEX(tableTmp!$C$2:$C$22,MATCH('League Table'!$S$11,tableTmp!$B$2:$B$22,0))
Name HA_11: INDEX(tableTmp!$C$2:$C$22,MATCH('League Table'!$S$12,tableTmp!$B$2:$B$22,0))
Name HA_12: INDEX(tableTmp!$C$2:$C$22,MATCH('League Table'!$S$13,tableTmp!$B$2:$B$22,0))
Name HA_13: INDEX(tableTmp!$C$2:$C$22,MATCH('League Table'!$S$14,tableTmp!$B$2:$B$22,0))
Name HA_14: INDEX(tableTmp!$C$2:$C$22,MATCH('League Table'!$S$15,tableTmp!$B$2:$B$22,0))
Name HA_15: INDEX(tableTmp!$C$2:$C$22,MATCH('League Table'!$S$16,tableTmp!$B$2:$B$22,0))
Name HA_16: INDEX(tableTmp!$C$2:$C$22,MATCH('League Table'!$S$17,tableTmp!$B$2:$B$22,0))
Name HA_17: INDEX(tableTmp!$C$2:$C$22,MATCH('League Table'!$S$18,tableTmp!$B$2:$B$22,0))
Name HA_18: INDEX(tableTmp!$C$2:$C$22,MATCH('League Table'!$S$19,tableTmp!$B$2:$B$22,0))
Name HA_19: INDEX(tableTmp!$C$2:$C$22,MATCH('League Table'!$S$20,tableTmp!$B$2:$B$22,0))
Name HA_20: INDEX(tableTmp!$C$2:$C$22,MATCH('League Table'!$S$21,tableTmp!$B$2:$B$22,0))
Name T_01: INDEX(tableTmp!$C$2:$C$21,MATCH('League Table'!$B$2,tableTmp!$B$2:$B$21,0))
Name T_02: INDEX(tableTmp!$C$2:$C$21,MATCH('League Table'!$B$3,tableTmp!$B$2:$B$21,0))
Name T_03: INDEX(tableTmp!$C$2:$C$21,MATCH('League Table'!$B$4,tableTmp!$B$2:$B$21,0))
Name T_04: INDEX(tableTmp!$C$2:$C$21,MATCH('League Table'!$B$5,tableTmp!$B$2:$B$21,0))
Name T_05: INDEX(tableTmp!$C$2:$C$21,MATCH('League Table'!$B$6,tableTmp!$B$2:$B$21,0))
Name T_06: INDEX(tableTmp!$C$2:$C$21,MATCH('League Table'!$B$7,tableTmp!$B$2:$B$21,0))
Name T_07: INDEX(tableTmp!$C$2:$C$21,MATCH('League Table'!$B$8,tableTmp!$B$2:$B$21,0))
Name T_08: INDEX(tableTmp!$C$2:$C$21,MATCH('League Table'!$B$9,tableTmp!$B$2:$B$21,0))
Name T_09: INDEX(tableTmp!$C$2:$C$21,MATCH('League Table'!$B$10,tableTmp!$B$2:$B$21,0))
Name T_10: INDEX(tableTmp!$C$2:$C$21,MATCH('League Table'!$B$11,tableTmp!$B$2:$B$21,0))
Name T_11: INDEX(tableTmp!$C$2:$C$21,MATCH('League Table'!$B$12,tableTmp!$B$2:$B$21,0))
Name T_12: INDEX(tableTmp!$C$2:$C$21,MATCH('League Table'!$B$13,tableTmp!$B$2:$B$21,0))
Name T_13: INDEX(tableTmp!$C$2:$C$21,MATCH('League Table'!$B$14,tableTmp!$B$2:$B$21,0))
Name T_14: INDEX(tableTmp!$C$2:$C$21,MATCH('League Table'!$B$15,tableTmp!$B$2:$B$21,0))
Name T_15: INDEX(tableTmp!$C$2:$C$21,MATCH('League Table'!$B$16,tableTmp!$B$2:$B$21,0))
Name T_16: INDEX(tableTmp!$C$2:$C$21,MATCH('League Table'!$B$17,tableTmp!$B$2:$B$21,0))
Name T_17: INDEX(tableTmp!$C$2:$C$21,MATCH('League Table'!$B$18,tableTmp!$B$2:$B$21,0))
Name T_18: INDEX(tableTmp!$C$2:$C$21,MATCH('League Table'!$B$19,tableTmp!$B$2:$B$21,0))
Name T_19: INDEX(tableTmp!$C$2:$C$21,MATCH('League Table'!$B$20,tableTmp!$B$2:$B$21,0))
Name T_20: INDEX(tableTmp!$C$2:$C$21,MATCH('League Table'!$B$21,tableTmp!$B$2:$B$21,0))

Sheet Dashboard
B1: Premier League 2025 | C1: Time Zone | D1: London | H1: Updated on 7/27/2025 | J1: =VLOOKUP(D1,I2:K11,2,FALSE) -> D | K1: =VLOOKUP(D1,I2:K11,3,FALSE) -> 0
B2: Arsenal | G2: Introduction: | I2: New York | J2: C | K2: 0
B3: Aston Villa | G3: 1 | H3: Enter home goal and away goal in "fixtures" tab | I3: Chicago | J3: C | K3: 1
B4: Bournemouth | G4: 2 | H4: "League Table", "Fixtures_by_Clubs" and "Fixtures_by_Date" Tabs will automatically update. | I4: Albuquerque | J4: C | K4: 2
B5: Brentford | G5: 3 | H5: In case penalty points are imposed on to a certain club, enter the penalty points in the "Deduction" tab. | I5: San Francisco | J5: C | K5: 3
B6: Brighton | G6: 4 | H6: Fixture calendar is subject to change. Check back at excel4soccer.com for score charts with updated schedule. | I6: London | J6: D | K6: 0
B7: Burnley | G7: 5 | H7: Good luck to your favorite club! | I7: Paris | J7: D | K7: -1
B8: Chelsea | H8: Fixture date and time are subject to change. | I8: Bucharest | J8: D | K8: -2
B9: Crystal Palace | I9: Moscow | J9: E | K9: 0
B10: Everton | I10: Dubai | J10: F | K10: 0
B11: Fulham | D11: League | E11: Premier League | I11: Shanghai | J11: G | K11: 0
B12: Leeds Utd | D12: Season | E12: 2025
B13: Liverpool | D13: Number of Clubs | E13: 20
B14: Man City | D14: Start Date | E14: 45884
B15: Man Utd | D15: End Date | E15: 46166
B16: Newcastle
B17: Nott'm Forest
B18: Spurs
B19: Sunderland
B20: West Ham
B21: Wolves
A29: Useful links:
A30: 1 | B30: https://www.excel4soccer.com/
A34: ©2025 excel4soccer.com

Sheet League Table
A1: Rank | B1: Team | D1: MP | E1: Won | F1: Drawn | G1: Lost | H1: GF | I1: GA | J1: GD | K1: Points | L1: Form | Q1: Next
A2: 1 | B2: =VLOOKUP('League Table'!A2,tableTmp!$A$2:$S$21,2,FALSE) -> Arsenal | C2: =VLOOKUP('League Table'!B2,tableTmp!$B$2:$C$21,2,FALSE) -> #VALUE! | D2: =VLOOKUP('League Table'!A2,tableTmp!$A$2:$S$21,4,FALSE) -> 0 | E2: =VLOOKUP('League Table'!A2,tableTmp!$A$2:$S$21,5,FALSE) -> 0 | F2: =VLOOKUP('League Table'!A2,tableTmp!$A$2:$S$21,6,FALSE) -> 0 | G2: =VLOOKUP('League Table'!A2,tableTmp!$A$2:$S$21,7,FALSE) -> 0 | H2: =VLOOKUP('League Table'!A2,tableTmp!$A$2:$S$21,8,FALSE) -> 0 | I2: =VLOOKUP('League Table'!A2,tableTmp!$A$2:$S$21,9,FALSE) -> 0 | J2: =VLOOKUP('League Table'!A2,tableTmp!$A$2:$S$21,10,FALSE) -> 0 | K2: =VLOOKUP('League Table'!A2,tableTmp!$A$2:$S$21,11,FALSE) -> 0 | L2: =VLOOKUP('League Table'!A2,tableTmp!$A$2:$S$21,12,FALSE) | M2: =VLOOKUP('League Table'!A2,tableTmp!$A$2:$S$21,13,FALSE) | N2: =VLOOKUP('League Table'!A2,tableTmp!$A$2:$S$21,14,FALSE) | O2: =VLOOKUP('League Table'!A2,tableTmp!$A$2:$S$21,15,FALSE) | P2: =VLOOKUP('League Table'!A2,tableTmp!$A$2:$S$21,16,FALSE) | Q2: =VLOOKUP('League Table'!S2,tableTmp!$B$2:$C$21,2,FALSE) -> #VALUE! | R2: =VLOOKUP('League Table'!A2,tableTmp!$A$2:$S$21,18,FALSE) -> A | S2: =VLOOKUP('League Table'!A2,tableTmp!$A$2:$S$21,17,FALSE) -> Man Utd
A3: 2 | B3: =VLOOKUP('League Table'!A3,tableTmp!$A$2:$S$21,2,FALSE) -> Aston Villa | C3: =VLOOKUP('League Table'!B3,tableTmp!$B$2:$C$21,2,FALSE) -> #VALUE! | D3: =VLOOKUP('League Table'!A3,tableTmp!$A$2:$S$21,4,FALSE) -> 0 | E3: =VLOOKUP('League Table'!A3,tableTmp!$A$2:$S$21,5,FALSE) -> 0 | F3: =VLOOKUP('League Table'!A3,tableTmp!$A$2:$S$21,6,FALSE) -> 0 | G3: =VLOOKUP('League Table'!A3,tableTmp!$A$2:$S$21,7,FALSE) -> 0 | H3: =VLOOKUP('League Table'!A3,tableTmp!$A$2:$S$21,8,FALSE) -> 0 | I3: =VLOOKUP('League Table'!A3,tableTmp!$A$2:$S$21,9,FALSE) -> 0 | J3: =VLOOKUP('League Table'!A3,tableTmp!$A$2:$S$21,10,FALSE) -> 0 | K3: =VLOOKUP('League Table'!A3,tableTmp!$A$2:$S$21,11,FALSE) -> 0 | L3: =VLOOKUP('League Table'!A3,tableTmp!$A$2:$S$21,12,FALSE) | M3: =VLOOKUP('League Table'!A3,tableTmp!$A$2:$S$21,13,FALSE) | N3: =VLOOKUP('League Table'!A3,tableTmp!$A$2:$S$21,14,FALSE) | O3: =VLOOKUP('League Table'!A3,tableTmp!$A$2:$S$21,15,FALSE) | P3: =VLOOKUP('League Table'!A3,tableTmp!$A$2:$S$21,16,FALSE) | Q3: =VLOOKUP('League Table'!S3,tableTmp!$B$2:$C$21,2,FALSE) -> #VALUE! | R3: =VLOOKUP('League Table'!A3,tableTmp!$A$2:$S$21,18,FALSE) -> H | S3: =VLOOKUP('League Table'!A3,tableTmp!$A$2:$S$21,17,FALSE) -> Newcastle
A4: 3 | B4: =VLOOKUP('League Table'!A4,tableTmp!$A$2:$S$21,2,FALSE) -> Bournemouth | C4: =VLOOKUP('League Table'!B4,tableTmp!$B$2:$C$21,2,FALSE) -> #VALUE! | D4: =VLOOKUP('League Table'!A4,tableTmp!$A$2:$S$21,4,FALSE) -> 0 | E4: =VLOOKUP('League Table'!A4,tableTmp!$A$2:$S$21,5,FALSE) -> 0 | F4: =VLOOKUP('League Table'!A4,tableTmp!$A$2:$S$21,6,FALSE) -> 0 | G4: =VLOOKUP('League Table'!A4,tableTmp!$A$2:$S$21,7,FALSE) -> 0 | H4: =VLOOKUP('League Table'!A4,tableTmp!$A$2:$S$21,8,FALSE) -> 0 | I4: =VLOOKUP('League Table'!A4,tableTmp!$A$2:$S$21,9,FALSE) -> 0 | J4: =VLOOKUP('League Table'!A4,tableTmp!$A$2:$S$21,10,FALSE) -> 0 | K4: =VLOOKUP('League Table'!A4,tableTmp!$A$2:$S$21,11,FALSE) -> 0 | L4: =VLOOKUP('League Table'!A4,tableTmp!$A$2:$S$21,12,FALSE) | M4: =VLOOKUP('League Table'!A4,tableTmp!$A$2:$S$21,13,FALSE) | N4: =VLOOKUP('League Table'!A4,tableTmp!$A$2:$S$21,14,FALSE) | O4: =VLOOKUP('League Table'!A4,tableTmp!$A$2:$S$21,15,FALSE) | P4: =VLOOKUP('League Table'!A4,tableTmp!$A$2:$S$21,16,FALSE) | Q4: =VLOOKUP('League Table'!S4,tableTmp!$B$2:$C$21,2,FALSE) -> #VALUE! | R4: =VLOOKUP('League Table'!A4,tableTmp!$A$2:$S$21,18,FALSE) -> A | S4: =VLOOKUP('League Table'!A4,tableTmp!$A$2:$S$21,17,FALSE) -> Liverpool
A5: 4 | B5: =VLOOKUP('League Table'!A5,tableTmp!$A$2:$S$21,2,FALSE) -> Brentford | C5: =VLOOKUP('League Table'!B5,tableTmp!$B$2:$C$21,2,FALSE) -> #VALUE! | D5: =VLOOKUP('League Table'!A5,tableTmp!$A$2:$S$21,4,FALSE) -> 0 | E5: =VLOOKUP('League Table'!A5,tableTmp!$A$2:$S$21,5,FALSE) -> 0 | F5: =VLOOKUP('League Table'!A5,tableTmp!$A$2:$S$21,6,FALSE) -> 0 | G5: =VLOOKUP('League Table'!A5,tableTmp!$A$2:$S$21,7,FALSE) -> 0 | H5: =VLOOKUP('League Table'!A5,tableTmp!$A$2:$S$21,8,FALSE) -> 0 | I5: =VLOOKUP('League Table'!A5,tableTmp!$A$2:$S$21,9,FALSE) -> 0 | J5: =VLOOKUP('League Table'!A5,tableTmp!$A$2:$S$21,10,FALSE) -> 0 | K5: =VLOOKUP('League Table'!A5,tableTmp!$A$2:$S$21,11,FALSE) -> 0 | L5: =VLOOKUP('League Table'!A5,tableTmp!$A$2:$S$21,12,FALSE) | M5: =VLOOKUP('League Table'!A5,tableTmp!$A$2:$S$21,13,FALSE) | N5: =VLOOKUP('League Table'!A5,tableTmp!$A$2:$S$21,14,FALSE) | O5: =VLOOKUP('League Table'!A5,tableTmp!$A$2:$S$21,15,FALSE) | P5: =VLOOKUP('League Table'!A5,tableTmp!$A$2:$S$21,16,FALSE) | Q5: =VLOOKUP('League Table'!S5,tableTmp!$B$2:$C$21,2,FALSE) -> #VALUE! | R5: =VLOOKUP('League Table'!A5,tableTmp!$A$2:$S$21,18,FALSE) -> A | S5: =VLOOKUP('League Table'!A5,tableTmp!$A$2:$S$21,17,FALSE) -> Nott'm Forest
A6: 5 | B6: =VLOOKUP('League Table'!A6,tableTmp!$A$2:$S$21,2,FALSE) -> Brighton | C6: =VLOOKUP('League Table'!B6,tableTmp!$B$2:$C$21,2,FALSE) -> #VALUE! | D6: =VLOOKUP('League Table'!A6,tableTmp!$A$2:$S$21,4,FALSE) -> 0 | E6: =VLOOKUP('League Table'!A6,tableTmp!$A$2:$S$21,5,FALSE) -> 0 | F6: =VLOOKUP('League Table'!A6,tableTmp!$A$2:$S$21,6,FALSE) -> 0 | G6: =VLOOKUP('League Table'!A6,tableTmp!$A$2:$S$21,7,FALSE) -> 0 | H6: =VLOOKUP('League Table'!A6,tableTmp!$A$2:$S$21,8,FALSE) -> 0 | I6: =VLOOKUP('League Table'!A6,tableTmp!$A$2:$S$21,9,FALSE) -> 0 | J6: =VLOOKUP('League Table'!A6,tableTmp!$A$2:$S$21,10,FALSE) -> 0 | K6: =VLOOKUP('League Table'!A6,tableTmp!$A$2:$S$21,11,FALSE) -> 0 | L6: =VLOOKUP('League Table'!A6,tableTmp!$A$2:$S$21,12,FALSE) | M6: =VLOOKUP('League Table'!A6,tableTmp!$A$2:$S$21,13,FALSE) | N6: =VLOOKUP('League Table'!A6,tableTmp!$A$2:$S$21,14,FALSE) | O6: =VLOOKUP('League Table'!A6,tableTmp!$A$2:$S$21,15,FALSE) | P6: =VLOOKUP('League Table'!A6,tableTmp!$A$2:$S$21,16,FALSE) | Q6: =VLOOKUP('League Table'!S6,tableTmp!$B$2:$C$21,2,FALSE) -> #VALUE! | R6: =VLOOKUP('League Table'!A6,tableTmp!$A$2:$S$21,18,FALSE) -> H | S6: =VLOOKUP('League Table'!A6,tableTmp!$A$2:$S$21,17,FALSE) -> Fulham
A7: 6 | B7: =VLOOKUP('League Table'!A7,tableTmp!$A$2:$S$21,2,FALSE) -> Burnley | C7: =VLOOKUP('League Table'!B7,tableTmp!$B$2:$C$21,2,FALSE) -> #VALUE! | D7: =VLOOKUP('League Table'!A7,tableTmp!$A$2:$S$21,4,FALSE) -> 0 | E7: =VLOOKUP('League Table'!A7,tableTmp!$A$2:$S$21,5,FALSE) -> 0 | F7: =VLOOKUP('League Table'!A7,tableTmp!$A$2:$S$21,6,FALSE) -> 0 | G7: =VLOOKUP('League Table'!A7,tableTmp!$A$2:$S$21,7,FALSE) -> 0 | H7: =VLOOKUP('League Table'!A7,tableTmp!$A$2:$S$21,8,FALSE) -> 0 | I7: =VLOOKUP('League Table'!A7,tableTmp!$A$2:$S$21,9,FALSE) -> 0 | J7: =VLOOKUP('League Table'!A7,tableTmp!$A$2:$S$21,10,FALSE) -> 0 | K7: =VLOOKUP('League Table'!A7,tableTmp!$A$2:$S$21,11,FALSE) -> 0 | L7: =VLOOKUP('League Table'!A7,tableTmp!$A$2:$S$21,12,FALSE) | M7: =VLOOKUP('League Table'!A7,tableTmp!$A$2:$S$21,13,FALSE) | N7: =VLOOKUP('League Table'!A7,tableTmp!$A$2:$S$21,14,FALSE) | O7: =VLOOKUP('League Table'!A7,tableTmp!$A$2:$S$21,15,FALSE) | P7: =VLOOKUP('League Table'!A7,tableTmp!$A$2:$S$21,16,FALSE) | Q7: =VLOOKUP('League Table'!S7,tableTmp!$B$2:$C$21,2,FALSE) -> #VALUE! | R7: =VLOOKUP('League Table'!A7,tableTmp!$A$2:$S$21,18,FALSE) -> A | S7: =VLOOKUP('League Table'!A7,tableTmp!$A$2:$S$21,17,FALSE) -> Spurs
A8: 7 | B8: =VLOOKUP('League Table'!A8,tableTmp!$A$2:$S$21,2,FALSE) -> Chelsea | C8: =VLOOKUP('League Table'!B8,tableTmp!$B$2:$C$21,2,FALSE) -> #VALUE! | D8: =VLOOKUP('League Table'!A8,tableTmp!$A$2:$S$21,4,FALSE) -> 0 | E8: =VLOOKUP('League Table'!A8,tableTmp!$A$2:$S$21,5,FALSE) -> 0 | F8: =VLOOKUP('League Table'!A8,tableTmp!$A$2:$S$21,6,FALSE) -> 0 | G8: =VLOOKUP('League Table'!A8,tableTmp!$A$2:$S$21,7,FALSE) -> 0 | H8: =VLOOKUP('League Table'!A8,tableTmp!$A$2:$S$21,8,FALSE) -> 0 | I8: =VLOOKUP('League Table'!A8,tableTmp!$A$2:$S$21,9,FALSE) -> 0 | J8: =VLOOKUP('League Table'!A8,tableTmp!$A$2:$S$21,10,FALSE) -> 0 | K8: =VLOOKUP('League Table'!A8,tableTmp!$A$2:$S$21,11,FALSE) -> 0 | L8: =VLOOKUP('League Table'!A8,tableTmp!$A$2:$S$21,12,FALSE) | M8: =VLOOKUP('League Table'!A8,tableTmp!$A$2:$S$21,13,FALSE) | N8: =VLOOKUP('League Table'!A8,tableTmp!$A$2:$S$21,14,FALSE) | O8: =VLOOKUP('League Table'!A8,tableTmp!$A$2:$S$21,15,FALSE) | P8: =VLOOKUP('League Table'!A8,tableTmp!$A$2:$S$21,16,FALSE) | Q8: =VLOOKUP('League Table'!S8,tableTmp!$B$2:$C$21,2,FALSE) -> #VALUE! | R8: =VLOOKUP('League Table'!A8,tableTmp!$A$2:$S$21,18,FALSE) -> H | S8: =VLOOKUP('League Table'!A8,tableTmp!$A$2:$S$21,17,FALSE) -> Crystal Palace
A9: 8 | B9: =VLOOKUP('League Table'!A9,tableTmp!$A$2:$S$21,2,FALSE) -> Crystal Palace | C9: =VLOOKUP('League Table'!B9,tableTmp!$B$2:$C$21,2,FALSE) -> #VALUE! | D9: =VLOOKUP('League Table'!A9,tableTmp!$A$2:$S$21,4,FALSE) -> 0 | E9: =VLOOKUP('League Table'!A9,tableTmp!$A$2:$S$21,5,FALSE) -> 0 | F9: =VLOOKUP('League Table'!A9,tableTmp!$A$2:$S$21,6,FALSE) -> 0 | G9: =VLOOKUP('League Table'!A9,tableTmp!$A$2:$S$21,7,FALSE) -> 0 | H9: =VLOOKUP('League Table'!A9,tableTmp!$A$2:$S$21,8,FALSE) -> 0 | I9: =VLOOKUP('League Table'!A9,tableTmp!$A$2:$S$21,9,FALSE) -> 0 | J9: =VLOOKUP('League Table'!A9,tableTmp!$A$2:$S$21,10,FALSE) -> 0 | K9: =VLOOKUP('League Table'!A9,tableTmp!$A$2:$S$21,11,FALSE) -> 0 | L9: =VLOOKUP('League Table'!A9,tableTmp!$A$2:$S$21,12,FALSE) | M9: =VLOOKUP('League Table'!A9,tableTmp!$A$2:$S$21,13,FALSE) | N9: =VLOOKUP('League Table'!A9,tableTmp!$A$2:$S$21,14,FALSE) | O9: =VLOOKUP('League Table'!A9,tableTmp!$A$2:$S$21,15,FALSE) | P9: =VLOOKUP('League Table'!A9,tableTmp!$A$2:$S$21,16,FALSE) | Q9: =VLOOKUP('League Table'!S9,tableTmp!$B$2:$C$21,2,FALSE) -> #VALUE! | R9: =VLOOKUP('League Table'!A9,tableTmp!$A$2:$S$21,18,FALSE) -> A | S9: =VLOOKUP('League Table'!A9,tableTmp!$A$2:$S$21,17,FALSE) -> Chelsea
A10: 9 | B10: =VLOOKUP('League Table'!A10,tableTmp!$A$2:$S$21,2,FALSE) -> Everton | C10: =VLOOKUP('League Table'!B10,tableTmp!$B$2:$C$21,2,FALSE) -> #VALUE! | D10: =VLOOKUP('League Table'!A10,tableTmp!$A$2:$S$21,4,FALSE) -> 0 | E10: =VLOOKUP('League Table'!A10,tableTmp!$A$2:$S$21,5,FALSE) -> 0 | F10: =VLOOKUP('League Table'!A10,tableTmp!$A$2:$S$21,6,FALSE) -> 0 | G10: =VLOOKUP('League Table'!A10,tableTmp!$A$2:$S$21,7,FALSE) -> 0 | H10: =VLOOKUP('League Table'!A10,tableTmp!$A$2:$S$21,8,FALSE) -> 0 | I10: =VLOOKUP('League Table'!A10,tableTmp!$A$2:$S$21,9,FALSE) -> 0 | J10: =VLOOKUP('League Table'!A10,tableTmp!$A$2:$S$21,10,FALSE) -> 0 | K10: =VLOOKUP('League Table'!A10,tableTmp!$A$2:$S$21,11,FALSE) -> 0 | L10: =VLOOKUP('League Table'!A10,tableTmp!$A$2:$S$21,12,FALSE) | M10: =VLOOKUP('League Table'!A10,tableTmp!$A$2:$S$21,13,FALSE) | N10: =VLOOKUP('League Table'!A10,tableTmp!$A$2:$S$21,14,FALSE) | O10: =VLOOKUP('League Table'!A10,tableTmp!$A$2:$S$21,15,FALSE) | P10: =VLOOKUP('League Table'!A10,tableTmp!$A$2:$S$21,16,FALSE) | Q10: =VLOOKUP('League Table'!S10,tableTmp!$B$2:$C$21,2,FALSE) -> #VALUE! | R10: =VLOOKUP('League Table'!A10,tableTmp!$A$2:$S$21,18,FALSE) -> A | S10: =VLOOKUP('League Table'!A10,tableTmp!$A$2:$S$21,17,FALSE) -> Leeds Utd
A11: 10 | B11: =VLOOKUP('League Table'!A11,tableTmp!$A$2:$S$21,2,FALSE) -> Fulham | C11: =VLOOKUP('League Table'!B11,tableTmp!$B$2:$C$21,2,FALSE) -> #VALUE! | D11: =VLOOKUP('League Table'!A11,tableTmp!$A$2:$S$21,4,FALSE) -> 0 | E11: =VLOOKUP('League Table'!A11,tableTmp!$A$2:$S$21,5,FALSE) -> 0 | F11: =VLOOKUP('League Table'!A11,tableTmp!$A$2:$S$21,6,FALSE) -> 0 | G11: =VLOOKUP('League Table'!A11,tableTmp!$A$2:$S$21,7,FALSE) -> 0 | H11: =VLOOKUP('League Table'!A11,tableTmp!$A$2:$S$21,8,FALSE) -> 0 | I11: =VLOOKUP('League Table'!A11,tableTmp!$A$2:$S$21,9,FALSE) -> 0 | J11: =VLOOKUP('League Table'!A11,tableTmp!$A$2:$S$21,10,FALSE) -> 0 | K11: =VLOOKUP('League Table'!A11,tableTmp!$A$2:$S$21,11,FALSE) -> 0 | L11: =VLOOKUP('League Table'!A11,tableTmp!$A$2:$S$21,12,FALSE) | M11: =VLOOKUP('League Table'!A11,tableTmp!$A$2:$S$21,13,FALSE) | N11: =VLOOKUP('League Table'!A11,tableTmp!$A$2:$S$21,14,FALSE) | O11: =VLOOKUP('League Table'!A11,tableTmp!$A$2:$S$21,15,FALSE) | P11: =VLOOKUP('League Table'!A11,tableTmp!$A$2:$S$21,16,FALSE) | Q11: =VLOOKUP('League Table'!S11,tableTmp!$B$2:$C$21,2,FALSE) -> #VALUE! | R11: =VLOOKUP('League Table'!A11,tableTmp!$A$2:$S$21,18,FALSE) -> A | S11: =VLOOKUP('League Table'!A11,tableTmp!$A$2:$S$21,17,FALSE) -> Brighton
A12: 11 | B12: =VLOOKUP('League Table'!A12,tableTmp!$A$2:$S$21,2,FALSE) -> Leeds Utd | C12: =VLOOKUP('League Table'!B12,tableTmp!$B$2:$C$21,2,FALSE) -> #VALUE! | D12: =VLOOKUP('League Table'!A12,tableTmp!$A$2:$S$21,4,FALSE) -> 0 | E12: =VLOOKUP('League Table'!A12,tableTmp!$A$2:$S$21,5,FALSE) -> 0 | F12: =VLOOKUP('League Table'!A12,tableTmp!$A$2:$S$21,6,FALSE) -> 0 | G12: =VLOOKUP('League Table'!A12,tableTmp!$A$2:$S$21,7,FALSE) -> 0 | H12: =VLOOKUP('League Table'!A12,tableTmp!$A$2:$S$21,8,FALSE) -> 0 | I12: =VLOOKUP('League Table'!A12,tableTmp!$A$2:$S$21,9,FALSE) -> 0 | J12: =VLOOKUP('League Table'!A12,tableTmp!$A$2:$S$21,10,FALSE) -> 0 | K12: =VLOOKUP('League Table'!A12,tableTmp!$A$2:$S$21,11,FALSE) -> 0 | L12: =VLOOKUP('League Table'!A12,tableTmp!$A$2:$S$21,12,FALSE) | M12: =VLOOKUP('League Table'!A12,tableTmp!$A$2:$S$21,13,FALSE) | N12: =VLOOKUP('League Table'!A12,tableTmp!$A$2:$S$21,14,FALSE) | O12: =VLOOKUP('League Table'!A12,tableTmp!$A$2:$S$21,15,FALSE) | P12: =VLOOKUP('League Table'!A12,tableTmp!$A$2:$S$21,16,FALSE) | Q12: =VLOOKUP('League Table'!S12,tableTmp!$B$2:$C$21,2,FALSE) -> #VALUE! | R12: =VLOOKUP('League Table'!A12,tableTmp!$A$2:$S$21,18,FALSE) -> H | S12: =VLOOKUP('League Table'!A12,tableTmp!$A$2:$S$21,17,FALSE) -> Everton
A13: 12 | B13: =VLOOKUP('League Table'!A13,tableTmp!$A$2:$S$21,2,FALSE) -> Liverpool | C13: =VLOOKUP('League Table'!B13,tableTmp!$B$2:$C$21,2,FALSE) -> #VALUE! | D13: =VLOOKUP('League Table'!A13,tableTmp!$A$2:$S$21,4,FALSE) -> 0 | E13: =VLOOKUP('League Table'!A13,tableTmp!$A$2:$S$21,5,FALSE) -> 0 | F13: =VLOOKUP('League Table'!A13,tableTmp!$A$2:$S$21,6,FALSE) -> 0 | G13: =VLOOKUP('League Table'!A13,tableTmp!$A$2:$S$21,7,FALSE) -> 0 | H13: =VLOOKUP('League Table'!A13,tableTmp!$A$2:$S$21,8,FALSE) -> 0 | I13: =VLOOKUP('League Table'!A13,tableTmp!$A$2:$S$21,9,FALSE) -> 0 | J13: =VLOOKUP('League Table'!A13,tableTmp!$A$2:$S$21,10,FALSE) -> 0 | K13: =VLOOKUP('League Table'!A13,tableTmp!$A$2:$S$21,11,FALSE) -> 0 | L13: =VLOOKUP('League Table'!A13,tableTmp!$A$2:$S$21,12,FALSE) | M13: =VLOOKUP('League Table'!A13,tableTmp!$A$2:$S$21,13,FALSE) | N13: =VLOOKUP('League Table'!A13,tableTmp!$A$2:$S$21,14,FALSE) | O13: =VLOOKUP('League Table'!A13,tableTmp!$A$2:$S$21,15,FALSE) | P13: =VLOOKUP('League Table'!A13,tableTmp!$A$2:$S$21,16,FALSE) | Q13: =VLOOKUP('League Table'!S13,tableTmp!$B$2:$C$21,2,FALSE) -> #VALUE! | R13: =VLOOKUP('League Table'!A13,tableTmp!$A$2:$S$21,18,FALSE) -> H | S13: =VLOOKUP('League Table'!A13,tableTmp!$A$2:$S$21,17,FALSE) -> Bournemouth
... A21: 20 | B21: =VLOOKUP('League Table'!A21,tableTmp!$A$2:$S$21,2,FALSE) -> Wolves | C21: =VLOOKUP('League Table'!B21,tableTmp!$B$2:$C$21,2,FALSE) -> #VALUE! | D21: =VLOOKUP('League Table'!A21,tableTmp!$A$2:$S$21,4,FALSE) -> 0 | E21: =VLOOKUP('League Table'!A21,tableTmp!$A$2:$S$21,5,FALSE) -> 0 | F21: =VLOOKUP('League Table'!A21,tableTmp!$A$2:$S$21,6,FALSE) -> 0 | G21: =VLOOKUP('League Table'!A21,tableTmp!$A$2:$S$21,7,FALSE) -> 0 | H21: =VLOOKUP('League Table'!A21,tableTmp!$A$2:$S$21,8,FALSE) -> 0 | I21: =VLOOKUP('League Table'!A21,tableTmp!$A$2:$S$21,9,FALSE) -> 0 | J21: =VLOOKUP('League Table'!A21,tableTmp!$A$2:$S$21,10,FALSE) -> 0 | K21: =VLOOKUP('League Table'!A21,tableTmp!$A$2:$S$21,11,FALSE) -> 0 | L21: =VLOOKUP('League Table'!A21,tableTmp!$A$2:$S$21,12,FALSE) | M21: =VLOOKUP('League Table'!A21,tableTmp!$A$2:$S$21,13,FALSE) | N21: =VLOOKUP('League Table'!A21,tableTmp!$A$2:$S$21,14,FALSE) | O21: =VLOOKUP('League Table'!A21,tableTmp!$A$2:$S$21,15,FALSE) | P21: =VLOOKUP('League Table'!A21,tableTmp!$A$2:$S$21,16,FALSE) | Q21: =VLOOKUP('League Table'!S21,tableTmp!$B$2:$C$21,2,FALSE) -> #VALUE! | R21: =VLOOKUP('League Table'!A21,tableTmp!$A$2:$S$21,18,FALSE) -> H | S21: =VLOOKUP('League Table'!A21,tableTmp!$A$2:$S$21,17,FALSE) -> Man City
B22: BLK
B23: UEFA Champions League Group Stage
B24: UEFA Europa League Group Stage
B25: Relagation
A28: ©2025 excel4soccer.com

Sheet tableTmp
A1: Rank | B1: Team | D1: MP | E1: Won | F1: Drawn | G1: Lost | H1: GF | I1: GA | J1: GD | K1: Points | L1: Form | Q1: Next Game | T1: GF1 | U1: Compsite | V1: Order
A2: =RANK(U2,U$2:U$21) -> 1 | B2: Arsenal | C2: #VALUE! | D2: =Fixtures_by_Clubs!B55 -> 0 | E2: =Fixtures_by_Clubs!B56 -> 0 | F2: =Fixtures_by_Clubs!B57 -> 0 | G2: =Fixtures_by_Clubs!B58 -> 0 | H2: =Fixtures_by_Clubs!E54 -> 0 | I2: =Fixtures_by_Clubs!E55 -> 0 | J2: =Fixtures_by_Clubs!E56 -> 0 | K2: =Fixtures_by_Clubs!B54-Deduction!$C$2 -> 0 | L2: =IFERROR(Fixtures_by_Clubs!G58,"") | M2: =IFERROR(Fixtures_by_Clubs!G57,"") | N2: =IFERROR(Fixtures_by_Clubs!G56,"") | O2: =IFERROR(Fixtures_by_Clubs!G55,"") | P2: =IFERROR(Fixtures_by_Clubs!G54,"") | Q2: =IFERROR(Fixtures_by_Clubs!E58,"BLK") -> Man Utd | R2: =IFERROR(Fixtures_by_Clubs!E59,"") -> A | S2: =Fixtures_by_Clubs!E53 -> 0 | T2: =Fixtures_by_Clubs!E53 -> 0 | U2: =K2*100+J2+H2/100+T2/10000-D2/1000000-V2/100000000 -> -1e-08 | V2: 1
A3: =RANK(U3,U$2:U$21) -> 2 | B3: Aston Villa | C3: #VALUE! | D3: =Fixtures_by_Clubs!N55 -> 0 | E3: =Fixtures_by_Clubs!N56 -> 0 | F3: =Fixtures_by_Clubs!N57 -> 0 | G3: =Fixtures_by_Clubs!N58 -> 0 | H3: =Fixtures_by_Clubs!Q54 -> 0 | I3: =Fixtures_by_Clubs!Q55 -> 0 | J3: =Fixtures_by_Clubs!Q56 -> 0 | K3: =Fixtures_by_Clubs!N54-Deduction!$C$3 -> 0 | L3: =IFERROR(Fixtures_by_Clubs!S58,"") | M3: =IFERROR(Fixtures_by_Clubs!S57,"") | N3: =IFERROR(Fixtures_by_Clubs!S56,"") | O3: =IFERROR(Fixtures_by_Clubs!S55,"") | P3: =IFERROR(Fixtures_by_Clubs!S54,"") | Q3: =IFERROR(Fixtures_by_Clubs!Q58,"BLK") -> Newcastle | R3: =IFERROR(Fixtures_by_Clubs!Q59,"") -> H | S3: =Fixtures_by_Clubs!Q53 -> 0 | T3: =Fixtures_by_Clubs!Q53 -> 0 | U3: =K3*100+J3+H3/100+T3/10000-D3/1000000-V3/100000000 -> -2e-08 | V3: 2
A4: =RANK(U4,U$2:U$21) -> 3 | B4: Bournemouth | C4: #VALUE! | D4: =Fixtures_by_Clubs!Z55 -> 0 | E4: =Fixtures_by_Clubs!Z56 -> 0 | F4: =Fixtures_by_Clubs!Z57 -> 0 | G4: =Fixtures_by_Clubs!Z58 -> 0 | H4: =Fixtures_by_Clubs!AC54 -> 0 | I4: =Fixtures_by_Clubs!AC55 -> 0 | J4: =Fixtures_by_Clubs!AC56 -> 0 | K4: =Fixtures_by_Clubs!Z54-Deduction!$C$4 -> 0 | L4: =IFERROR(Fixtures_by_Clubs!AE58,"") | M4: =IFERROR(Fixtures_by_Clubs!AE57,"") | N4: =IFERROR(Fixtures_by_Clubs!AE56,"") | O4: =IFERROR(Fixtures_by_Clubs!AE55,"") | P4: =IFERROR(Fixtures_by_Clubs!AE54,"") | Q4: =IFERROR(Fixtures_by_Clubs!AC58,"BLK") -> Liverpool | R4: =IFERROR(Fixtures_by_Clubs!AC59,"") -> A | S4: =Fixtures_by_Clubs!AC53 -> 0 | T4: =Fixtures_by_Clubs!AC53 -> 0 | U4: =K4*100+J4+H4/100+T4/10000-D4/1000000-V4/100000000 -> -3e-08 | V4: 3
A5: =RANK(U5,U$2:U$21) -> 4 | B5: Brentford | C5: #VALUE! | D5: =Fixtures_by_Clubs!AL55 -> 0 | E5: =Fixtures_by_Clubs!AL56 -> 0 | F5: =Fixtures_by_Clubs!AL57 -> 0 | G5: =Fixtures_by_Clubs!AL58 -> 0 | H5: =Fixtures_by_Clubs!AO54 -> 0 | I5: =Fixtures_by_Clubs!AO55 -> 0 | J5: =Fixtures_by_Clubs!AO56 -> 0 | K5: =Fixtures_by_Clubs!AL54-Deduction!$C$5 -> 0 | L5: =IFERROR(Fixtures_by_Clubs!AQ58,"") | M5: =IFERROR(Fixtures_by_Clubs!AQ57,"") | N5: =IFERROR(Fixtures_by_Clubs!AQ56,"") | O5: =IFERROR(Fixtures_by_Clubs!AQ55,"") | P5: =IFERROR(Fixtures_by_Clubs!AQ54,"") | Q5: =IFERROR(Fixtures_by_Clubs!AO58,"BLK") -> Nott'm Forest | R5: =IFERROR(Fixtures_by_Clubs!AO59,"") -> A | S5: =Fixtures_by_Clubs!AO53 -> 0 | T5: =Fixtures_by_Clubs!AO53 -> 0 | U5: =K5*100+J5+H5/100+T5/10000-D5/1000000-V5/100000000 -> -4e-08 | V5: 4
A6: =RANK(U6,U$2:U$21) -> 5 | B6: Brighton | C6: #VALUE! | D6: =Fixtures_by_Clubs!AX55 -> 0 | E6: =Fixtures_by_Clubs!AX56 -> 0 | F6: =Fixtures_by_Clubs!AX57 -> 0 | G6: =Fixtures_by_Clubs!AX58 -> 0 | H6: =Fixtures_by_Clubs!BA54 -> 0 | I6: =Fixtures_by_Clubs!BA55 -> 0 | J6: =Fixtures_by_Clubs!BA56 -> 0 | K6: =Fixtures_by_Clubs!AX54-Deduction!$C$6 -> 0 | L6: =IFERROR(Fixtures_by_Clubs!BC58,"") | M6: =IFERROR(Fixtures_by_Clubs!BC57,"") | N6: =IFERROR(Fixtures_by_Clubs!BC56,"") | O6: =IFERROR(Fixtures_by_Clubs!BC55,"") | P6: =IFERROR(Fixtures_by_Clubs!BC54,"") | Q6: =IFERROR(Fixtures_by_Clubs!BA58,"BLK") -> Fulham | R6: =IFERROR(Fixtures_by_Clubs!BA59,"") -> H | S6: =Fixtures_by_Clubs!BA53 -> 0 | T6: =Fixtures_by_Clubs!BA53 -> 0 | U6: =K6*100+J6+H6/100+T6/10000-D6/1000000-V6/100000000 -> -5e-08 | V6: 5
A7: =RANK(U7,U$2:U$21) -> 6 | B7: Burnley | C7: #VALUE! | D7: =Fixtures_by_Clubs!BJ55 -> 0 | E7: =Fixtures_by_Clubs!BJ56 -> 0 | F7: =Fixtures_by_Clubs!BJ57 -> 0 | G7: =Fixtures_by_Clubs!BJ58 -> 0 | H7: =Fixtures_by_Clubs!BM54 -> 0 | I7: =Fixtures_by_Clubs!BM55 -> 0 | J7: =Fixtures_by_Clubs!BM56 -> 0 | K7: =Fixtures_by_Clubs!BJ54-Deduction!$C$7 -> 0 | L7: =IFERROR(Fixtures_by_Clubs!BO58,"") | M7: =IFERROR(Fixtures_by_Clubs!BO57,"") | N7: =IFERROR(Fixtures_by_Clubs!BO56,"") | O7: =IFERROR(Fixtures_by_Clubs!BO55,"") | P7: =IFERROR(Fixtures_by_Clubs!BO54,"") | Q7: =IFERROR(Fixtures_by_Clubs!BM58,"BLK") -> Spurs | R7: =IFERROR(Fixtures_by_Clubs!BM59,"") -> A | S7: =Fixtures_by_Clubs!BM53 -> 0 | T7: =Fixtures_by_Clubs!BM53 -> 0 | U7: =K7*100+J7+H7/100+T7/10000-D7/1000000-V7/100000000 -> -6e-08 | V7: 6
A8: =RANK(U8,U$2:U$21) -> 7 | B8: Chelsea | C8: #VALUE! | D8: =Fixtures_by_Clubs!BV55 -> 0 | E8: =Fixtures_by_Clubs!BV56 -> 0 | F8: =Fixtures_by_Clubs!BV57 -> 0 | G8: =Fixtures_by_Clubs!BV58 -> 0 | H8: =Fixtures_by_Clubs!BY54 -> 0 | I8: =Fixtures_by_Clubs!BY55 -> 0 | J8: =Fixtures_by_Clubs!BY56 -> 0 | K8: =Fixtures_by_Clubs!BV54-Deduction!$C$8 -> 0 | L8: =IFERROR(Fixtures_by_Clubs!CA58,"") | M8: =IFERROR(Fixtures_by_Clubs!CA57,"") | N8: =IFERROR(Fixtures_by_Clubs!CA56,"") | O8: =IFERROR(Fixtures_by_Clubs!CA55,"") | P8: =IFERROR(Fixtures_by_Clubs!CA54,"") | Q8: =IFERROR(Fixtures_by_Clubs!BY58,"BLK") -> Crystal Palace | R8: =IFERROR(Fixtures_by_Clubs!BY59,"") -> H | S8: =Fixtures_by_Clubs!BY53 -> 0 | T8: =Fixtures_by_Clubs!BY53 -> 0 | U8: =K8*100+J8+H8/100+T8/10000-D8/1000000-V8/100000000 -> -7e-08 | V8: 7
A9: =RANK(U9,U$2:U$21) -> 8 | B9: Crystal Palace | C9: #VALUE! | D9: =Fixtures_by_Clubs!CH55 -> 0 | E9: =Fixtures_by_Clubs!CH56 -> 0 | F9: =Fixtures_by_Clubs!CH57 -> 0 | G9: =Fixtures_by_Clubs!CH58 -> 0 | H9: =Fixtures_by_Clubs!CK54 -> 0 | I9: =Fixtures_by_Clubs!CK55 -> 0 | J9: =Fixtures_by_Clubs!CK56 -> 0 | K9: =Fixtures_by_Clubs!CH54-Deduction!$C$9 -> 0 | L9: =IFERROR(Fixtures_by_Clubs!CM58,"") | M9: =IFERROR(Fixtures_by_Clubs!CM57,"") | N9: =IFERROR(Fixtures_by_Clubs!CM56,"") | O9: =IFERROR(Fixtures_by_Clubs!CM55,"") | P9: =IFERROR(Fixtures_by_Clubs!CM54,"") | Q9: =IFERROR(Fixtures_by_Clubs!CK58,"BLK") -> Chelsea | R9: =IFERROR(Fixtures_by_Clubs!CK59,"") -> A | S9: =Fixtures_by_Clubs!CK53 -> 0 | T9: =Fixtures_by_Clubs!CK53 -> 0 | U9: =K9*100+J9+H9/100+T9/10000-D9/1000000-V9/100000000 -> -8e-08 | V9: 8
A10: =RANK(U10,U$2:U$21) -> 9 | B10: Everton | C10: #VALUE! | D10: =Fixtures_by_Clubs!CT55 -> 0 | E10: =Fixtures_by_Clubs!CT56 -> 0 | F10: =Fixtures_by_Clubs!CT57 -> 0 | G10: =Fixtures_by_Clubs!CT58 -> 0 | H10: =Fixtures_by_Clubs!CW54 -> 0 | I10: =Fixtures_by_Clubs!CW55 -> 0 | J10: =Fixtures_by_Clubs!CW56 -> 0 | K10: =Fixtures_by_Clubs!CT54-Deduction!$C$10 -> 0 | L10: =IFERROR(Fixtures_by_Clubs!CY58,"") | M10: =IFERROR(Fixtures_by_Clubs!CY57,"") | N10: =IFERROR(Fixtures_by_Clubs!CY56,"") | O10: =IFERROR(Fixtures_by_Clubs!CY55,"") | P10: =IFERROR(Fixtures_by_Clubs!CY54,"") | Q10: =IFERROR(Fixtures_by_Clubs!CW58,"BLK") -> Leeds Utd | R10: =IFERROR(Fixtures_by_Clubs!CW59,"") -> A | S10: =Fixtures_by_Clubs!CW53 -> 0 | T10: =Fixtures_by_Clubs!CW53 -> 0 | U10: =K10*100+J10+H10/100+T10/10000-D10/1000000-V10/100000000 -> -9e-08 | V10: 9
A11: =RANK(U11,U$2:U$21) -> 10 | B11: Fulham | C11: #VALUE! | D11: =Fixtures_by_Clubs!DF55 -> 0 | E11: =Fixtures_by_Clubs!DF56 -> 0 | F11: =Fixtures_by_Clubs!DF57 -> 0 | G11: =Fixtures_by_Clubs!DF58 -> 0 | H11: =Fixtures_by_Clubs!DI54 -> 0 | I11: =Fixtures_by_Clubs!DI55 -> 0 | J11: =Fixtures_by_Clubs!DI56 -> 0 | K11: =Fixtures_by_Clubs!DF54-Deduction!$C$11 -> 0 | L11: =IFERROR(Fixtures_by_Clubs!DK58,"") | M11: =IFERROR(Fixtures_by_Clubs!DK57,"") | N11: =IFERROR(Fixtures_by_Clubs!DK56,"") | O11: =IFERROR(Fixtures_by_Clubs!DK55,"") | P11: =IFERROR(Fixtures_by_Clubs!DK54,"") | Q11: =IFERROR(Fixtures_by_Clubs!DI58,"BLK") -> Brighton | R11: =IFERROR(Fixtures_by_Clubs!DI59,"") -> A | S11: =Fixtures_by_Clubs!DI53 -> 0 | T11: =Fixtures_by_Clubs!DI53 -> 0 | U11: =K11*100+J11+H11/100+T11/10000-D11/1000000-V11/100000000 -> -1e-07 | V11: 10
A12: =RANK(U12,U$2:U$21) -> 11 | B12: Leeds Utd | C12: #VALUE! | D12: =Fixtures_by_Clubs!DR55 -> 0 | E12: =Fixtures_by_Clubs!DR56 -> 0 | F12: =Fixtures_by_Clubs!DR57 -> 0 | G12: =Fixtures_by_Clubs!DR58 -> 0 | H12: =Fixtures_by_Clubs!DU54 -> 0 | I12: =Fixtures_by_Clubs!DU55 -> 0 | J12: =Fixtures_by_Clubs!DU56 -> 0 | K12: =Fixtures_by_Clubs!DR54-Deduction!$C$12 -> 0 | L12: =IFERROR(Fixtures_by_Clubs!DW58,"") | M12: =IFERROR(Fixtures_by_Clubs!DW57,"") | N12: =IFERROR(Fixtures_by_Clubs!DW56,"") | O12: =IFERROR(Fixtures_by_Clubs!DW55,"") | P12: =IFERROR(Fixtures_by_Clubs!DW54,"") | Q12: =IFERROR(Fixtures_by_Clubs!DU58,"BLK") -> Everton | R12: =IFERROR(Fixtures_by_Clubs!DU59,"") -> H | S12: =Fixtures_by_Clubs!DU53 -> 0 | T12: =Fixtures_by_Clubs!DU53 -> 0 | U12: =K12*100+J12+H12/100+T12/10000-D12/1000000-V12/100000000 -> -1.1e-07 | V12: 11
A13: =RANK(U13,U$2:U$21) -> 12 | B13: Liverpool | C13: #VALUE! | D13: =Fixtures_by_Clubs!ED55 -> 0 | E13: =Fixtures_by_Clubs!ED56 -> 0 | F13: =Fixtures_by_Clubs!ED57 -> 0 | G13: =Fixtures_by_Clubs!ED58 -> 0 | H13: =Fixtures_by_Clubs!EG54 -> 0 | I13: =Fixtures_by_Clubs!EG55 -> 0 | J13: =Fixtures_by_Clubs!EG56 -> 0 | K13: =Fixtures_by_Clubs!ED54-Deduction!$C$13 -> 0 | L13: =IFERROR(Fixtures_by_Clubs!EI58,"") | M13: =IFERROR(Fixtures_by_Clubs!EI57,"") | N13: =IFERROR(Fixtures_by_Clubs!EI56,"") | O13: =IFERROR(Fixtures_by_Clubs!EI55,"") | P13: =IFERROR(Fixtures_by_Clubs!EI54,"") | Q13: =IFERROR(Fixtures_by_Clubs!EG58,"BLK") -> Bournemouth | R13: =IFERROR(Fixtures_by_Clubs!EG59,"") -> H | S13: =Fixtures_by_Clubs!EG53 -> 0 | T13: =Fixtures_by_Clubs!EG53 -> 0 | U13: =K13*100+J13+H13/100+T13/10000-D13/1000000-V13/100000000 -> -1.2e-07 | V13: 12
A14: =RANK(U14,U$2:U$21) -> 13 | B14: Man City | C14: #VALUE! | D14: =Fixtures_by_Clubs!EP55 -> 0 | E14: =Fixtures_by_Clubs!EP56 -> 0 | F14: =Fixtures_by_Clubs!EP57 -> 0 | G14: =Fixtures_by_Clubs!EP58 -> 0 | H14: =Fixtures_by_Clubs!ES54 -> 0 | I14: =Fixtures_by_Clubs!ES55 -> 0 | J14: =Fixtures_by_Clubs!ES56 -> 0 | K14: =Fixtures_by_Clubs!EP54-Deduction!$C$14 -> 0 | L14: =IFERROR(Fixtures_by_Clubs!EU58,"") | M14: =IFERROR(Fixtures_by_Clubs!EU57,"") | N14: =IFERROR(Fixtures_by_Clubs!EU56,"") | O14: =IFERROR(Fixtures_by_Clubs!EU55,"") | P14: =IFERROR(Fixtures_by_Clubs!EU54,"") | Q14: =IFERROR(Fixtures_by_Clubs!ES58,"BLK") -> Wolves | R14: =IFERROR(Fixtures_by_Clubs!ES59,"") -> A | S14: =Fixtures_by_Clubs!ES53 -> 0 | T14: =Fixtures_by_Clubs!ES53 -> 0 | U14: =K14*100+J14+H14/100+T14/10000-D14/1000000-V14/100000000 -> -1.3e-07 | V14: 13
A15: =RANK(U15,U$2:U$21) -> 14 | B15: Man Utd | C15: #VALUE! | D15: =Fixtures_by_Clubs!FB55 -> 0 | E15: =Fixtures_by_Clubs!FB56 -> 0 | F15: =Fixtures_by_Clubs!FB57 -> 0 | G15: =Fixtures_by_Clubs!FB58 -> 0 | H15: =Fixtures_by_Clubs!FE54 -> 0 | I15: =Fixtures_by_Clubs!FE55 -> 0 | J15: =Fixtures_by_Clubs!FE56 -> 0 | K15: =Fixtures_by_Clubs!FB54-Deduction!$C$15 -> 0 | L15: =IFERROR(Fixtures_by_Clubs!FG58,"") | M15: =IFERROR(Fixtures_by_Clubs!FG57,"") | N15: =IFERROR(Fixtures_by_Clubs!FG56,"") | O15: =IFERROR(Fixtures_by_Clubs!FG55,"") | P15: =IFERROR(Fixtures_by_Clubs!FG54,"") | Q15: =IFERROR(Fixtures_by_Clubs!FE58,"BLK") -> Arsenal | R15: =IFERROR(Fixtures_by_Clubs!FE59,"") -> H | S15: =Fixtures_by_Clubs!FE53 -> 0 | T15: =Fixtures_by_Clubs!FE53 -> 0 | U15: =K15*100+J15+H15/100+T15/10000-D15/1000000-V15/100000000 -> -1.4e-07 | V15: 14
A16: =RANK(U16,U$2:U$21) -> 15 | B16: Newcastle | C16: #VALUE! | D16: =Fixtures_by_Clubs!FN55 -> 0 | E16: =Fixtures_by_Clubs!FN56 -> 0 | F16: =Fixtures_by_Clubs!FN57 -> 0 | G16: =Fixtures_by_Clubs!FN58 -> 0 | H16: =Fixtures_by_Clubs!FQ54 -> 0 | I16: =Fixtures_by_Clubs!FQ55 -> 0 | J16: =Fixtures_by_Clubs!FQ56 -> 0 | K16: =Fixtures_by_Clubs!FN54-Deduction!$C$16 -> 0 | L16: =IFERROR(Fixtures_by_Clubs!FS58,"") | M16: =IFERROR(Fixtures_by_Clubs!FS57,"") | N16: =IFERROR(Fixtures_by_Clubs!FS56,"") | O16: =IFERROR(Fixtures_by_Clubs!FS55,"") | P16: =IFERROR(Fixtures_by_Clubs!FS54,"") | Q16: =IFERROR(Fixtures_by_Clubs!FQ58,"BLK") -> Aston Villa | R16: =IFERROR(Fixtures_by_Clubs!FQ59,"") -> A | S16: =Fixtures_by_Clubs!FQ53 -> 0 | T16: =Fixtures_by_Clubs!FQ53 -> 0 | U16: =K16*100+J16+H16/100+T16/10000-D16/1000000-V16/100000000 -> -1.5e-07 | V16: 15
A17: =RANK(U17,U$2:U$21) -> 16 | B17: Nott'm Forest | C17: #VALUE! | D17: =Fixtures_by_Clubs!FZ55 -> 0 | E17: =Fixtures_by_Clubs!FZ56 -> 0 | F17: =Fixtures_by_Clubs!FZ57 -> 0 | G17: =Fixtures_by_Clubs!FZ58 -> 0 | H17: =Fixtures_by_Clubs!GC54 -> 0 | I17: =Fixtures_by_Clubs!GC55 -> 0 | J17: =Fixtures_by_Clubs!GC56 -> 0 | K17: =Fixtures_by_Clubs!FZ54-Deduction!$C$17 -> 0 | L17: =IFERROR(Fixtures_by_Clubs!GE58,"") | M17: =IFERROR(Fixtures_by_Clubs!GE57,"") | N17: =IFERROR(Fixtures_by_Clubs!GE56,"") | O17: =IFERROR(Fixtures_by_Clubs!GE55,"") | P17: =IFERROR(Fixtures_by_Clubs!GE54,"") | Q17: =IFERROR(Fixtures_by_Clubs!GC58,"BLK") -> Brentford | R17: =IFERROR(Fixtures_by_Clubs!GC59,"") -> H | S17: =Fixtures_by_Clubs!GC53 -> 0 | T17: =Fixtures_by_Clubs!GC53 -> 0 | U17: =K17*100+J17+H17/100+T17/10000-D17/1000000-V17/100000000 -> -1.6e-07 | V17: 16
A18: =RANK(U18,U$2:U$21) -> 17 | B18: Spurs | C18: #VALUE! | D18: =Fixtures_by_Clubs!GL55 -> 0 | E18: =Fixtures_by_Clubs!GL56 -> 0 | F18: =Fixtures_by_Clubs!GL57 -> 0 | G18: =Fixtures_by_Clubs!GL58 -> 0 | H18: =Fixtures_by_Clubs!GO54 -> 0 | I18: =Fixtures_by_Clubs!GO55 -> 0 | J18: =Fixtures_by_Clubs!GO56 -> 0 | K18: =Fixtures_by_Clubs!GL54-Deduction!$C$18 -> 0 | L18: =IFERROR(Fixtures_by_Clubs!GQ58,"") | M18: =IFERROR(Fixtures_by_Clubs!GQ57,"") | N18: =IFERROR(Fixtures_by_Clubs!GQ56,"") | O18: =IFERROR(Fixtures_by_Clubs!GQ55,"") | P18: =IFERROR(Fixtures_by_Clubs!GQ54,"") | Q18: =IFERROR(Fixtures_by_Clubs!GO58,"BLK") -> Burnley | R18: =IFERROR(Fixtures_by_Clubs!GO59,"") -> H | S18: =Fixtures_by_Clubs!GO53 -> 0 | T18: =Fixtures_by_Clubs!GO53 -> 0 | U18: =K18*100+J18+H18/100+T18/10000-D18/1000000-V18/100000000 -> -1.7e-07 | V18: 17
A19: =RANK(U19,U$2:U$21) -> 18 | B19: Sunderland | C19: #VALUE! | D19: =Fixtures_by_Clubs!GX55 -> 0 | E19: =Fixtures_by_Clubs!GX56 -> 0 | F19: =Fixtures_by_Clubs!GX57 -> 0 | G19: =Fixtures_by_Clubs!GX58 -> 0 | H19: =Fixtures_by_Clubs!HA54 -> 0 | I19: =Fixtures_by_Clubs!HA55 -> 0 | J19: =Fixtures_by_Clubs!HA56 -> 0 | K19: =Fixtures_by_Clubs!GX54-Deduction!$C$19 -> 0 | L19: =IFERROR(Fixtures_by_Clubs!HC58,"") | M19: =IFERROR(Fixtures_by_Clubs!HC57,"") | N19: =IFERROR(Fixtures_by_Clubs!HC56,"") | O19: =IFERROR(Fixtures_by_Clubs!HC55,"") | P19: =IFERROR(Fixtures_by_Clubs!HC54,"") | Q19: =IFERROR(Fixtures_by_Clubs!HA58,"BLK") -> West Ham | R19: =IFERROR(Fixtures_by_Clubs!HA59,"") -> H | S19: =Fixtures_by_Clubs!HA53 -> 0 | T19: =Fixtures_by_Clubs!HA53 -> 0 | U19: =K19*100+J19+H19/100+T19/10000-D19/1000000-V19/100000000 -> -1.8e-07 | V19: 18
A20: =RANK(U20,U$2:U$21) -> 19 | B20: West Ham | C20: #VALUE! | D20: =Fixtures_by_Clubs!HJ55 -> 0 | E20: =Fixtures_by_Clubs!HJ56 -> 0 | F20: =Fixtures_by_Clubs!HJ57 -> 0 | G20: =Fixtures_by_Clubs!HJ58 -> 0 | H20: =Fixtures_by_Clubs!HM54 -> 0 | I20: =Fixtures_by_Clubs!HM55 -> 0 | J20: =Fixtures_by_Clubs!HM56 -> 0 | K20: =Fixtures_by_Clubs!HJ54-Deduction!$C$20 -> 0 | L20: =IFERROR(Fixtures_by_Clubs!HO58,"") | M20: =IFERROR(Fixtures_by_Clubs!HO57,"") | N20: =IFERROR(Fixtures_by_Clubs!HO56,"") | O20: =IFERROR(Fixtures_by_Clubs!HO55,"") | P20: =IFERROR(Fixtures_by_Clubs!HO54,"") | Q20: =IFERROR(Fixtures_by_Clubs!HM58,"BLK") -> Sunderland | R20: =IFERROR(Fixtures_by_Clubs!HM59,"") -> A | S20: =Fixtures_by_Clubs!HM53 -> 0 | T20: =Fixtures_by_Clubs!HM53 -> 0 | U20: =K20*100+J20+H20/100+T20/10000-D20/1000000-V20/100000000 -> -1.9e-07 | V20: 19
A21: =RANK(U21,U$2:U$21) -> 20 | B21: Wolves | C21: #VALUE! | D21: =Fixtures_by_Clubs!HV55 -> 0 | E21: =Fixtures_by_Clubs!HV56 -> 0 | F21: =Fixtures_by_Clubs!HV57 -> 0 | G21: =Fixtures_by_Clubs!HV58 -> 0 | H21: =Fixtures_by_Clubs!HY54 -> 0 | I21: =Fixtures_by_Clubs!HY55 -> 0 | J21: =Fixtures_by_Clubs!HY56 -> 0 | K21: =Fixtures_by_Clubs!HV54-Deduction!$C$21 -> 0 | L21: =IFERROR(Fixtures_by_Clubs!IA58,"") | M21: =IFERROR(Fixtures_by_Clubs!IA57,"") | N21: =IFERROR(Fixtures_by_Clubs!IA56,"") | O21: =IFERROR(Fixtures_by_Clubs!IA55,"") | P21: =IFERROR(Fixtures_by_Clubs!IA54,"") | Q21: =IFERROR(Fixtures_by_Clubs!HY58,"BLK") -> Man City | R21: =IFERROR(Fixtures_by_Clubs!HY59,"") -> H | S21: =Fixtures_by_Clubs!HY53 -> 0 | T21: =Fixtures_by_Clubs!HY53 -> 0 | U21: =K21*100+J21+H21/100+T21/10000-D21/1000000-V21/100000000 -> -2e-07 | V21: 20
B22: BLK

Sheet Deduction
B1: Premier League 2025 | C1: Penalty Points Imposed by League
B2: Arsenal | C2: 0
B3: Aston Villa | C3: 0
B4: Bournemouth | C4: 0
B5: Brentford | C5: 0
B6: Brighton | C6: 0
B7: Burnley | C7: 0
B8: Chelsea | C8: 0
B9: Crystal Palace | C9: 0
B10: Everton | C10: 0
B11: Fulham | C11: 0
B12: Leeds Utd | C12: 0
B13: Liverpool | C13: 0
... B21: Wolves | C21: 0
A24: ©2025 excel4soccer.com

Sheet fixtures
A1: Match Day | B1: Match Date (UTC) | C1: Match Time(New York) | D1: Match Time(London) | E1: Match Time(Moscow) | F1: Match Time(Dubai) | G1: Match Time(Shanghai) | H1: Fixture | I1: Stadium | J1: Home Team | K1: Home Goal | L1: Away Goal | M1: Away Team | N1: Win % | O1: Draw % | P1: Loss % | Q1: Projected Home Goal | R1: Projected Away Goal | S1: Last Update Time | T1: Stage | U1: Status | V1: Match Time(Chicago) | W1: Match Time(Albuqerque) | X1: Match Time(San Francisco)
A2: 1 | B2: 45884 | C2: 45884.625 | D2: 45884.833 | E2: 45884.917 | F2: 45884.958 | G2: 45885.125 | H2: Liverpool vs Bournemouth | I2: Anfield | J2: Liverpool | M2: Bournemouth | N2: 0.6954 | O2: 0.1675 | P2: 0.1371 | Q2: 2.5445 | R2: 1.0578 | S2: 45865.7 | T2: REGULAR_SEASON | U2: SCHEDULED | V2: =IF(C2<>"TBC",C2-1/24,"TBC") -> 45884.583 | W2: =IF(C2<>"TBC",C2-1/12,"TBC") -> 45884.542 | X2: =IF(C2<>"TBC",C2-1/8,"TBC") -> 45884.5
A3: 1 | B3: 45885 | C3: 45885.312 | D3: 45885.521 | E3: 45885.604 | F3: 45885.646 | G3: 45885.812 | H3: Aston Villa vs Newcastle | I3: Villa Park | J3: Aston Villa | M3: Newcastle | N3: 0.3867 | O3: 0.2643 | P3: 0.349 | Q3: 1.3349 | R3: 1.2543 | S3: 45865.7 | T3: REGULAR_SEASON | U3: SCHEDULED | V3: =IF(C3<>"TBC",C3-1/24,"TBC") -> 45885.271 | W3: =IF(C3<>"TBC",C3-1/12,"TBC") -> 45885.229 | X3: =IF(C3<>"TBC",C3-1/8,"TBC") -> 45885.188
A4: 1 | B4: 45885 | C4: 45885.417 | D4: 45885.625 | E4: 45885.708 | F4: 45885.75 | G4: 45885.917 | H4: Brighton vs Fulham | I4: American Express Stadium | J4: Brighton | M4: Fulham | N4: 0.5057 | O4: 0.2559 | P4: 0.2383 | Q4: 1.5433 | R4: 0.9727 | S4: 45865.7 | T4: REGULAR_SEASON | U4: SCHEDULED | V4: =IF(C4<>"TBC",C4-1/24,"TBC") -> 45885.375 | W4: =IF(C4<>"TBC",C4-1/12,"TBC") -> 45885.333 | X4: =IF(C4<>"TBC",C4-1/8,"TBC") -> 45885.292
A5: 1 | B5: 45885 | C5: 45885.417 | D5: 45885.625 | E5: 45885.708 | F5: 45885.75 | G5: 45885.917 | H5: Spurs vs Burnley | I5: Tottenham Hotspur Stadium | J5: Spurs | M5: Burnley | N5: 0.7087 | O5: 0.179 | P5: 0.1123 | Q5: 2.2322 | R5: 0.76 | S5: 45865.7 | T5: REGULAR_SEASON | U5: SCHEDULED | V5: =IF(C5<>"TBC",C5-1/24,"TBC") -> 45885.375 | W5: =IF(C5<>"TBC",C5-1/12,"TBC") -> 45885.333 | X5: =IF(C5<>"TBC",C5-1/8,"TBC") -> 45885.292
A6: 1 | B6: 45885 | C6: 45885.417 | D6: 45885.625 | E6: 45885.708 | F6: 45885.75 | G6: 45885.917 | H6: Sunderland vs West Ham | I6: Stadium of Light | J6: Sunderland | M6: West Ham | N6: 0.2959 | O6: 0.2763 | P6: 0.4278 | Q6: 1.0433 | R6: 1.3142 | S6: 45865.7 | T6: REGULAR_SEASON | U6: SCHEDULED | V6: =IF(C6<>"TBC",C6-1/24,"TBC") -> 45885.375 | W6: =IF(C6<>"TBC",C6-1/12,"TBC") -> 45885.333 | X6: =IF(C6<>"TBC",C6-1/8,"TBC") -> 45885.292
A7: 1 | B7: 45885 | C7: 45885.521 | D7: 45885.729 | E7: 45885.812 | F7: 45885.854 | G7: 45886.021 | H7: Wolves vs Man City | I7: Molineux Stadium | J7: Wolves | M7: Man City | N7: 0.1724 | O7: 0.2092 | P7: 0.6183 | Q7: 0.9596 | R7: 2.014 | S7: 45865.7 | T7: REGULAR_SEASON | U7: SCHEDULED | V7: =IF(C7<>"TBC",C7-1/24,"TBC") -> 45885.479 | W7: =IF(C7<>"TBC",C7-1/12,"TBC") -> 45885.438 | X7: =IF(C7<>"TBC",C7-1/8,"TBC") -> 45885.396
A8: 1 | B8: 45886 | C8: 45886.375 | D8: 45886.583 | E8: 45886.667 | F8: 45886.708 | G8: 45886.875 | H8: Chelsea vs Crystal Palace | I8: Stamford Bridge | J8: Chelsea | M8: Crystal Palace | N8: 0.6139 | O8: 0.215 | P8: 0.1711 | Q8: 1.9404 | R8: 0.9133 | S8: 45865.7 | T8: REGULAR_SEASON | U8: SCHEDULED | V8: =IF(C8<>"TBC",C8-1/24,"TBC") -> 45886.333 | W8: =IF(C8<>"TBC",C8-1/12,"TBC") -> 45886.292 | X8: =IF(C8<>"TBC",C8-1/8,"TBC") -> 45886.25
A9: 1 | B9: 45886 | C9: 45886.375 | D9: 45886.583 | E9: 45886.667 | F9: 45886.708 | G9: 45886.875 | H9: Nott'm Forest vs Brentford | I9: The City Ground | J9: Nott'm Forest | M9: Brentford | N9: 0.4336 | O9: 0.2648 | P9: 0.3016 | Q9: 1.4066 | R9: 1.1272 | S9: 45865.7 | T9: REGULAR_SEASON | U9: SCHEDULED | V9: =IF(C9<>"TBC",C9-1/24,"TBC") -> 45886.333 | W9: =IF(C9<>"TBC",C9-1/12,"TBC") -> 45886.292 | X9: =IF(C9<>"TBC",C9-1/8,"TBC") -> 45886.25
A10: 1 | B10: 45886 | C10: 45886.479 | D10: 45886.688 | E10: 45886.771 | F10: 45886.812 | G10: 45886.979 | H10: Man Utd vs Arsenal | I10: Old Trafford | J10: Man Utd | M10: Arsenal | N10: 0.2954 | O10: 0.2721 | P10: 0.4325 | Q10: 1.0658 | R10: 1.3502 | S10: 45865.7 | T10: REGULAR_SEASON | U10: SCHEDULED | V10: =IF(C10<>"TBC",C10-1/24,"TBC") -> 45886.438 | W10: =IF(C10<>"TBC",C10-1/12,"TBC") -> 45886.396 | X10: =IF(C10<>"TBC",C10-1/8,"TBC") -> 45886.354
A11: 1 | B11: 45887 | C11: 45887.625 | D11: 45887.833 | E11: 45887.917 | F11: 45887.958 | G11: 45888.125 | H11: Leeds Utd vs Everton | I11: Elland Road | J11: Leeds Utd | M11: Everton | N11: 0.3566 | O11: 0.2869 | P11: 0.3566 | Q11: 1.1286 | R11: 1.1286 | S11: 45865.7 | T11: REGULAR_SEASON | U11: SCHEDULED | V11: =IF(C11<>"TBC",C11-1/24,"TBC") -> 45887.583 | W11: =IF(C11<>"TBC",C11-1/12,"TBC") -> 45887.542 | X11: =IF(C11<>"TBC",C11-1/8,"TBC") -> 45887.5
A12: 2 | B12: 45891 | C12: 45891.625 | D12: 45891.833 | E12: 45891.917 | F12: 45891.958 | G12: 45892.125 | H12: West Ham vs Chelsea | I12: London Stadium | J12: West Ham | M12: Chelsea | N12: 0 | O12: 0 | P12: 0 | Q12: 0 | R12: 0 | S12: 45865.7 | T12: REGULAR_SEASON | U12: SCHEDULED | V12: =IF(C12<>"TBC",C12-1/24,"TBC") -> 45891.583 | W12: =IF(C12<>"TBC",C12-1/12,"TBC") -> 45891.542 | X12: =IF(C12<>"TBC",C12-1/8,"TBC") -> 45891.5
A13: 2 | B13: 45892 | C13: 45892.312 | D13: 45892.521 | E13: 45892.604 | F13: 45892.646 | G13: 45892.812 | H13: Man City vs Spurs | I13: Etihad Stadium | J13: Man City | M13: Spurs | N13: 0 | O13: 0 | P13: 0 | Q13: 0 | R13: 0 | S13: 45865.7 | T13: REGULAR_SEASON | U13: SCHEDULED | V13: =IF(C13<>"TBC",C13-1/24,"TBC") -> 45892.271 | W13: =IF(C13<>"TBC",C13-1/12,"TBC") -> 45892.229 | X13: =IF(C13<>"TBC",C13-1/8,"TBC") -> 45892.188
... A381: 38 | B381: 46166 | C381: 46166.458 | D381: 46166.667 | E381: 46166.75 | F381: 46166.792 | G381: 46166.958 | H381: West Ham vs Leeds Utd | I381: London Stadium | J381: West Ham | M381: Leeds Utd | N381: 0 | O381: 0 | P381: 0 | Q381: 0 | R381: 0 | S381: 45865.7 | T381: REGULAR_SEASON | U381: SCHEDULED | V381: =IF(C381<>"TBC",C381-1/24,"TBC") -> 46166.417 | W381: =IF(C381<>"TBC",C381-1/12,"TBC") -> 46166.375 | X381: =IF(C381<>"TBC",C381-1/8,"TBC") -> 46166.333

Sheet Fixtures_by_Clubs
B1: Arsenal | N1: Aston Villa | Z1: Bournemouth | AL1: Brentford | AX1: Brighton | BJ1: Burnley | BV1: Chelsea | CH1: Crystal Palace | CT1: Everton | DF1: Fulham | DR1: Leeds Utd | ED1: Liverpool | EP1: Man City | FB1: Man Utd | FN1: Newcastle | FZ1: Nott'm Forest | GL1: Spurs | GX1: Sunderland | HJ1: West Ham | HV1: Wolves
A2: August | M2: August | Y2: August | AK2: August | AW2: August | BI2: August | BU2: August | CG2: August | CS2: August | DE2: August | DQ2: August | EC2: August | EO2: August | FA2: August | FM2: August | FY2: August | GK2: August | GW2: August | HI2: August | HU2: August
A3: 17 | B3: Sun | C3: =IFERROR(INDIRECT("fixtures!" & Dashboard!J1 &10) - Dashboard!K1/24,"TBC") -> 45886.688 | E3: Man Utd | F3: A | G3: =IF(ISBLANK(fixtures!$L10),"",fixtures!$L10) | H3: =IF(ISBLANK(fixtures!$L10),"",":") | I3: =IF(ISBLANK(fixtures!$K10),"",fixtures!$K10) | J3: =IF(ISBLANK(fixtures!$L10),"",IF(G3>I3,"W",IF(G3=I3,"D","L"))) | M3: 16 | N3: Sat | O3: =IFERROR(INDIRECT("fixtures!" & Dashboard!J1 &3) - Dashboard!K1/24,"TBC") -> 45885.521 | Q3: Newcastle | R3: H | S3: =IF(ISBLANK(fixtures!$K3),"",fixtures!$K3) | T3: =IF(ISBLANK(fixtures!$L3),"",":") | U3: =IF(ISBLANK(fixtures!$L3),"",fixtures!$L3) | V3: =IF(ISBLANK(fixtures!$L3),"",IF(S3>U3,"W",IF(S3=U3,"D","L"))) | Y3: 15 | Z3: Fri | AA3: =IFERROR(INDIRECT("fixtures!" & Dashboard!J1 &2) - Dashboard!K1/24,"TBC") -> 45884.833 | AC3: Liverpool | AD3: A | AE3: =IF(ISBLANK(fixtures!$L2),"",fixtures!$L2) | AF3: =IF(ISBLANK(fixtures!$L2),"",":") | AG3: =IF(ISBLANK(fixtures!$K2),"",fixtures!$K2) | AH3: =IF(ISBLANK(fixtures!$L2),"",IF(AE3>AG3,"W",IF(AE3=AG3,"D","L"))) | AK3: 17 | AL3: Sun | AM3: =IFERROR(INDIRECT("fixtures!" & Dashboard!J1 &9) - Dashboard!K1/24,"TBC") -> 45886.583 | AO3: Nott'm Forest | AP3: A | AQ3: =IF(ISBLANK(fixtures!$L9),"",fixtures!$L9) | AR3: =IF(ISBLANK(fixtures!$L9),"",":") | AS3: =IF(ISBLANK(fixtures!$K9),"",fixtures!$K9) | AT3: =IF(ISBLANK(fixtures!$L9),"",IF(AQ3>AS3,"W",IF(AQ3=AS3,"D","L"))) | AW3: 16 | AX3: Sat | AY3: =IFERROR(INDIRECT("fixtures!" & Dashboard!J1 &4) - Dashboard!K1/24,"TBC") -> 45885.625 | BA3: Fulham | BB3: H | BC3: =IF(ISBLANK(fixtures!$K4),"",fixtures!$K4) | BD3: =IF(ISBLANK(fixtures!$L4),"",":") | BE3: =IF(ISBLANK(fixtures!$L4),"",fixtures!$L4) | BF3: =IF(ISBLANK(fixtures!$L4),"",IF(BC3>BE3,"W",IF(BC3=BE3,"D","L"))) | BI3: 16 | BJ3: Sat | BK3: =IFERROR(INDIRECT("fixtures!" & Dashboard!J1 &5) - Dashboard!K1/24,"TBC") -> 45885.625 | BM3: Spurs | BN3: A | BO3: =IF(ISBLANK(fixtures!$L5),"",fixtures!$L5) | BP3: =IF(ISBLANK(fixtures!$L5),"",":") | BQ3: =IF(ISBLANK(fixtures!$K5),"",fixtures!$K5) | BR3: =IF(ISBLANK(fixtures!$L5),"",IF(BO3>BQ3,"W",IF(BO3=BQ3,"D","L"))) | BU3: 17 | BV3: Sun | BW3: =IFERROR(INDIRECT("fixtures!" & Dashboard!J1 &8) - Dashboard!K1/24,"TBC") -> 45886.583 | BY3: Crystal Palace | BZ3: H | CA3: =IF(ISBLANK(fixtures!$K8),"",fixtures!$K8) | CB3: =IF(ISBLANK(fixtures!$L8),"",":") | CC3: =IF(ISBLANK(fixtures!$L8),"",fixtures!$L8) | CD3: =IF(ISBLANK(fixtures!$L8),"",IF(CA3>CC3,"W",IF(CA3=CC3,"D","L"))) | CG3: 17 | CH3: Sun | CI3: =IFERROR(INDIRECT("fixtures!" & Dashboard!J1 &8) - Dashboard!K1/24,"TBC") -> 45886.583 | CK3: Chelsea | CL3: A | CM3: =IF(ISBLANK(fixtures!$L8),"",fixtures!$L8) | CN3: =IF(ISBLANK(fixtures!$L8),"",":") | CO3: =IF(ISBLANK(fixtures!$K8),"",fixtures!$K8) | CP3: =IF(ISBLANK(fixtures!$L8),"",IF(CM3>CO3,"W",IF(CM3=CO3,"D","L"))) | CS3: 18 | CT3: Mon | CU3: =IFERROR(INDIRECT("fixtures!" & Dashboard!J1 &11) - Dashboard!K1/24,"TBC") -> 45887.833 | CW3: Leeds Utd | CX3: A | CY3: =IF(ISBLANK(fixtures!$L11),"",fixtures!$L11) | CZ3: =IF(ISBLANK(fixtures!$L11),"",":") | DA3: =IF(ISBLANK(fixtures!$K11),"",fixtures!$K11) | DB3: =IF(ISBLANK(fixtures!$L11),"",IF(CY3>DA3,"W",IF(CY3=DA3,"D","L"))) | DE3: 16 | DF3: Sat | DG3: =IFERROR(INDIRECT("fixtures!" & Dashboard!J1 &4) - Dashboard!K1/24,"TBC") -> 45885.625 | DI3: Brighton | DJ3: A | DK3: =IF(ISBLANK(fixtures!$L4),"",fixtures!$L4) | DL3: =IF(ISBLANK(fixtures!$L4),"",":") | DM3: =IF(ISBLANK(fixtures!$K4),"",fixtures!$K4) | DN3: =IF(ISBLANK(fixtures!$L4),"",IF(DK3>DM3,"W",IF(DK3=DM3,"D","L"))) | DQ3: 18 | DR3: Mon | DS3: =IFERROR(INDIRECT("fixtures!" & Dashboard!J1 &11) - Dashboard!K1/24,"TBC") -> 45887.833 | DU3: Everton | DV3: H | DW3: =IF(ISBLANK(fixtures!$K11),"",fixtures!$K11) | DX3: =IF(ISBLANK(fixtures!$L11),"",":") | DY3: =IF(ISBLANK(fixtures!$L11),"",fixtures!$L11) | DZ3: =IF(ISBLANK(fixtures!$L11),"",IF(DW3>DY3,"W",IF(DW3=DY3,"D","L"))) | EC3: 15 | ED3: Fri | EE3: =IFERROR(INDIRECT("fixtures!" & Dashboard!J1 &2) - Dashboard!K1/24,"TBC") -> 45884.833 | EG3: Bournemouth | EH3: H | EI3: =IF(ISBLANK(fixtures!$K2),"",fixtures!$K2) | EJ3: =IF(ISBLANK(fixtures!$L2),"",":") | EK3: =IF(ISBLANK(fixtures!$L2),"",fixtures!$L2) | EL3: =IF(ISBLANK(fixtures!$L2),"",IF(EI3>EK3,"W",IF(EI3=EK3,"D","L"))) | EO3: 16 | EP3: Sat | EQ3: =IFERROR(INDIRECT("fixtures!" & Dashboard!J1 &7) - Dashboard!K1/24,"TBC") -> 45885.729 | ES3: Wolves | ET3: A | EU3: =IF(ISBLANK(fixtures!$L7),"",fixtures!$L7) | EV3: =IF(ISBLANK(fixtures!$L7),"",":") | EW3: =IF(ISBLANK(fixtures!$K7),"",fixtures!$K7) | EX3: =IF(ISBLANK(fixtures!$L7),"",IF(EU3>EW3,"W",IF(EU3=EW3,"D","L"))) | FA3: 17 | FB3: Sun | FC3: =IFERROR(INDIRECT("fixtures!" & Dashboard!J1 &10) - Dashboard!K1/24,"TBC") -> 45886.688 | FE3: Arsenal | FF3: H | FG3: =IF(ISBLANK(fixtures!$K10),"",fixtures!$K10) | FH3: =IF(ISBLANK(fixtures!$L10),"",":") | FI3: =IF(ISBLANK(fixtures!$L10),"",fixtures!$L10) | FJ3: =IF(ISBLANK(fixtures!$L10),"",IF(FG3>FI3,"W",IF(FG3=FI3,"D","L"))) | FM3: 16 | FN3: Sat | FO3: =IFERROR(INDIRECT("fixtures!" & Dashboard!J1 &3) - Dashboard!K1/24,"TBC") -> 45885.521 | FQ3: Aston Villa | FR3: A | FS3: =IF(ISBLANK(fixtures!$L3),"",fixtures!$L3) | FT3: =IF(ISBLANK(fixtures!$L3),"",":") | FU3: =IF(ISBLANK(fixtures!$K3),"",fixtures!$K3) | FV3: =IF(ISBLANK(fixtures!$L3),"",IF(FS3>FU3,"W",IF(FS3=FU3,"D","L"))) | FY3: 17 | FZ3: Sun | GA3: =IFERROR(INDIRECT("fixtures!" & Dashboard!J1 &9) - Dashboard!K1/24,"TBC") -> 45886.583 | GC3: Brentford | GD3: H | GE3: =IF(ISBLANK(fixtures!$K9),"",fixtures!$K9) | GF3: =IF(ISBLANK(fixtures!$L9),"",":") | GG3: =IF(ISBLANK(fixtures!$L9),"",fixtures!$L9) | GH3: =IF(ISBLANK(fixtures!$L9),"",IF(GE3>GG3,"W",IF(GE3=GG3,"D","L"))) | GK3: 16 | GL3: Sat | GM3: =IFERROR(INDIRECT("fixtures!" & Dashboard!J1 &5) - Dashboard!K1/24,"TBC") -> 45885.625 | GO3: Burnley | GP3: H | GQ3: =IF(ISBLANK(fixtures!$K5),"",fixtures!$K5) | GR3: =IF(ISBLANK(fixtures!$L5),"",":") | GS3: =IF(ISBLANK(fixtures!$L5),"",fixtures!$L5) | GT3: =IF(ISBLANK(fixtures!$L5),"",IF(GQ3>GS3,"W",IF(GQ3=GS3,"D","L"))) | GW3: 16 | GX3: Sat | GY3: =IFERROR(INDIRECT("fixtures!" & Dashboard!J1 &6) - Dashboard!K1/24,"TBC") -> 45885.625 | HA3: West Ham | HB3: H | HC3: =IF(ISBLANK(fixtures!$K6),"",fixtures!$K6) | HD3: =IF(ISBLANK(fixtures!$L6),"",":") | HE3: =IF(ISBLANK(fixtures!$L6),"",fixtures!$L6) | HF3: =IF(ISBLANK(fixtures!$L6),"",IF(HC3>HE3,"W",IF(HC3=HE3,"D","L"))) | HI3: 16 | HJ3: Sat | HK3: =IFERROR(INDIRECT("fixtures!" & Dashboard!J1 &6) - Dashboard!K1/24,"TBC") -> 45885.625 | HM3: Sunderland | HN3: A | HO3: =IF(ISBLANK(fixtures!$L6),"",fixtures!$L6) | HP3: =IF(ISBLANK(fixtures!$L6),"",":") | HQ3: =IF(ISBLANK(fixtures!$K6),"",fixtures!$K6) | HR3: =IF(ISBLANK(fixtures!$L6),"",IF(HO3>HQ3,"W",IF(HO3=HQ3,"D","L"))) | HU3: 16 | HV3: Sat | HW3: =IFERROR(INDIRECT("fixtures!" & Dashboard!J1 &7) - Dashboard!K1/24,"TBC") -> 45885.729 | HY3: Man City | HZ3: H | IA3: =IF(ISBLANK(fixtures!$K7),"",fixtures!$K7) | IB3: =IF(ISBLANK(fixtures!$L7),"",":") | IC3: =IF(ISBLANK(fixtures!$L7),"",fixtures!$L7) | ID3: =IF(ISBLANK(fixtures!$L7),"",IF(IA3>IC3,"W",IF(IA3=IC3,"D","L")))
A4: 23 | B4: Sat | C4: =IFERROR(INDIRECT("fixtures!" & Dashboard!J1 &17) - Dashboard!K1/24,"TBC") -> 45892.729 | E4: Leeds Utd | F4: H | G4: =IF(ISBLANK(fixtures!$K17),"",fixtures!$K17) | H4: =IF(ISBLANK(fixtures!$L17),"",":") | I4: =IF(ISBLANK(fixtures!$L17),"",fixtures!$L17) | J4: =IF(ISBLANK(fixtures!$L17),"",IF(G4>I4,"W",IF(G4=I4,"D","L"))) | M4: 23 | N4: Sat | O4: =IFERROR(INDIRECT("fixtures!" & Dashboard!J1 &15) - Dashboard!K1/24,"TBC") -> 45892.625 | Q4: Brentford | R4: A | S4: =IF(ISBLANK(fixtures!$L15),"",fixtures!$L15) | T4: =IF(ISBLANK(fixtures!$L15),"",":") | U4: =IF(ISBLANK(fixtures!$K15),"",fixtures!$K15) | V4: =IF(ISBLANK(fixtures!$L15),"",IF(S4>U4,"W",IF(S4=U4,"D","L"))) | Y4: 23 | Z4: Sat | AA4: =IFERROR(INDIRECT("fixtures!" & Dashboard!J1 &14) - Dashboard!K1/24,"TBC") -> 45892.625 | AC4: Wolves | AD4: H | AE4: =IF(ISBLANK(fixtures!$K14),"",fixtures!$K14) | AF4: =IF(ISBLANK(fixtures!$L14),"",":") | AG4: =IF(ISBLANK(fixtures!$L14),"",fixtures!$L14) | AH4: =IF(ISBLANK(fixtures!$L14),"",IF(AE4>AG4,"W",IF(AE4=AG4,"D","L"))) | AK4: 23 | AL4: Sat | AM4: =IFERROR(INDIRECT("fixtures!" & Dashboard!J1 &15) - Dashboard!K1/24,"TBC") -> 45892.625 | AO4: Aston Villa | AP4: H | AQ4: =IF(ISBLANK(fixtures!$K15),"",fixtures!$K15) | AR4: =IF(ISBLANK(fixtures!$L15),"",":") | AS4: =IF(ISBLANK(fixtures!$L15),"",fixtures!$L15) | AT4: =IF(ISBLANK(fixtures!$L15),"",IF(AQ4>AS4,"W",IF(AQ4=AS4,"D","L"))) | AW4: 24 | AX4: Sun | AY4: =IFERROR(INDIRECT("fixtures!" & Dashboard!J1 &19) - Dashboard!K1/24,"TBC") -> 45893.583 | BA4: Everton | BB4: A | BC4: =IF(ISBLANK(fixtures!$L19),"",fixtures!$L19) | BD4: =IF(ISBLANK(fixtures!$L19),"",":") | BE4: =IF(ISBLANK(fixtures!$K19),"",fixtures!$K19) | BF4: =IF(ISBLANK(fixtures!$L19),"",IF(BC4>BE4,"W",IF(BC4=BE4,"D","L"))) | BI4: 23 | BJ4: Sat | BK4: =IFERROR(INDIRECT("fixtures!" & Dashboard!J1 &16) - Dashboard!K1/24,"TBC") -> 45892.625 | BM4: Sunderland | BN4: H | BO4: =IF(ISBLANK(fixtures!$K16),"",fixtures!$K16) | BP4: =IF(ISBLANK(fixtures!$L16),"",":") | BQ4: =IF(ISBLANK(fixtures!$L16),"",fixtures!$L16) | BR4: =IF(ISBLANK(fixtures!$L16),"",IF(BO4>BQ4,"W",IF(BO4=BQ4,"D","L"))) | BU4: 22 | BV4: Fri | BW4: =IFERROR(INDIRECT("fixtures!" & Dashboard!J1 &12) - Dashboard!K1/24,"TBC") -> 45891.833 | BY4: West Ham | BZ4: A | CA4: =IF(ISBLANK(fixtures!$L12),"",fixtures!$L12) | CB4: =IF(ISBLANK(fixtures!$L12),"",":") | CC4: =IF(ISBLANK(fixtures!$K12),"",fixtures!$K12) | CD4: =IF(ISBLANK(fixtures!$L12),"",IF(CA4>CC4,"W",IF(CA4=CC4,"D","L"))) | CG4: 24 | CH4: Sun | CI4: =IFERROR(INDIRECT("fixtures!" & Dashboard!J1 &18) - Dashboard!K1/24,"TBC") -> 45893.583 | CK4: Nott'm Forest | CL4: H | CM4: =IF(ISBLANK(fixtures!$K18),"",fixtures!$K18) | CN4: =IF(ISBLANK(fixtures!$L18),"",":") | CO4: =IF(ISBLANK(fixtures!$L18),"",fixtures!$L18) | CP4: =IF(ISBLANK(fixtures!$L18),"",IF(CM4>CO4,"W",IF(CM4=CO4,"D","L"))) | CS4: 24 | CT4: Sun | CU4: =IFERROR(INDIRECT("fixtures!" & Dashboard!J1 &19) - Dashboard!K1/24,"TBC") -> 45893.583 | CW4: Brighton | CX4: H | CY4: =IF(ISBLANK(fixtures!$K19),"",fixtures!$K19) | CZ4: =IF(ISBLANK(fixtures!$L19),"",":") | DA4: =IF(ISBLANK(fixtures!$L19),"",fixtures!$L19) | DB4: =IF(ISBLANK(fixtures!$L19),"",IF(CY4>DA4,"W",IF(CY4=DA4,"D","L"))) | DE4: 24 | DF4: Sun | DG4: =IFERROR(INDIRECT("fixtures!" & Dashboard!J1 &20) - Dashboard!K1/24,"TBC") -> 45893.688 | DI4: Man Utd | DJ4: H | DK4: =IF(ISBLANK(fixtures!$K20),"",fixtures!$K20) | DL4: =IF(ISBLANK(fixtures!$L20),"",":") | DM4: =IF(ISBLANK(fixtures!$L20),"",fixtures!$L20) | DN4: =IF(ISBLANK(fixtures!$L20),"",IF(DK4>DM4,"W",IF(DK4=DM4,"D","L"))) | DQ4: 23 | DR4: Sat | DS4: =IFERROR(INDIRECT("fixtures!" & Dashboard!J1 &17) - Dashboard!K1/24,"TBC") -> 45892.729 | DU4: Arsenal | DV4: A | DW4: =IF(ISBLANK(fixtures!$L17),"",fixtures!$L17) | DX4: =IF(ISBLANK(fixtures!$L17),"",":") | DY4: =IF(ISBLANK(fixtures!$K17),"",fixtures!$K17) | DZ4: =IF(ISBLANK(fixtures!$L17),"",IF(DW4>DY4,"W",IF(DW4=DY4,"D","L"))) | EC4: 25 | ED4: Mon | EE4: =IFERROR(INDIRECT("fixtures!" & Dashboard!J1 &21) - Dashboard!K1/24,"TBC") -> 45894.833 | EG4: Newcastle | EH4: A | EI4: =IF(ISBLANK(fixtures!$L21),"",fixtures!$L21) | EJ4: =IF(ISBLANK(fixtures!$L21),"",":") | EK4: =IF(ISBLANK(fixtures!$K21),"",fixtures!$K21) | EL4: =IF(ISBLANK(fixtures!$L21),"",IF(EI4>EK4,"W",IF(EI4=EK4,"D","L"))) | EO4: 23 | EP4: Sat | EQ4: =IFERROR(INDIRECT("fixtures!" & Dashboard!J1 &13) - Dashboard!K1/24,"TBC") -> 45892.521 | ES4: Spurs | ET4: H | EU4: =IF(ISBLANK(fixtures!$K13),"",fixtures!$K13) | EV4: =IF(ISBLANK(fixtures!$L13),"",":") | EW4: =IF(ISBLANK(fixtures!$L13),"",fixtures!$L13) | EX4: =IF(ISBLANK(fixtures!$L13),"",IF(EU4>EW4,"W",IF(EU4=EW4,"D","L"))) | FA4: 24 | FB4: Sun | FC4: =IFERROR(INDIRECT("fixtures!" & Dashboard!J1 &20) - Dashboard!K1/24,"TBC") -> 45893.688 | FE4: Fulham | FF4: A | FG4: =IF(ISBLANK(fixtures!$L20),"",fixtures!$L20) | FH4: =IF(ISBLANK(fixtures!$L20),"",":") | FI4: =IF(ISBLANK(fixtures!$K20),"",fixtures!$K20) | FJ4: =IF(ISBLANK(fixtures!$L20),"",IF(FG4>FI4,"W",IF(FG4=FI4,"D","L"))) | FM4: 25 | FN4: Mon | FO4: =IFERROR(INDIRECT("fixtures!" & Dashboard!J1 &21) - Dashboard!K1/24,"TBC") -> 45894.833 | FQ4: Liverpool | FR4: H | FS4: =IF(ISBLANK(fixtures!$K21),"",fixtures!$K21) | FT4: =IF(ISBLANK(fixtures!$L21),"",":") | FU4: =IF(ISBLANK(fixtures!$L21),"",fixtures!$L21) | FV4: =IF(ISBLANK(fixtures!$L21),"",IF(FS4>FU4,"W",IF(FS4=FU4,"D","L"))) | FY4: 24 | FZ4: Sun | GA4: =IFERROR(INDIRECT("fixtures!" & Dashboard!J1 &18) - Dashboard!K1/24,"TBC") -> 45893.583 | GC4: Crystal Palace | GD4: A | GE4: =IF(ISBLANK(fixtures!$L18),"",fixtures!$L18) | GF4: =IF(ISBLANK(fixtures!$L18),"",":") | GG4: =IF(ISBLANK(fixtures!$K18),"",fixtures!$K18) | GH4: =IF(ISBLANK(fixtures!$L18),"",IF(GE4>GG4,"W",IF(GE4=GG4,"D","L"))) | GK4: 23 | GL4: Sat | GM4: =IFERROR(INDIRECT("fixtures!" & Dashboard!J1 &13) - Dashboard!K1/24,"TBC") -> 45892.521 | GO4: Man City | GP4: A | GQ4: =IF(ISBLANK(fixtures!$L13),"",fixtures!$L13) | GR4: =IF(ISBLANK(fixtures!$L13),"",":") | GS4: =IF(ISBLANK(fixtures!$K13),"",fixtures!$K13) | GT4: =IF(ISBLANK(fixtures!$L13),"",IF(GQ4>GS4,"W",IF(GQ4=GS4,"D","L"))) | GW4: 23 | GX4: Sat | GY4: =IFERROR(INDIRECT("fixtures!" & Dashboard!J1 &16) - Dashboard!K1/24,"TBC") -> 45892.625 | HA4: Burnley | HB4: A | HC4: =IF(ISBLANK(fixtures!$L16),"",fixtures!$L16) | HD4: =IF(ISBLANK(fixtures!$L16),"",":") | HE4: =IF(ISBLANK(fixtures!$K16),"",fixtures!$K16) | HF4: =IF(ISBLANK(fixtures!$L16),"",IF(HC4>HE4,"W",IF(HC4=HE4,"D","L"))) | HI4: 22 | HJ4: Fri | HK4: =IFERROR(INDIRECT("fixtures!" & Dashboard!J1 &12) - Dashboard!K1/24,"TBC") -> 45891.833 | HM4: Chelsea | HN4: H | HO4: =IF(ISBLANK(fixtures!$K12),"",fixtures!$K12) | HP4: =IF(ISBLANK(fixtures!$L12),"",":") | HQ4: =IF(ISBLANK(fixtures!$L12),"",fixtures!$L12) | HR4: =IF(ISBLANK(fixtures!$L12),"",IF(HO4>HQ4,"W",IF(HO4=HQ4,"D","L"))) | HU4: 23 | HV4: Sat | HW4: =IFERROR(INDIRECT("fixtures!" & Dashboard!J1 &14) - Dashboard!K1/24,"TBC") -> 45892.625 | HY4: Bournemouth | HZ4: A | IA4: =IF(ISBLANK(fixtures!$L14),"",fixtures!$L14) | IB4: =IF(ISBLANK(fixtures!$L14),"",":") | IC4: =IF(ISBLANK(fixtures!$K14),"",fixtures!$K14) | ID4: =IF(ISBLANK(fixtures!$L14),"",IF(IA4>IC4,"W",IF(IA4=IC4,"D","L")))
A5: 31 | B5: Sun | C5: =IFERROR(INDIRECT("fixtures!" & Dashboard!J1 &31) - Dashboard!K1/24,"TBC") -> 45900.688 | E5: Liverpool | F5: A | G5: =IF(ISBLANK(fixtures!$L31),"",fixtures!$L31) | H5: =IF(ISBLANK(fixtures!$L31),"",":") | I5: =IF(ISBLANK(fixtures!$K31),"",fixtures!$K31) | J5: =IF(ISBLANK(fixtures!$L31),"",IF(G5>I5,"W",IF(G5=I5,"D","L"))) | M5: 29 | N5: Fri | O5: =IFERROR(INDIRECT("fixtures!" & Dashboard!J1 &22) - Dashboard!K1/24,"TBC") -> 45898.833 | Q5: Crystal Palace | R5: H | S5: =IF(ISBLANK(fixtures!$K22),"",fixtures!$K22) | T5: =IF(ISBLANK(fixtures!$L22),"",":") | U5: =IF(ISBLANK(fixtures!$L22),"",fixtures!$L22) | V5: =IF(ISBLANK(fixtures!$L22),"",IF(S5>U5,"W",IF(S5=U5,"D","L"))) | Y5: 30 | Z5: Sat | AA5: =IFERROR(INDIRECT("fixtures!" & Dashboard!J1 &25) - Dashboard!K1/24,"TBC") -> 45899.625 | AC5: Spurs | AD5: A | AE5: =IF(ISBLANK(fixtures!$L25),"",fixtures!$L25) | AF5: =IF(ISBLANK(fixtures!$L25),"",":") | AG5: =IF(ISBLANK(fixtures!$K25),"",fixtures!$K25) | AH5: =IF(ISBLANK(fixtures!$L25),"",IF(AE5>AG5,"W",IF(AE5=AG5,"D","L"))) | AK5: 30 | AL5: Sat | AM5: =IFERROR(INDIRECT("fixtures!" & Dashboard!J1 &26) - Dashboard!K1/24,"TBC") -> 45899.625 | AO5: Sunderland | AP5: A | AQ5: =IF(ISBLANK(fixtures!$L26),"",fixtures!$L26) | AR5: =IF(ISBLANK(fixtures!$L26),"",":") | AS5: =IF(ISBLANK(fixtures!$K26),"",fixtures!$K26) | AT5: =IF(ISBLANK(fixtures!$L26),"",IF(AQ5>AS5,"W",IF(AQ5=AS5,"D","L"))) | AW5: 31 | AX5: Sun | AY5: =IFERROR(INDIRECT("fixtures!" & Dashboard!J1 &29) - Dashboard!K1/24,"TBC") -> 45900.583 | BA5: Man City | BB5: H | BC5: =IF(ISBLANK(fixtures!$K29),"",fixtures!$K29) | BD5: =IF(ISBLANK(fixtures!$L29),"",":") | BE5: =IF(ISBLANK(fixtures!$L29),"",fixtures!$L29) | BF5: =IF(ISBLANK(fixtures!$L29),"",IF(BC5>BE5,"W",IF(BC5=BE5,"D","L"))) | BI5: 30 | BJ5: Sat | BK5: =IFERROR(INDIRECT("fixtures!" & Dashboard!J1 &24) - Dashboard!K1/24,"TBC") -> 45899.625 | BM5: Man Utd | BN5: A | BO5: =IF(ISBLANK(fixtures!$L24),"",fixtures!$L24) | BP5: =IF(ISBLANK(fixtures!$L24),"",":") | BQ5: =IF(ISBLANK(fixtures!$K24),"",fixtures!$K24) | BR5: =IF(ISBLANK(fixtures!$L24),"",IF(BO5>BQ5,"W",IF(BO5=BQ5,"D","L"))) | BU5: 30 | BV5: Sat | BW5: =IFERROR(INDIRECT("fixtures!" & Dashboard!J1 &23) - Dashboard!K1/24,"TBC") -> 45899.521 | BY5: Fulham | BZ5: H | CA5: =IF(ISBLANK(fixtures!$K23),"",fixtures!$K23) | CB5: =IF(ISBLANK(fixtures!$L23),"",":") | CC5: =IF(ISBLANK(fixtures!$L23),"",fixtures!$L23) | CD5: =IF(ISBLANK(fixtures!$L23),"",IF(CA5>CC5,"W",IF(CA5=CC5,"D","L"))) | CG5: 29 | CH5: Fri | CI5: =IFERROR(INDIRECT("fixtures!" & Dashboard!J1 &22) - Dashboard!K1/24,"TBC") -> 45898.833 | CK5: Aston Villa | CL5: A | CM5: =IF(ISBLANK(fixtures!$L22),"",fixtures!$L22) | CN5: =IF(ISBLANK(fixtures!$L22),"",":") | CO5: =IF(ISBLANK(fixtures!$K22),"",fixtures!$K22) | CP5: =IF(ISBLANK(fixtures!$L22),"",IF(CM5>CO5,"W",IF(CM5=CO5,"D","L"))) | CS5: 30 | CT5: Sat | CU5: =IFERROR(INDIRECT("fixtures!" & Dashboard!J1 &27) - Dashboard!K1/24,"TBC") -> 45899.625 | CW5: Wolves | CX5: A | CY5: =IF(ISBLANK(fixtures!$L27),"",fixtures!$L27) | CZ5: =IF(ISBLANK(fixtures!$L27),"",":") | DA5: =IF(ISBLANK(fixtures!$K27),"",fixtures!$K27) | DB5: =IF(ISBLANK(fixtures!$L27),"",IF(CY5>DA5,"W",IF(CY5=DA5,"D","L"))) | DE5: 30 | DF5: Sat | DG5: =IFERROR(INDIRECT("fixtures!" & Dashboard!J1 &23) - Dashboard!K1/24,"TBC") -> 45899.521 | DI5: Chelsea | DJ5: A | DK5: =IF(ISBLANK(fixtures!$L23),"",fixtures!$L23) | DL5: =IF(ISBLANK(fixtures!$L23),"",":") | DM5: =IF(ISBLANK(fixtures!$K23),"",fixtures!$K23) | DN5: =IF(ISBLANK(fixtures!$L23),"",IF(DK5>DM5,"W",IF(DK5=DM5,"D","L"))) | DQ5: 30 | DR5: Sat | DS5: =IFERROR(INDIRECT("fixtures!" & Dashboard!J1 &28) - Dashboard!K1/24,"TBC") -> 45899.729 | DU5: Newcastle | DV5: H | DW5: =IF(ISBLANK(fixtures!$K28),"",fixtures!$K28) | DX5: =IF(ISBLANK(fixtures!$L28),"",":") | DY5: =IF(ISBLANK(fixtures!$L28),"",fixtures!$L28) | DZ5: =IF(ISBLANK(fixtures!$L28),"",IF(DW5>DY5,"W",IF(DW5=DY5,"D","L"))) | EC5: 31 | ED5: Sun | EE5: =IFERROR(INDIRECT("fixtures!" & Dashboard!J1 &31) - Dashboard!K1/24,"TBC") -> 45900.688 | EG5: Arsenal | EH5: H | EI5: =IF(ISBLANK(fixtures!$K31),"",fixtures!$K31) | EJ5: =IF(ISBLANK(fixtures!$L31),"",":") | EK5: =IF(ISBLANK(fixtures!$L31),"",fixtures!$L31) | EL5: =IF(ISBLANK(fixtures!$L31),"",IF(EI5>EK5,"W",IF(EI5=EK5,"D","L"))) | EO5: 31 | EP5: Sun | EQ5: =IFERROR(INDIRECT("fixtures!" & Dashboard!J1 &29) - Dashboard!K1/24,"TBC") -> 45900.583 | ES5: Brighton | ET5: A | EU5: =IF(ISBLANK(fixtures!$L29),"",fixtures!$L29) | EV5: =IF(ISBLANK(fixtures!$L29),"",":") | EW5: =IF(ISBLANK(fixtures!$K29),"",fixtures!$K29) | EX5: =IF(ISBLANK(fixtures!$L29),"",IF(EU5>EW5,"W",IF(EU5=EW5,"D","L"))) | FA5: 30 | FB5: Sat | FC5: =IFERROR(INDIRECT("fixtures!" & Dashboard!J1 &24) - Dashboard!K1/24,"TBC") -> 45899.625 | FE5: Burnley | FF5: H | FG5: =IF(ISBLANK(fixtures!$K24),"",fixtures!$K24) | FH5: =IF(ISBLANK(fixtures!$L24),"",":") | FI5: =IF(ISBLANK(fixtures!$L24),"",fixtures!$L24) | FJ5: =IF(ISBLANK(fixtures!$L24),"",IF(FG5>FI5,"W",IF(FG5=FI5,"D","L"))) | FM5: 30 | FN5: Sat | FO5: =IFERROR(INDIRECT("fixtures!" & Dashboard!J1 &28) - Dashboard!K1/24,"TBC") -> 45899.729 | FQ5: Leeds Utd | FR5: A | FS5: =IF(ISBLANK(fixtures!$L28),"",fixtures!$L28) | FT5: =IF(ISBLANK(fixtures!$L28),"",":") | FU5: =IF(ISBLANK(fixtures!$K28),"",fixtures!$K28) | FV5: =IF(ISBLANK(fixtures!$L28),"",IF(FS5>FU5,"W",IF(FS5=FU5,"D","L"))) | FY5: 31 | FZ5: Sun | GA5: =IFERROR(INDIRECT("fixtures!" & Dashboard!J1 &30) - Dashboard!K1/24,"TBC") -> 45900.583 | GC5: West Ham | GD5: H | GE5: =IF(ISBLANK(fixtures!$K30),"",fixtures!$K30) | GF5: =IF(ISBLANK(fixtures!$L30),"",":") | GG5: =IF(ISBLANK(fixtures!$L30),"",fixtures!$L30) | GH5: =IF(ISBLANK(fixtures!$L30),"",IF(GE5>GG5,"W",IF(GE5=GG5,"D","L"))) | GK5: 30 | GL5: Sat | GM5: =IFERROR(INDIRECT("fixtures!" & Dashboard!J1 &25) - Dashboard!K1/24,"TBC") -> 45899.625 | GO5: Bournemouth | GP5: H | GQ5: =IF(ISBLANK(fixtures!$K25),"",fixtures!$K25) | GR5: =IF(ISBLANK(fixtures!$L25),"",":") | GS5: =IF(ISBLANK(fixtures!$L25),"",fixtures!$L25) | GT5: =IF(ISBLANK(fixtures!$L25),"",IF(GQ5>GS5,"W",IF(GQ5=GS5,"D","L"))) | GW5: 30 | GX5: Sat | GY5: =IFERROR(INDIRECT("fixtures!" & Dashboard!J1 &26) - Dashboard!K1/24,"TBC") -> 45899.625 | HA5: Brentford | HB5: H | HC5: =IF(ISBLANK(fixtures!$K26),"",fixtures!$K26) | HD5: =IF(ISBLANK(fixtures!$L26),"",":") | HE5: =IF(ISBLANK(fixtures!$L26),"",fixtures!$L26) | HF5: =IF(ISBLANK(fixtures!$L26),"",IF(HC5>HE5,"W",IF(HC5=HE5,"D","L"))) | HI5: 31 | HJ5: Sun | HK5: =IFERROR(INDIRECT("fixtures!" & Dashboard!J1 &30) - Dashboard!K1/24,"TBC") -> 45900.583 | HM5: Nott'm Forest | HN5: A | HO5: =IF(ISBLANK(fixtures!$L30),"",fixtures!$L30) | HP5: =IF(ISBLANK(fixtures!$L30),"",":") | HQ5: =IF(ISBLANK(fixtures!$K30),"",fixtures!$K30) | HR5: =IF(ISBLANK(fixtures!$L30),"",IF(HO5>HQ5,"W",IF(HO5=HQ5,"D","L"))) | HU5: 30 | HV5: Sat | HW5: =IFERROR(INDIRECT("fixtures!" & Dashboard!J1 &27) - Dashboard!K1/24,"TBC") -> 45899.625 | HY5: Everton | HZ5: H | IA5: =IF(ISBLANK(fixtures!$K27),"",fixtures!$K27) | IB5: =IF(ISBLANK(fixtures!$L27),"",":") | IC5: =IF(ISBLANK(fixtures!$L27),"",fixtures!$L27) | ID5: =IF(ISBLANK(fixtures!$L27),"",IF(IA5>IC5,"W",IF(IA5=IC5,"D","L")))
A6: September | M6: September | Y6: September | AK6: September | AW6: September | BI6: September | BU6: September | CG6: September | CS6: September | DE6: September | DQ6: September | EC6: September | EO6: September | FA6: September | FM6: September | FY6: September | GK6: September | GW6: September | HI6: September | HU6: September
A7: 13 | B7: Sat | C7: =IFERROR(INDIRECT("fixtures!" & Dashboard!J1 &32) - Dashboard!K1/24,"TBC") -> 45913.521 | E7: Nott'm Forest | F7: H | G7: =IF(ISBLANK(fixtures!$K32),"",fixtures!$K32) | H7: =IF(ISBLANK(fixtures!$L32),"",":") | I7: =IF(ISBLANK(fixtures!$L32),"",fixtures!$L32) | J7: =IF(ISBLANK(fixtures!$L32),"",IF(G7>I7,"W",IF(G7=I7,"D","L"))) | M7: 13 | N7: Sat | O7: =IFERROR(INDIRECT("fixtures!" & Dashboard!J1 &35) - Dashboard!K1/24,"TBC") -> 45913.625 | Q7: Everton | R7: A | S7: =IF(ISBLANK(fixtures!$L35),"",fixtures!$L35) | T7: =IF(ISBLANK(fixtures!$L35),"",":") | U7: =IF(ISBLANK(fixtures!$K35),"",fixtures!$K35) | V7: =IF(ISBLANK(fixtures!$L35),"",IF(S7>U7,"W",IF(S7=U7,"D","L"))) | Y7: 13 | Z7: Sat | AA7: =IFERROR(INDIRECT("fixtures!" & Dashboard!J1 &33) - Dashboard!K1/24,"TBC") -> 45913.625 | AC7: Brighton | AD7: H | AE7: =IF(ISBLANK(fixtures!$K33),"",fixtures!$K33) | AF7: =IF(ISBLANK(fixtures!$L33),"",":") | AG7: =IF(ISBLANK(fixtures!$L33),"",fixtures!$L33) | AH7: =IF(ISBLANK(fixtures!$L33),"",IF(AE7>AG7,"W",IF(AE7=AG7,"D","L"))) | AK7: 13 | AL7: Sat | AM7: =IFERROR(INDIRECT("fixtures!" & Dashboard!J1 &39) - Dashboard!K1/24,"TBC") -> 45913.833 | AO7: Chelsea | AP7: H | AQ7: =IF(ISBLANK(fixtures!$K39),"",fixtures!$K39) | AR7: =IF(ISBLANK(fixtures!$L39),"",":") | AS7: =IF(ISBLANK(fixtures!$L39),"",fixtures!$L39) | AT7: =IF(ISBLANK(fixtures!$L39),"",IF(AQ7>AS7,"W",IF(AQ7=AS7,"D","L"))) | AW7: 13 | AX7: Sat | AY7: =IFERROR(INDIRECT("fixtures!" & Dashboard!J1 &33) - Dashboard!K1/24,"TBC") -> 45913.625 | BA7: Bournemouth | BB7: A | BC7: =IF(ISBLANK(fixtures!$L33),"",fixtures!$L33) | BD7: =IF(ISBLANK(fixtures!$L33),"",":") | BE7: =IF(ISBLANK(fixtures!$K33),"",fixtures!$K33) | BF7: =IF(ISBLANK(fixtures!$L33),"",IF(BC7>BE7,"W",IF(BC7=BE7,"D","L"))) | BI7: 14 | BJ7: Sun | BK7: =IFERROR(INDIRECT("fixtures!" & Dashboard!J1 &40) - Dashboard!K1/24,"TBC") -> 45914.583 | BM7: Liverpool | BN7: H | BO7: =IF(ISBLANK(fixtures!$K40),"",fixtures!$K40) | BP7: =IF(ISBLANK(fixtures!$L40),"",":") | BQ7: =IF(ISBLANK(fixtures!$L40),"",fixtures!$L40) | BR7: =IF(ISBLANK(fixtures!$L40),"",IF(BO7>BQ7,"W",IF(BO7=BQ7,"D","L"))) | BU7: 13 | BV7: Sat | BW7: =IFERROR(INDIRECT("fixtures!" & Dashboard!J1 &39) - Dashboard!K1/24,"TBC") -> 45913.833 | BY7: Brentford | BZ7: A | CA7: =IF(ISBLANK(fixtures!$L39),"",fixtures!$L39) | CB7: =IF(ISBLANK(fixtures!$L39),"",":") | CC7: =IF(ISBLANK(fixtures!$K39),"",fixtures!$K39) | CD7: =IF(ISBLANK(fixtures!$L39),"",IF(CA7>CC7,"W",IF(CA7=CC7,"D","L"))) | CG7: 13 | CH7: Sat | CI7: =IFERROR(INDIRECT("fixtures!" & Dashboard!J1 &34) - Dashboard!K1/24,"TBC") -> 45913.625 | CK7: Sunderland | CL7: H | CM7: =IF(ISBLANK(fixtures!$K34),"",fixtures!$K34) | CN7: =IF(ISBLANK(fixtures!$L34),"",":") | CO7: =IF(ISBLANK(fixtures!$L34),"",fixtures!$L34) | CP7: =IF(ISBLANK(fixtures!$L34),"",IF(CM7>CO7,"W",IF(CM7=CO7,"D","L"))) | CS7: 13 | CT7: Sat | CU7: =IFERROR(INDIRECT("fixtures!" & Dashboard!J1 &35) - Dashboard!K1/24,"TBC") -> 45913.625 | CW7: Aston Villa | CX7: H | CY7: =IF(ISBLANK(fixtures!$K35),"",fixtures!$K35) | CZ7: =IF(ISBLANK(fixtures!$L35),"",":") | DA7: =IF(ISBLANK(fixtures!$L35),"",fixtures!$L35) | DB7: =IF(ISBLANK(fixtures!$L35),"",IF(CY7>DA7,"W",IF(CY7=DA7,"D","L"))) | DE7: 13 | DF7: Sat | DG7: =IFERROR(INDIRECT("fixtures!" & Dashboard!J1 &36) - Dashboard!K1/24,"TBC") -> 45913.625 | DI7: Leeds Utd | DJ7: H | DK7: =IF(ISBLANK(fixtures!$K36),"",fixtures!$K36) | DL7: =IF(ISBLANK(fixtures!$L36),"",":") | DM7: =IF(ISBLANK(fixtures!$L36),"",fixtures!$L36) | DN7: =IF(ISBLANK(fixtures!$L36),"",IF(DK7>DM7,"W",IF(DK7=DM7,"D","L"))) | DQ7: 13 | DR7: Sat | DS7: =IFERROR(INDIRECT("fixtures!" & Dashboard!J1 &36) - Dashboard!K1/24,"TBC") -> 45913.625 | DU7: Fulham | DV7: A | DW7: =IF(ISBLANK(fixtures!$L36),"",fixtures!$L36) | DX7: =IF(ISBLANK(fixtures!$L36),"",":") | DY7: =IF(ISBLANK(fixtures!$K36),"",fixtures!$K36) | DZ7: =IF(ISBLANK(fixtures!$L36),"",IF(DW7>DY7,"W",IF(DW7=DY7,"D","L"))) | EC7: 14 | ED7: Sun | EE7: =IFERROR(INDIRECT("fixtures!" & Dashboard!J1 &40) - Dashboard!K1/24,"TBC") -> 45914.583 | EG7: Burnley | EH7: A | EI7: =IF(ISBLANK(fixtures!$L40),"",fixtures!$L40) | EJ7: =IF(ISBLANK(fixtures!$L40),"",":") | EK7: =IF(ISBLANK(fixtures!$K40),"",fixtures!$K40) | EL7: =IF(ISBLANK(fixtures!$L40),"",IF(EI7>EK7,"W",IF(EI7=EK7,"D","L"))) | EO7: 14 | EP7: Sun | EQ7: =IFERROR(INDIRECT("fixtures!" & Dashboard!J1 &41) - Dashboard!K1/24,"TBC") -> 45914.688 | ES7: Man Utd | ET7: H | EU7: =IF(ISBLANK(fixtures!$K41),"",fixtures!$K41) | EV7: =IF(ISBLANK(fixtures!$L41),"",":") | EW7: =IF(ISBLANK(fixtures!$L41),"",fixtures!$L41) | EX7: =IF(ISBLANK(fixtures!$L41),"",IF(EU7>EW7,"W",IF(EU7=EW7,"D","L"))) | FA7: 14 | FB7: Sun | FC7: =IFERROR(INDIRECT("fixtures!" & Dashboard!J1 &41) - Dashboard!K1/24,"TBC") -> 45914.688 | FE7: Man City | FF7: A | FG7: =IF(ISBLANK(fixtures!$L41),"",fixtures!$L41) | FH7: =IF(ISBLANK(fixtures!$L41),"",":") | FI7: =IF(ISBLANK(fixtures!$K41),"",fixtures!$K41) | FJ7: =IF(ISBLANK(fixtures!$L41),"",IF(FG7>FI7,"W",IF(FG7=FI7,"D","L"))) | FM7: 13 | FN7: Sat | FO7: =IFERROR(INDIRECT("fixtures!" & Dashboard!J1 &37) - Dashboard!K1/24,"TBC") -> 45913.625 | FQ7: Wolves | FR7: H | FS7: =IF(ISBLANK(fixtures!$K37),"",fixtures!$K37) | FT7: =IF(ISBLANK(fixtures!$L37),"",":") | FU7: =IF(ISBLANK(fixtures!$L37),"",fixtures!$L37) | FV7: =IF(ISBLANK(fixtures!$L37),"",IF(FS7>FU7,"W",IF(FS7=FU7,"D","L"))) | FY7: 13 | FZ7: Sat | GA7: =IFERROR(INDIRECT("fixtures!" & Dashboard!J1 &32) - Dashboard!K1/24,"TBC") -> 45913.521 | GC7: Arsenal | GD7: A | GE7: =IF(ISBLANK(fixtures!$L32),"",fixtures!$L32) | GF7: =IF(ISBLANK(fixtures!$L32),"",":") | GG7: =IF(ISBLANK(fixtures!$K32),"",fixtures!$K32) | GH7: =IF(ISBLANK(fixtures!$L32),"",IF(GE7>GG7,"W",IF(GE7=GG7,"D","L"))) | GK7: 13 | GL7: Sat | GM7: =IFERROR(INDIRECT("fixtures!" & Dashboard!J1 &38) - Dashboard!K1/24,"TBC") -> 45913.729 | GO7: West Ham | GP7: A | GQ7: =IF(ISBLANK(fixtures!$L38),"",fixtures!$L38) | GR7: =IF(ISBLANK(fixtures!$L38),"",":") | GS7: =IF(ISBLANK(fixtures!$K38),"",fixtures!$K38) | GT7: =IF(ISBLANK(fixtures!$L38),"",IF(GQ7>GS7,"W",IF(GQ7=GS7,"D","L"))) | GW7: 13 | GX7: Sat | GY7: =IFERROR(INDIRECT("fixtures!" & Dashboard!J1 &34) - Dashboard!K1/24,"TBC") -> 45913.625 | HA7: Crystal Palace | HB7: A | HC7: =IF(ISBLANK(fixtures!$L34),"",fixtures!$L34) | HD7: =IF(ISBLANK(fixtures!$L34),"",":") | HE7: =IF(ISBLANK(fixtures!$K34),"",fixtures!$K34) | HF7: =IF(ISBLANK(fixtures!$L34),"",IF(HC7>HE7,"W",IF(HC7=HE7,"D","L"))) | HI7: 13 | HJ7: Sat | HK7: =IFERROR(INDIRECT("fixtures!" & Dashboard!J1 &38) - Dashboard!K1/24,"TBC") -> 45913.729 | HM7: Spurs | HN7: H | HO7: =IF(ISBLANK(fixtures!$K38),"",fixtures!$K38) | HP7: =IF(ISBLANK(fixtures!$L38),"",":") | HQ7: =IF(ISBLANK(fixtures!$L38),"",fixtures!$L38) | HR7: =IF(ISBLANK(fixtures!$L38),"",IF(HO7>HQ7,"W",IF(HO7=HQ7,"D","L"))) | HU7: 13 | HV7: Sat | HW7: =IFERROR(INDIRECT("fixtures!" & Dashboard!J1 &37) - Dashboard!K1/24,"TBC") -> 45913.625 | HY7: Newcastle | HZ7: A | IA7: =IF(ISBLANK(fixtures!$L37),"",fixtures!$L37) | IB7: =IF(ISBLANK(fixtures!$L37),"",":") | IC7: =IF(ISBLANK(fixtures!$K37),"",fixtures!$K37) | ID7: =IF(ISBLANK(fixtures!$L37),"",IF(IA7>IC7,"W",IF(IA7=IC7,"D","L")))
A8: 21 | B8: Sun | C8: =IFERROR(INDIRECT("fixtures!" & Dashboard!J1 &51) - Dashboard!K1/24,"TBC") -> 45921.688 | E8: Man City | F8: H | G8: =IF(ISBLANK(fixtures!$K51),"",fixtures!$K51) | H8: =IF(ISBLANK(fixtures!$L51),"",":") | I8: =IF(ISBLANK(fixtures!$L51),"",fixtures!$L51) | J8: =IF(ISBLANK(fixtures!$L51),"",IF(G8>I8,"W",IF(G8=I8,"D","L"))) | M8: 21 | N8: Sun | O8: =IFERROR(INDIRECT("fixtures!" & Dashboard!J1 &50) - Dashboard!K1/24,"TBC") -> 45921.583 | Q8: Sunderland | R8: A | S8: =IF(ISBLANK(fixtures!$L50),"",fixtures!$L50) | T8: =IF(ISBLANK(fixtures!$L50),"",":") | U8: =IF(ISBLANK(fixtures!$K50),"",fixtures!$K50) | V8: =IF(ISBLANK(fixtures!$L50),"",IF(S8>U8,"W",IF(S8=U8,"D","L"))) | Y8: 20 | Z8: Sat | AA8: =IFERROR(INDIRECT("fixtures!" & Dashboard!J1 &43) - Dashboard!K1/24,"TBC") -> 45920.625 | AC8: Newcastle | AD8: H | AE8: =IF(ISBLANK(fixtures!$K43),"",fixtures!$K43) | AF8: =IF(ISBLANK(fixtures!$L43),"",":") | AG8: =IF(ISBLANK(fixtures!$L43),"",fixtures!$L43) | AH8: =IF(ISBLANK(fixtures!$L43),"",IF(AE8>AG8,"W",IF(AE8=AG8,"D","L"))) | AK8: 20 | AL8: Sat | AM8: =IFERROR(INDIRECT("fixtures!" & Dashboard!J1 &49) - Dashboard!K1/24,"TBC") -> 45920.833 | AO8: Fulham | AP8: A | AQ8: =IF(ISBLANK(fixtures!$L49),"",fixtures!$L49) | AR8: =IF(ISBLANK(fixtures!$L49),"",":") | AS8: =IF(ISBLANK(fixtures!$K49),"",fixtures!$K49) | AT8: =IF(ISBLANK(fixtures!$L49),"",IF(AQ8>AS8,"W",IF(AQ8=AS8,"D","L"))) | AW8: 20 | AX8: Sat | AY8: =IFERROR(INDIRECT("fixtures!" & Dashboard!J1 &44) - Dashboard!K1/24,"TBC") -> 45920.625 | BA8: Spurs | BB8: H | BC8: =IF(ISBLANK(fixtures!$K44),"",fixtures!$K44) | BD8: =IF(ISBLANK(fixtures!$L44),"",":") | BE8: =IF(ISBLANK(fixtures!$L44),"",fixtures!$L44) | BF8: =IF(ISBLANK(fixtures!$L44),"",IF(BC8>BE8,"W",IF(BC8=BE8,"D","L"))) | BI8: 20 | BJ8: Sat | BK8: =IFERROR(INDIRECT("fixtures!" & Dashboard!J1 &45) - Dashboard!K1/24,"TBC") -> 45920.625 | BM8: Nott'm Forest | BN8: H | BO8: =IF(ISBLANK(fixtures!$K45),"",fixtures!$K45) | BP8: =IF(ISBLANK(fixtures!$L45),"",":") | BQ8: =IF(ISBLANK(fixtures!$L45),"",fixtures!$L45) | BR8: =IF(ISBLANK(fixtures!$L45),"",IF(BO8>BQ8,"W",IF(BO8=BQ8,"D","L"))) | BU8: 20 | BV8: Sat | BW8: =IFERROR(INDIRECT("fixtures!" & Dashboard!J1 &48) - Dashboard!K1/24,"TBC") -> 45920.729 | BY8: Man Utd | BZ8: A | CA8: =IF(ISBLANK(fixtures!$L48),"",fixtures!$L48) | CB8: =IF(ISBLANK(fixtures!$L48),"",":") | CC8: =IF(ISBLANK(fixtures!$K48),"",fixtures!$K48) | CD8: =IF(ISBLANK(fixtures!$L48),"",IF(CA8>CC8,"W",IF(CA8=CC8,"D","L"))) | CG8: 20 | CH8: Sat | CI8: =IFERROR(INDIRECT("fixtures!" & Dashboard!J1 &46) - Dashboard!K1/24,"TBC") -> 45920.625 | CK8: West Ham | CL8: A | CM8: =IF(ISBLANK(fixtures!$L46),"",fixtures!$L46) | CN8: =IF(ISBLANK(fixtures!$L46),"",":") | CO8: =IF(ISBLANK(fixtures!$K46),"",fixtures!$K46) | CP8: =IF(ISBLANK(fixtures!$L46),"",IF(CM8>CO8,"W",IF(CM8=CO8,"D","L"))) | CS8: 20 | CT8: Sat | CU8: =IFERROR(INDIRECT("fixtures!" & Dashboard!J1 &42) - Dashboard!K1/24,"TBC") -> 45920.521 | CW8: Liverpool | CX8: A | CY8: =IF(ISBLANK(fixtures!$L42),"",fixtures!$L42) | CZ8: =IF(ISBLANK(fixtures!$L42),"",":") | DA8: =IF(ISBLANK(fixtures!$K42),"",fixtures!$K42) | DB8: =IF(ISBLANK(fixtures!$L42),"",IF(CY8>DA8,"W",IF(CY8=DA8,"D","L"))) | DE8: 20 | DF8: Sat | DG8: =IFERROR(INDIRECT("fixtures!" & Dashboard!J1 &49) - Dashboard!K1/24,"TBC") -> 45920.833 | DI8: Brentford | DJ8: H | DK8: =IF(ISBLANK(fixtures!$K49),"",fixtures!$K49) | DL8: =IF(ISBLANK(fixtures!$L49),"",":") | DM8: =IF(ISBLANK(fixtures!$L49),"",fixtures!$L49) | DN8: =IF(ISBLANK(fixtures!$L49),"",IF(DK8>DM8,"W",IF(DK8=DM8,"D","L"))) | DQ8: 20 | DR8: Sat | DS8: =IFERROR(INDIRECT("fixtures!" & Dashboard!J1 &47) - Dashboard!K1/24,"TBC") -> 45920.625 | DU8: Wolves | DV8: A | DW8: =IF(ISBLANK(fixtures!$L47),"",fixtures!$L47) | DX8: =IF(ISBLANK(fixtures!$L47),"",":") | DY8: =IF(ISBLANK(fixtures!$K47),"",fixtures!$K47) | DZ8: =IF(ISBLANK(fixtures!$L47),"",IF(DW8>DY8,"W",IF(DW8=DY8,"D","L"))) | EC8: 20 | ED8: Sat | EE8: =IFERROR(INDIRECT("fixtures!" & Dashboard!J1 &42) - Dashboard!K1/24,"TBC") -> 45920.521 | EG8: Everton | EH8: H | EI8: =IF(ISBLANK(fixtures!$K42),"",fixtures!$K42) | EJ8: =IF(ISBLANK(fixtures!$L42),"",":") | EK8: =IF(ISBLANK(fixtures!$L42),"",fixtures!$L42) | EL8: =IF(ISBLANK(fixtures!$L42),"",IF(EI8>EK8,"W",IF(EI8=EK8,"D","L"))) | EO8: 21 | EP8: Sun | EQ8: =IFERROR(INDIRECT("fixtures!" & Dashboard!J1 &51) - Dashboard!K1/24,"TBC") -> 45921.688 | ES8: Arsenal | ET8: A | EU8: =IF(ISBLANK(fixtures!$L51),"",fixtures!$L51) | EV8: =IF(ISBLANK(fixtures!$L51),"",":") | EW8: =IF(ISBLANK(fixtures!$K51),"",fixtures!$K51) | EX8: =IF(ISBLANK(fixtures!$L51),"",IF(EU8>EW8,"W",IF(EU8=EW8,"D","L"))) | FA8: 20 | FB8: Sat | FC8: =IFERROR(INDIRECT("fixtures!" & Dashboard!J1 &48) - Dashboard!K1/24,"TBC") -> 45920.729 | FE8: Chelsea | FF8: H | FG8: =IF(ISBLANK(fixtures!$K48),"",fixtures!$K48) | FH8: =IF(ISBLANK(fixtures!$L48),"",":") | FI8: =IF(ISBLANK(fixtures!$L48),"",fixtures!$L48) | FJ8: =IF(ISBLANK(fixtures!$L48),"",IF(FG8>FI8,"W",IF(FG8=FI8,"D","L"))) | FM8: 20 | FN8: Sat | FO8: =IFERROR(INDIRECT("fixtures!" & Dashboard!J1 &43) - Dashboard!K1/24,"TBC") -> 45920.625 | FQ8: Bournemouth | FR8: A | FS8: =IF(ISBLANK(fixtures!$L43),"",fixtures!$L43) | FT8: =IF(ISBLANK(fixtures!$L43),"",":") | FU8: =IF(ISBLANK(fixtures!$K43),"",fixtures!$K43) | FV8: =IF(ISBLANK(fixtures!$L43),"",IF(FS8>FU8,"W",IF(FS8=FU8,"D","L"))) | FY8: 20 | FZ8: Sat | GA8: =IFERROR(INDIRECT("fixtures!" & Dashboard!J1 &45) - Dashboard!K1/24,"TBC") -> 45920.625 | GC8: Burnley | GD8: A | GE8: =IF(ISBLANK(fixtures!$L45),"",fixtures!$L45) | GF8: =IF(ISBLANK(fixtures!$L45),"",":") | GG8: =IF(ISBLANK(fixtures!$K45),"",fixtures!$K45) | GH8: =IF(ISBLANK(fixtures!$L45),"",IF(GE8>GG8,"W",IF(GE8=GG8,"D","L"))) | GK8: 20 | GL8: Sat | GM8: =IFERROR(INDIRECT("fixtures!" & Dashboard!J1 &44) - Dashboard!K1/24,"TBC") -> 45920.625 | GO8: Brighton | GP8: A | GQ8: =IF(ISBLANK(fixtures!$L44),"",fixtures!$L44) | GR8: =IF(ISBLANK(fixtures!$L44),"",":") | GS8: =IF(ISBLANK(fixtures!$K44),"",fixtures!$K44) | GT8: =IF(ISBLANK(fixtures!$L44),"",IF(GQ8>GS8,"W",IF(GQ8=GS8,"D","L"))) | GW8: 21 | GX8: Sun | GY8: =IFERROR(INDIRECT("fixtures!" & Dashboard!J1 &50) - Dashboard!K1/24,"TBC") -> 45921.583 | HA8: Aston Villa | HB8: H | HC8: =IF(ISBLANK(fixtures!$K50),"",fixtures!$K50) | HD8: =IF(ISBLANK(fixtures!$L50),"",":") | HE8: =IF(ISBLANK(fixtures!$L50),"",fixtures!$L50) | HF8: =IF(ISBLANK(fixtures!$L50),"",IF(HC8>HE8,"W",IF(HC8=HE8,"D","L"))) | HI8: 20 | HJ8: Sat | HK8: =IFERROR(INDIRECT("fixtures!" & Dashboard!J1 &46) - Dashboard!K1/24,"TBC") -> 45920.625 | HM8: Crystal Palace | HN8: H | HO8: =IF(ISBLANK(fixtures!$K46),"",fixtures!$K46) | HP8: =IF(ISBLANK(fixtures!$L46),"",":") | HQ8: =IF(ISBLANK(fixtures!$L46),"",fixtures!$L46) | HR8: =IF(ISBLANK(fixtures!$L46),"",IF(HO8>HQ8,"W",IF(HO8=HQ8,"D","L"))) | HU8: 20 | HV8: Sat | HW8: =IFERROR(INDIRECT("fixtures!" & Dashboard!J1 &47) - Dashboard!K1/24,"TBC") -> 45920.625 | HY8: Leeds Utd | HZ8: H | IA8: =IF(ISBLANK(fixtures!$K47),"",fixtures!$K47) | IB8: =IF(ISBLANK(fixtures!$L47),"",":") | IC8: =IF(ISBLANK(fixtures!$L47),"",fixtures!$L47) | ID8: =IF(ISBLANK(fixtures!$L47),"",IF(IA8>IC8,"W",IF(IA8=IC8,"D","L")))
A9: 28 | B9: Sun | C9: =IFERROR(INDIRECT("fixtures!" & Dashboard!J1 &60) - Dashboard!K1/24,"TBC") -> 45928.688 | E9: Newcastle | F9: A | G9: =IF(ISBLANK(fixtures!$L60),"",fixtures!$L60) | H9: =IF(ISBLANK(fixtures!$L60),"",":") | I9: =IF(ISBLANK(fixtures!$K60),"",fixtures!$K60) | J9: =IF(ISBLANK(fixtures!$L60),"",IF(G9>I9,"W",IF(G9=I9,"D","L"))) | M9: 27 | N9: Sat | O9: =IFERROR(INDIRECT("fixtures!" & Dashboard!J1 &53) - Dashboard!K1/24,"TBC") -> 45927.625 | Q9: Fulham | R9: H | S9: =IF(ISBLANK(fixtures!$K53),"",fixtures!$K53) | T9: =IF(ISBLANK(fixtures!$L53),"",":") | U9: =IF(ISBLANK(fixtures!$L53),"",fixtures!$L53) | V9: =IF(ISBLANK(fixtures!$L53),"",IF(S9>U9,"W",IF(S9=U9,"D","L"))) | Y9: 27 | Z9: Sat | AA9: =IFERROR(INDIRECT("fixtures!" & Dashboard!J1 &56) - Dashboard!K1/24,"TBC") -> 45927.625 | AC9: Leeds Utd | AD9: A | AE9: =IF(ISBLANK(fixtures!$L56),"",fixtures!$L56) | AF9: =IF(ISBLANK(fixtures!$L56),"",":") | AG9: =IF(ISBLANK(fixtures!$K56),"",fixtures!$K56) | AH9: =IF(ISBLANK(fixtures!$L56),"",IF(AE9>AG9,"W",IF(AE9=AG9,"D","L"))) | AK9: 27 | AL9: Sat | AM9: =IFERROR(INDIRECT("fixtures!" & Dashboard!J1 &52) - Dashboard!K1/24,"TBC") -> 45927.521 | AO9: Man Utd | AP9: H | AQ9: =IF(ISBLANK(fixtures!$K52),"",fixtures!$K52) | AR9: =IF(ISBLANK(fixtures!$L52),"",":") | AS9: =IF(ISBLANK(fixtures!$L52),"",fixtures!$L52) | AT9: =IF(ISBLANK(fixtures!$L52),"",IF(AQ9>AS9,"W",IF(AQ9=AS9,"D","L"))) | AW9: 27 | AX9: Sat | AY9: =IFERROR(INDIRECT("fixtures!" & Dashboard!J1 &54) - Dashboard!K1/24,"TBC") -> 45927.625 | BA9: Chelsea | BB9: A | BC9: =IF(ISBLANK(fixtures!$L54),"",fixtures!$L54) | BD9: =IF(ISBLANK(fixtures!$L54),"",":") | BE9: =IF(ISBLANK(fixtures!$K54),"",fixtures!$K54) | BF9: =IF(ISBLANK(fixtures!$L54),"",IF(BC9>BE9,"W",IF(BC9=BE9,"D","L"))) | BI9: 27 | BJ9: Sat | BK9: =IFERROR(INDIRECT("fixtures!" & Dashboard!J1 &57) - Dashboard!K1/24,"TBC") -> 45927.625 | BM9: Man City | BN9: A | BO9: =IF(ISBLANK(fixtures!$L57),"",fixtures!$L57) | BP9: =IF(ISBLANK(fixtures!$L57),"",":") | BQ9: =IF(ISBLANK(fixtures!$K57),"",fixtures!$K57) | BR9: =IF(ISBLANK(fixtures!$L57),"",IF(BO9>BQ9,"W",IF(BO9=BQ9,"D","L"))) | BU9: 27 | BV9: Sat | BW9: =IFERROR(INDIRECT("fixtures!" & Dashboard!J1 &54) - Dashboard!K1/24,"TBC") -> 45927.625 | BY9: Brighton | BZ9: H | CA9: =IF(ISBLANK(fixtures!$K54),"",fixtures!$K54) | CB9: =IF(ISBLANK(fixtures!$L54),"",":") | CC9: =IF(ISBLANK(fixtures!$L54),"",fixtures!$L54) | CD9: =IF(ISBLANK(fixtures!$L54),"",IF(CA9>CC9,"W",IF(CA9=CC9,"D","L"))) | CG9: 27 | CH9: Sat | CI9: =IFERROR(INDIRECT("fixtures!" & Dashboard!J1 &55) - Dashboard!K1/24,"TBC") -> 45927.625 | CK9: Liverpool | CL9: H | CM9: =IF(ISBLANK(fixtures!$K55),"",fixtures!$K55) | CN9: =IF(ISBLANK(fixtures!$L55),"",":") | CO9: =IF(ISBLANK(fixtures!$L55),"",fixtures!$L55) | CP9: =IF(ISBLANK(fixtures!$L55),"",IF(CM9>CO9,"W",IF(CM9=CO9,"D","L"))) | CS9: 29 | CT9: Mon | CU9: =IFERROR(INDIRECT("fixtures!" & Dashboard!J1 &61) - Dashboard!K1/24,"TBC") -> 45929.833 | CW9: West Ham | CX9: H | CY9: =IF(ISBLANK(fixtures!$K61),"",fixtures!$K61) | CZ9: =IF(ISBLANK(fixtures!$L61),"",":") | DA9: =IF(ISBLANK(fixtures!$L61),"",fixtures!$L61) | DB9: =IF(ISBLANK(fixtures!$L61),"",IF(CY9>DA9,"W",IF(CY9=DA9,"D","L"))) | DE9: 27 | DF9: Sat | DG9: =IFERROR(INDIRECT("fixtures!" & Dashboard!J1 &53) - Dashboard!K1/24,"TBC") -> 45927.625 | DI9: Aston Villa | DJ9: A | DK9: =IF(ISBLANK(fixtures!$L53),"",fixtures!$L53) | DL9: =IF(ISBLANK(fixtures!$L53),"",":") | DM9: =IF(ISBLANK(fixtures!$K53),"",fixtures!$K53) | DN9: =IF(ISBLANK(fixtures!$L53),"",IF(DK9>DM9,"W",IF(DK9=DM9,"D","L"))) | DQ9: 27 | DR9: Sat | DS9: =IFERROR(INDIRECT("fixtures!" & Dashboard!J1 &56) - Dashboard!K1/24,"TBC") -> 45927.625 | DU9: Bournemouth | DV9: H | DW9: =IF(ISBLANK(fixtures!$K56),"",fixtures!$K56) | DX9: =IF(ISBLANK(fixtures!$L56),"",":") | DY9: =IF(ISBLANK(fixtures!$L56),"",fixtures!$L56) | DZ9: =IF(ISBLANK(fixtures!$L56),"",IF(DW9>DY9,"W",IF(DW9=DY9,"D","L"))) | EC9: 27 | ED9: Sat | EE9: =IFERROR(INDIRECT("fixtures!" & Dashboard!J1 &55) - Dashboard!K1/24,"TBC") -> 45927.625 | EG9: Crystal Palace | EH9: A | EI9: =IF(ISBLANK(fixtures!$L55),"",fixtures!$L55) | EJ9: =IF(ISBLANK(fixtures!$L55),"",":") | EK9: =IF(ISBLANK(fixtures!$K55),"",fixtures!$K55) | EL9: =IF(ISBLANK(fixtures!$L55),"",IF(EI9>EK9,"W",IF(EI9=EK9,"D","L"))) | EO9: 27 | EP9: Sat | EQ9: =IFERROR(INDIRECT("fixtures!" & Dashboard!J1 &57) - Dashboard!K1/24,"TBC") -> 45927.625 | ES9: Burnley | ET9: H | EU9: =IF(ISBLANK(fixtures!$K57),"",fixtures!$K57) | EV9: =IF(ISBLANK(fixtures!$L57),"",":") | EW9: =IF(ISBLANK(fixtures!$L57),"",fixtures!$L57) | EX9: =IF(ISBLANK(fixtures!$L57),"",IF(EU9>EW9,"W",IF(EU9=EW9,"D","L"))) | FA9: 27 | FB9: Sat | FC9: =IFERROR(INDIRECT("fixtures!" & Dashboard!J1 &52) - Dashboard!K1/24,"TBC") -> 45927.521 | FE9: Brentford | FF9: A | FG9: =IF(ISBLANK(fixtures!$L52),"",fixtures!$L52) | FH9: =IF(ISBLANK(fixtures!$L52),"",":") | FI9: =IF(ISBLANK(fixtures!$K52),"",fixtures!$K52) | FJ9: =IF(ISBLANK(fixtures!$L52),"",IF(FG9>FI9,"W",IF(FG9=FI9,"D","L"))) | FM9: 28 | FN9: Sun | FO9: =IFERROR(INDIRECT("fixtures!" & Dashboard!J1 &60) - Dashboard!K1/24,"TBC") -> 45928.688 | FQ9: Arsenal | FR9: H | FS9: =IF(ISBLANK(fixtures!$K60),"",fixtures!$K60) | FT9: =IF(ISBLANK(fixtures!$L60),"",":") | FU9: =IF(ISBLANK(fixtures!$L60),"",fixtures!$L60) | FV9: =IF(ISBLANK(fixtures!$L60),"",IF(FS9>FU9,"W",IF(FS9=FU9,"D","L"))) | FY9: 27 | FZ9: Sat | GA9: =IFERROR(INDIRECT("fixtures!" & Dashboard!J1 &58) - Dashboard!K1/24,"TBC") -> 45927.729 | GC9: Sunderland | GD9: H | GE9: =IF(ISBLANK(fixtures!$K58),"",fixtures!$K58) | GF9: =IF(ISBLANK(fixtures!$L58),"",":") | GG9: =IF(ISBLANK(fixtures!$L58),"",fixtures!$L58) | GH9: =IF(ISBLANK(fixtures!$L58),"",IF(GE9>GG9,"W",IF(GE9=GG9,"D","L"))) | GK9: 28 | GL9: Sun | GM9: =IFERROR(INDIRECT("fixtures!" & Dashboard!J1 &59) - Dashboard!K1/24,"TBC") -> 45928.583 | GO9: Wolves | GP9: H | GQ9: =IF(ISBLANK(fixtures!$K59),"",fixtures!$K59) | GR9: =IF(ISBLANK(fixtures!$L59),"",":") | GS9: =IF(ISBLANK(fixtures!$L59),"",fixtures!$L59) | GT9: =IF(ISBLANK(fixtures!$L59),"",IF(GQ9>GS9,"W",IF(GQ9=GS9,"D","L"))) | GW9: 27 | GX9: Sat | GY9: =IFERROR(INDIRECT("fixtures!" & Dashboard!J1 &58) - Dashboard!K1/24,"TBC") -> 45927.729 | HA9: Nott'm Forest | HB9: A | HC9: =IF(ISBLANK(fixtures!$L58),"",fixtures!$L58) | HD9: =IF(ISBLANK(fixtures!$L58),"",":") | HE9: =IF(ISBLANK(fixtures!$K58),"",fixtures!$K58) | HF9: =IF(ISBLANK(fixtures!$L58),"",IF(HC9>HE9,"W",IF(HC9=HE9,"D","L"))) | HI9: 29 | HJ9: Mon | HK9: =IFERROR(INDIRECT("fixtures!" & Dashboard!J1 &61) - Dashboard!K1/24,"TBC") -> 45929.833 | HM9: Everton | HN9: A | HO9: =IF(ISBLANK(fixtures!$L61),"",fixtures!$L61) | HP9: =IF(ISBLANK(fixtures!$L61),"",":") | HQ9: =IF(ISBLANK(fixtures!$K61),"",fixtures!$K61) | HR9: =IF(ISBLANK(fixtures!$L61),"",IF(HO9>HQ9,"W",IF(HO9=HQ9,"D","L"))) | HU9: 28 | HV9: Sun | HW9: =IFERROR(INDIRECT("fixtures!" & Dashboard!J1 &59) - Dashboard!K1/24,"TBC") -> 45928.583 | HY9: Spurs | HZ9: A | IA9: =IF(ISBLANK(fixtures!$L59),"",fixtures!$L59) | IB9: =IF(ISBLANK(fixtures!$L59),"",":") | IC9: =IF(ISBLANK(fixtures!$K59),"",fixtures!$K59) | ID9: =IF(ISBLANK(fixtures!$L59),"",IF(IA9>IC9,"W",IF(IA9=IC9,"D","L")))
A10: October | M10: October | Y10: October | AK10: October | AW10: October | BI10: October | BU10: October | CG10: October | CS10: October | DE10: October | DQ10: October | EC10: October | EO10: October | FA10: October | FM10: October | FY10: October | GK10: October | GW10: October | HI10: October | HU10: October
A11: 4 | B11: Sat | C11: =IFERROR(INDIRECT("fixtures!" & Dashboard!J1 &62) - Dashboard!K1/24,"TBC") -> 45934.625 | E11: West Ham | F11: H | G11: =IF(ISBLANK(fixtures!$K62),"",fixtures!$K62) | H11: =IF(ISBLANK(fixtures!$L62),"",":") | I11: =IF(ISBLANK(fixtures!$L62),"",fixtures!$L62) | J11: =IF(ISBLANK(fixtures!$L62),"",IF(G11>I11,"W",IF(G11=I11,"D","L"))) | M11: 4 | N11: Sat | O11: =IFERROR(INDIRECT("fixtures!" & Dashboard!J1 &63) - Dashboard!K1/24,"TBC") -> 45934.625 | Q11: Burnley | R11: H | S11: =IF(ISBLANK(fixtures!$K63),"",fixtures!$K63) | T11: =IF(ISBLANK(fixtures!$L63),"",":") | U11: =IF(ISBLANK(fixtures!$L63),"",fixtures!$L63) | V11: =IF(ISBLANK(fixtures!$L63),"",IF(S11>U11,"W",IF(S11=U11,"D","L"))) | Y11: 4 | Z11: Sat | AA11: =IFERROR(INDIRECT("fixtures!" & Dashboard!J1 &64) - Dashboard!K1/24,"TBC") -> 45934.625 | AC11: Fulham | AD11: H | AE11: =IF(ISBLANK(fixtures!$K64),"",fixtures!$K64) | AF11: =IF(ISBLANK(fixtures!$L64),"",":") | AG11: =IF(ISBLANK(fixtures!$L64),"",fixtures!$L64) | AH11: =IF(ISBLANK(fixtures!$L64),"",IF(AE11>AG11,"W",IF(AE11=AG11,"D","L"))) | AK11: 4 | AL11: Sat | AM11: =IFERROR(INDIRECT("fixtures!" & Dashboard!J1 &65) - Dashboard!K1/24,"TBC") -> 45934.625 | AO11: Man City | AP11: H | AQ11: =IF(ISBLANK(fixtures!$K65),"",fixtures!$K65) | AR11: =IF(ISBLANK(fixtures!$L65),"",":") | AS11: =IF(ISBLANK(fixtures!$L65),"",fixtures!$L65) | AT11: =IF(ISBLANK(fixtures!$L65),"",IF(AQ11>AS11,"W",IF(AQ11=AS11,"D","L"))) | AW11: 4 | AX11: Sat | AY11: =IFERROR(INDIRECT("fixtures!" & Dashboard!J1 &71) - Dashboard!K1/24,"TBC") -> 45934.625 | BA11: Wolves | BB11: A | BC11: =IF(ISBLANK(fixtures!$L71),"",fixtures!$L71) | BD11: =IF(ISBLANK(fixtures!$L71),"",":") | BE11: =IF(ISBLANK(fixtures!$K71),"",fixtures!$K71) | BF11: =IF(ISBLANK(fixtures!$L71),"",IF(BC11>BE11,"W",IF(BC11=BE11,"D","L"))) | BI11: 4 | BJ11: Sat | BK11: =IFERROR(INDIRECT("fixtures!" & Dashboard!J1 &63) - Dashboard!K1/24,"TBC") -> 45934.625 | BM11: Aston Villa | BN11: A | BO11: =IF(ISBLANK(fixtures!$L63),"",fixtures!$L63) | BP11: =IF(ISBLANK(fixtures!$L63),"",":") | BQ11: =IF(ISBLANK(fixtures!$K63),"",fixtures!$K63) | BR11: =IF(ISBLANK(fixtures!$L63),"",IF(BO11>BQ11,"W",IF(BO11=BQ11,"D","L"))) | BU11: 4 | BV11: Sat | BW11: =IFERROR(INDIRECT("fixtures!" & Dashboard!J1 &66) - Dashboard!K1/24,"TBC") -> 45934.625 | BY11: Liverpool | BZ11: H | CA11: =IF(ISBLANK(fixtures!$K66),"",fixtures!$K66) | CB11: =IF(ISBLANK(fixtures!$L66),"",":") | CC11: =IF(ISBLANK(fixtures!$L66),"",fixtures!$L66) | CD11: =IF(ISBLANK(fixtures!$L66),"",IF(CA11>CC11,"W",IF(CA11=CC11,"D","L"))) | CG11: 4 | CH11: Sat | CI11: =IFERROR(INDIRECT("fixtures!" & Dashboard!J1 &67) - Dashboard!K1/24,"TBC") -> 45934.625 | CK11: Everton | CL11: A | CM11: =IF(ISBLANK(fixtures!$L67),"",fixtures!$L67) | CN11: =IF(ISBLANK(fixtures!$L67),"",":") | CO11: =IF(ISBLANK(fixtures!$K67),"",fixtures!$K67) | CP11: =IF(ISBLANK(fixtures!$L67),"",IF(CM11>CO11,"W",IF(CM11=CO11,"D","L"))) | CS11: 4 | CT11: Sat | CU11: =IFERROR(INDIRECT("fixtures!" & Dashboard!J1 &67) - Dashboard!K1/24,"TBC") -> 45934.625 | CW11: Crystal Palace | CX11: H | CY11: =IF(ISBLANK(fixtures!$K67),"",fixtures!$K67) | CZ11: =IF(ISBLANK(fixtures!$L67),"",":") | DA11: =IF(ISBLANK(fixtures!$L67),"",fixtures!$L67) | DB11: =IF(ISBLANK(fixtures!$L67),"",IF(CY11>DA11,"W",IF(CY11=DA11,"D","L"))) | DE11: 4 | DF11: Sat | DG11: =IFERROR(INDIRECT("fixtures!" & Dashboard!J1 &64) - Dashboard!K1/24,"TBC") -> 45934.625 | DI11: Bournemouth | DJ11: A | DK11: =IF(ISBLANK(fixtures!$L64),"",fixtures!$L64) | DL11: =IF(ISBLANK(fixtures!$L64),"",":") | DM11: =IF(ISBLANK(fixtures!$K64),"",fixtures!$K64) | DN11: =IF(ISBLANK(fixtures!$L64),"",IF(DK11>DM11,"W",IF(DK11=DM11,"D","L"))) | DQ11: 4 | DR11: Sat | DS11: =IFERROR(INDIRECT("fixtures!" & Dashboard!J1 &68) - Dashboard!K1/24,"TBC") -> 45934.625 | DU11: Spurs | DV11: H | DW11: =IF(ISBLANK(fixtures!$K68),"",fixtures!$K68) | DX11: =IF(ISBLANK(fixtures!$L68),"",":") | DY11: =IF(ISBLANK(fixtures!$L68),"",fixtures!$L68) | DZ11: =IF(ISBLANK(fixtures!$L68),"",IF(DW11>DY11,"W",IF(DW11=DY11,"D","L"))) | EC11: 4 | ED11: Sat | EE11: =IFERROR(INDIRECT("fixtures!" & Dashboard!J1 &66) - Dashboard!K1/24,"TBC") -> 45934.625 | EG11: Chelsea | EH11: A | EI11: =IF(ISBLANK(fixtures!$L66),"",fixtures!$L66) | EJ11: =IF(ISBLANK(fixtures!$L66),"",":") | EK11: =IF(ISBLANK(fixtures!$K66),"",fixtures!$K66) | EL11: =IF(ISBLANK(fixtures!$L66),"",IF(EI11>EK11,"W",IF(EI11=EK11,"D","L"))) | EO11: 4 | EP11: Sat | EQ11: =IFERROR(INDIRECT("fixtures!" & Dashboard!J1 &65) - Dashboard!K1/24,"TBC") -> 45934.625 | ES11: Brentford | ET11: A | EU11: =IF(ISBLANK(fixtures!$L65),"",fixtures!$L65) | EV11: =IF(ISBLANK(fixtures!$L65),"",":") | EW11: =IF(ISBLANK(fixtures!$K65),"",fixtures!$K65) | EX11: =IF(ISBLANK(fixtures!$L65),"",IF(EU11>EW11,"W",IF(EU11=EW11,"D","L"))) | FA11: 4 | FB11: Sat | FC11: =IFERROR(INDIRECT("fixtures!" & Dashboard!J1 &69) - Dashboard!K1/24,"TBC") -> 45934.625 | FE11: Sunderland | FF11: H | FG11: =IF(ISBLANK(fixtures!$K69),"",fixtures!$K69) | FH11: =IF(ISBLANK(fixtures!$L69),"",":") | FI11: =IF(ISBLANK(fixtures!$L69),"",fixtures!$L69) | FJ11: =IF(ISBLANK(fixtures!$L69),"",IF(FG11>FI11,"W",IF(FG11=FI11,"D","L"))) | FM11: 4 | FN11: Sat | FO11: =IFERROR(INDIRECT("fixtures!" & Dashboard!J1 &70) - Dashboard!K1/24,"TBC") -> 45934.625 | FQ11: Nott'm Forest | FR11: H | FS11: =IF(ISBLANK(fixtures!$K70),"",fixtures!$K70) | FT11: =IF(ISBLANK(fixtures!$L70),"",":") | FU11: =IF(ISBLANK(fixtures!$L70),"",fixtures!$L70) | FV11: =IF(ISBLANK(fixtures!$L70),"",IF(FS11>FU11,"W",IF(FS11=FU11,"D","L"))) | FY11: 4 | FZ11: Sat | GA11: =IFERROR(INDIRECT("fixtures!" & Dashboard!J1 &70) - Dashboard!K1/24,"TBC") -> 45934.625 | GC11: Newcastle | GD11: A | GE11: =IF(ISBLANK(fixtures!$L70),"",fixtures!$L70) | GF11: =IF(ISBLANK(fixtures!$L70),"",":") | GG11: =IF(ISBLANK(fixtures!$K70),"",fixtures!$K70) | GH11: =IF(ISBLANK(fixtures!$L70),"",IF(GE11>GG11,"W",IF(GE11=GG11,"D","L"))) | GK11: 4 | GL11: Sat | GM11: =IFERROR(INDIRECT("fixtures!" & Dashboard!J1 &68) - Dashboard!K1/24,"TBC") -> 45934.625 | GO11: Leeds Utd | GP11: A | GQ11: =IF(ISBLANK(fixtures!$L68),"",fixtures!$L68) | GR11: =IF(ISBLANK(fixtures!$L68),"",":") | GS11: =IF(ISBLANK(fixtures!$K68),"",fixtures!$K68) | GT11: =IF(ISBLANK(fixtures!$L68),"",IF(GQ11>GS11,"W",IF(GQ11=GS11,"D","L"))) | GW11: 4 | GX11: Sat | GY11: =IFERROR(INDIRECT("fixtures!" & Dashboard!J1 &69) - Dashboard!K1/24,"TBC") -> 45934.625 | HA11: Man Utd | HB11: A | HC11: =IF(ISBLANK(fixtures!$L69),"",fixtures!$L69) | HD11: =IF(ISBLANK(fixtures!$L69),"",":") | HE11: =IF(ISBLANK(fixtures!$K69),"",fixtures!$K69) | HF11: =IF(ISBLANK(fixtures!$L69),"",IF(HC11>HE11,"W",IF(HC11=HE11,"D","L"))) | HI11: 4 | HJ11: Sat | HK11: =IFERROR(INDIRECT("fixtures!" & Dashboard!J1 &62) - Dashboard!K1/24,"TBC") -> 45934.625 | HM11: Arsenal | HN11: A | HO11: =IF(ISBLANK(fixtures!$L62),"",fixtures!$L62) | HP11: =IF(ISBLANK(fixtures!$L62),"",":") | HQ11: =IF(ISBLANK(fixtures!$K62),"",fixtures!$K62) | HR11: =IF(ISBLANK(fixtures!$L62),"",IF(HO11>HQ11,"W",IF(HO11=HQ11,"D","L"))) | HU11: 4 | HV11: Sat | HW11: =IFERROR(INDIRECT("fixtures!" & Dashboard!J1 &71) - Dashboard!K1/24,"TBC") -> 45934.625 | HY11: Brighton | HZ11: H | IA11: =IF(ISBLANK(fixtures!$K71),"",fixtures!$K71) | IB11: =IF(ISBLANK(fixtures!$L71),"",":") | IC11: =IF(ISBLANK(fixtures!$L71),"",fixtures!$L71) | ID11: =IF(ISBLANK(fixtures!$L71),"",IF(IA11>IC11,"W",IF(IA11=IC11,"D","L")))
A12: 18 | B12: Sat | C12: =IFERROR(INDIRECT("fixtures!" & Dashboard!J1 &75) - Dashboard!K1/24,"TBC") -> 45948.625 | E12: Fulham | F12: A | G12: =IF(ISBLANK(fixtures!$L75),"",fixtures!$L75) | H12: =IF(ISBLANK(fixtures!$L75),"",":") | I12: =IF(ISBLANK(fixtures!$K75),"",fixtures!$K75) | J12: =IF(ISBLANK(fixtures!$L75),"",IF(G12>I12,"W",IF(G12=I12,"D","L"))) | M12: 18 | N12: Sat | O12: =IFERROR(INDIRECT("fixtures!" & Dashboard!J1 &79) - Dashboard!K1/24,"TBC") -> 45948.625 | Q12: Spurs | R12: A | S12: =IF(ISBLANK(fixtures!$L79),"",fixtures!$L79) | T12: =IF(ISBLANK(fixtures!$L79),"",":") | U12: =IF(ISBLANK(fixtures!$K79),"",fixtures!$K79) | V12: =IF(ISBLANK(fixtures!$L79),"",IF(S12>U12,"W",IF(S12=U12,"D","L"))) | Y12: 18 | Z12: Sat | AA12: =IFERROR(INDIRECT("fixtures!" & Dashboard!J1 &74) - Dashboard!K1/24,"TBC") -> 45948.625 | AC12: Crystal Palace | AD12: A | AE12: =IF(ISBLANK(fixtures!$L74),"",fixtures!$L74) | AF12: =IF(ISBLANK(fixtures!$L74),"",":") | AG12: =IF(ISBLANK(fixtures!$K74),"",fixtures!$K74) | AH12: =IF(ISBLANK(fixtures!$L74),"",IF(AE12>AG12,"W",IF(AE12=AG12,"D","L"))) | AK12: 18 | AL12: Sat | AM12: =IFERROR(INDIRECT("fixtures!" & Dashboard!J1 &81) - Dashboard!K1/24,"TBC") -> 45948.625 | AO12: West Ham | AP12: A | AQ12: =IF(ISBLANK(fixtures!$L81),"",fixtures!$L81) | AR12: =IF(ISBLANK(fixtures!$L81),"",":") | AS12: =IF(ISBLANK(fixtures!$K81),"",fixtures!$K81) | AT12: =IF(ISBLANK(fixtures!$L81),"",IF(AQ12>AS12,"W",IF(AQ12=AS12,"D","L"))) | AW12: 18 | AX12: Sat | AY12: =IFERROR(INDIRECT("fixtures!" & Dashboard!J1 &72) - Dashboard!K1/24,"TBC") -> 45948.625 | BA12: Newcastle | BB12: H | BC12: =IF(ISBLANK(fixtures!$K72),"",fixtures!$K72) | BD12: =IF(ISBLANK(fixtures!$L72),"",":") | BE12: =IF(ISBLANK(fixtures!$L72),"",fixtures!$L72) | BF12: =IF(ISBLANK(fixtures!$L72),"",IF(BC12>BE12,"W",IF(BC12=BE12,"D","L"))) | BI12: 18 | BJ12: Sat | BK12: =IFERROR(INDIRECT("fixtures!" & Dashboard!J1 &73) - Dashboard!K1/24,"TBC") -> 45948.625 | BM12: Leeds Utd | BN12: H | BO12: =IF(ISBLANK(fixtures!$K73),"",fixtures!$K73) | BP12: =IF(ISBLANK(fixtures!$L73),"",":") | BQ12: =IF(ISBLANK(fixtures!$L73),"",fixtures!$L73) | BR12: =IF(ISBLANK(fixtures!$L73),"",IF(BO12>BQ12,"W",IF(BO12=BQ12,"D","L"))) | BU12: 18 | BV12: Sat | BW12: =IFERROR(INDIRECT("fixtures!" & Dashboard!J1 &78) - Dashboard!K1/24,"TBC") -> 45948.625 | BY12: Nott'm Forest | BZ12: A | CA12: =IF(ISBLANK(fixtures!$L78),"",fixtures!$L78) | CB12: =IF(ISBLANK(fixtures!$L78),"",":") | CC12: =IF(ISBLANK(fixtures!$K78),"",fixtures!$K78) | CD12: =IF(ISBLANK(fixtures!$L78),"",IF(CA12>CC12,"W",IF(CA12=CC12,"D","L"))) | CG12: 18 | CH12: Sat | CI12: =IFERROR(INDIRECT("fixtures!" & Dashboard!J1 &74) - Dashboard!K1/24,"TBC") -> 45948.625 | CK12: Bournemouth | CL12: H | CM12: =IF(ISBLANK(fixtures!$K74),"",fixtures!$K74) | CN12: =IF(ISBLANK(fixtures!$L74),"",":") | CO12: =IF(ISBLANK(fixtures!$L74),"",fixtures!$L74) | CP12: =IF(ISBLANK(fixtures!$L74),"",IF(CM12>CO12,"W",IF(CM12=CO12,"D","L"))) | CS12: 18 | CT12: Sat | CU12: =IFERROR(INDIRECT("fixtures!" & Dashboard!J1 &77) - Dashboard!K1/24,"TBC") -> 45948.625 | CW12: Man City | CX12: A | CY12: =IF(ISBLANK(fixtures!$L77),"",fixtures!$L77) | CZ12: =IF(ISBLANK(fixtures!$L77),"",":") | DA12: =IF(ISBLANK(fixtures!$K77),"",fixtures!$K77) | DB12: =IF(ISBLANK(fixtures!$L77),"",IF(CY12>DA12,"W",IF(CY12=DA12,"D","L"))) | DE12: 18 | DF12: Sat | DG12: =IFERROR(INDIRECT("fixtures!" & Dashboard!J1 &75) - Dashboard!K1/24,"TBC") -> 45948.625 | DI12: Arsenal | DJ12: H | DK12: =IF(ISBLANK(fixtures!$K75),"",fixtures!$K75) | DL12: =IF(ISBLANK(fixtures!$L75),"",":") | DM12: =IF(ISBLANK(fixtures!$L75),"",fixtures!$L75) | DN12: =IF(ISBLANK(fixtures!$L75),"",IF(DK12>DM12,"W",IF(DK12=DM12,"D","L"))) | DQ12: 18 | DR12: Sat | DS12: =IFERROR(INDIRECT("fixtures!" & Dashboard!J1 &73) - Dashboard!K1/24,"TBC") -> 45948.625 | DU12: Burnley | DV12: A | DW12: =IF(ISBLANK(fixtures!$L73),"",fixtures!$L73) | DX12: =IF(ISBLANK(fixtures!$L73),"",":") | DY12: =IF(ISBLANK(fixtures!$K73),"",fixtures!$K73) | DZ12: =IF(ISBLANK(fixtures!$L73),"",IF(DW12>DY12,"W",IF(DW12=DY12,"D","L"))) | EC12: 18 | ED12: Sat | EE12: =IFERROR(INDIRECT("fixtures!" & Dashboard!J1 &76) - Dashboard!K1/24,"TBC") -> 45948.625 | EG12: Man Utd | EH12: H | EI12: =IF(ISBLANK(fixtures!$K76),"",fixtures!$K76) | EJ12: =IF(ISBLANK(fixtures!$L76),"",":") | EK12: =IF(ISBLANK(fixtures!$L76),"",fixtures!$L76) | EL12: =IF(ISBLANK(fixtures!$L76),"",IF(EI12>EK12,"W",IF(EI12=EK12,"D","L"))) | EO12: 18 | EP12: Sat | EQ12: =IFERROR(INDIRECT("fixtures!" & Dashboard!J1 &77) - Dashboard!K1/24,"TBC") -> 45948.625 | ES12: Everton | ET12: H | EU12: =IF(ISBLANK(fixtures!$K77),"",fixtures!$K77) | EV12: =IF(ISBLANK(fixtures!$L77),"",":") | EW12: =IF(ISBLANK(fixtures!$L77),"",fixtures!$L77) | EX12: =IF(ISBLANK(fixtures!$L77),"",IF(EU12>EW12,"W",IF(EU12=EW12,"D","L"))) | FA12: 18 | FB12: Sat | FC12: =IFERROR(INDIRECT("fixtures!" & Dashboard!J1 &76) - Dashboard!K1/24,"TBC") -> 45948.625 | FE12: Liverpool | FF12: A | FG12: =IF(ISBLANK(fixtures!$L76),"",fixtures!$L76) | FH12: =IF(ISBLANK(fixtures!$L76),"",":") | FI12: =IF(ISBLANK(fixtures!$K76),"",fixtures!$K76) | FJ12: =IF(ISBLANK(fixtures!$L76),"",IF(FG12>FI12,"W",IF(FG12=FI12,"D","L"))) | FM12: 18 | FN12: Sat | FO12: =IFERROR(INDIRECT("fixtures!" & Dashboard!J1 &72) - Dashboard!K1/24,"TBC") -> 45948.625 | FQ12: Brighton | FR12: A | FS12: =IF(ISBLANK(fixtures!$L72),"",fixtures!$L72) | FT12: =IF(ISBLANK(fixtures!$L72),"",":") | FU12: =IF(ISBLANK(fixtures!$K72),"",fixtures!$K72) | FV12: =IF(ISBLANK(fixtures!$L72),"",IF(FS12>FU12,"W",IF(FS12=FU12,"D","L"))) | FY12: 18 | FZ12: Sat | GA12: =IFERROR(INDIRECT("fixtures!" & Dashboard!J1 &78) - Dashboard!K1/24,"TBC") -> 45948.625 | GC12: Chelsea | GD12: H | GE12: =IF(ISBLANK(fixtures!$K78),"",fixtures!$K78) | GF12: =IF(ISBLANK(fixtures!$L78),"",":") | GG12: =IF(ISBLANK(fixtures!$L78),"",fixtures!$L78) | GH12: =IF(ISBLANK(fixtures!$L78),"",IF(GE12>GG12,"W",IF(GE12=GG12,"D","L"))) | GK12: 18 | GL12: Sat | GM12: =IFERROR(INDIRECT("fixtures!" & Dashboard!J1 &79) - Dashboard!K1/24,"TBC") -> 45948.625 | GO12: Aston Villa | GP12: H | GQ12: =IF(ISBLANK(fixtures!$K79),"",fixtures!$K79) | GR12: =IF(ISBLANK(fixtures!$L79),"",":") | GS12: =IF(ISBLANK(fixtures!$L79),"",fixtures!$L79) | GT12: =IF(ISBLANK(fixtures!$L79),"",IF(GQ12>GS12,"W",IF(GQ12=GS12,"D","L"))) | GW12: 18 | GX12: Sat | GY12: =IFERROR(INDIRECT("fixtures!" & Dashboard!J1 &80) - Dashboard!K1/24,"TBC") -> 45948.625 | HA12: Wolves | HB12: H | HC12: =IF(ISBLANK(fixtures!$K80),"",fixtures!$K80) | HD12: =IF(ISBLANK(fixtures!$L80),"",":") | HE12: =IF(ISBLANK(fixtures!$L80),"",fixtures!$L80) | HF12: =IF(ISBLANK(fixtures!$L80),"",IF(HC12>HE12,"W",IF(HC12=HE12,"D","L"))) | HI12: 18 | HJ12: Sat | HK12: =IFERROR(INDIRECT("fixtures!" & Dashboard!J1 &81) - Dashboard!K1/24,"TBC") -> 45948.625 | HM12: Brentford | HN12: H | HO12: =IF(ISBLANK(fixtures!$K81),"",fixtures!$K81) | HP12: =IF(ISBLANK(fixtures!$L81),"",":") | HQ12: =IF(ISBLANK(fixtures!$L81),"",fixtures!$L81) | HR12: =IF(ISBLANK(fixtures!$L81),"",IF(HO12>HQ12,"W",IF(HO12=HQ12,"D","L"))) | HU12: 18 | HV12: Sat | HW12: =IFERROR(INDIRECT("fixtures!" & Dashboard!J1 &80) - Dashboard!K1/24,"TBC") -> 45948.625 | HY12: Sunderland | HZ12: A | IA12: =IF(ISBLANK(fixtures!$L80),"",fixtures!$L80) | IB12: =IF(ISBLANK(fixtures!$L80),"",":") | IC12: =IF(ISBLANK(fixtures!$K80),"",fixtures!$K80) | ID12: =IF(ISBLANK(fixtures!$L80),"",IF(IA12>IC12,"W",IF(IA12=IC12,"D","L")))
A13: 25 | B13: Sat | C13: =IFERROR(INDIRECT("fixtures!" & Dashboard!J1 &82) - Dashboard!K1/24,"TBC") -> 45955.625 | E13: Crystal Palace | F13: H | G13: =IF(ISBLANK(fixtures!$K82),"",fixtures!$K82) | H13: =IF(ISBLANK(fixtures!$L82),"",":") | I13: =IF(ISBLANK(fixtures!$L82),"",fixtures!$L82) | J13: =IF(ISBLANK(fixtures!$L82),"",IF(G13>I13,"W",IF(G13=I13,"D","L"))) | M13: 25 | N13: Sat | O13: =IFERROR(INDIRECT("fixtures!" & Dashboard!J1 &83) - Dashboard!K1/24,"TBC") -> 45955.625 | Q13: Man City | R13: H | S13: =IF(ISBLANK(fixtures!$K83),"",fixtures!$K83) | T13: =IF(ISBLANK(fixtures!$L83),"",":") | U13: =IF(ISBLANK(fixtures!$L83),"",fixtures!$L83) | V13: =IF(ISBLANK(fixtures!$L83),"",IF(S13>U13,"W",IF(S13=U13,"D","L"))) | Y13: 25 | Z13: Sat | AA13: =IFERROR(INDIRECT("fixtures!" & Dashboard!J1 &84) - Dashboard!K1/24,"TBC") -> 45955.625 | AC13: Nott'm Forest | AD13: H | AE13: =IF(ISBLANK(fixtures!$K84),"",fixtures!$K84) | AF13: =IF(ISBLANK(fixtures!$L84),"",":") | AG13: =IF(ISBLANK(fixtures!$L84),"",fixtures!$L84) | AH13: =IF(ISBLANK(fixtures!$L84),"",IF(AE13>AG13,"W",IF(AE13=AG13,"D","L"))) | AK13: 25 | AL13: Sat | AM13: =IFERROR(INDIRECT("fixtures!" & Dashboard!J1 &85) - Dashboard!K1/24,"TBC") -> 45955.625 | AO13: Liverpool | AP13: H | AQ13: =IF(ISBLANK(fixtures!$K85),"",fixtures!$K85) | AR13: =IF(ISBLANK(fixtures!$L85),"",":") | AS13: =IF(ISBLANK(fixtures!$L85),"",fixtures!$L85) | AT13: =IF(ISBLANK(fixtures!$L85),"",IF(AQ13>AS13,"W",IF(AQ13=AS13,"D","L"))) | AW13: 25 | AX13: Sat | AY13: =IFERROR(INDIRECT("fixtures!" & Dashboard!J1 &89) - Dashboard!K1/24,"TBC") -> 45955.625 | BA13: Man Utd | BB13: A | BC13: =IF(ISBLANK(fixtures!$L89),"",fixtures!$L89) | BD13: =IF(ISBLANK(fixtures!$L89),"",":") | BE13: =IF(ISBLANK(fixtures!$K89),"",fixtures!$K89) | BF13: =IF(ISBLANK(fixtures!$L89),"",IF(BC13>BE13,"W",IF(BC13=BE13,"D","L"))) | BI13: 25 | BJ13: Sat | BK13: =IFERROR(INDIRECT("fixtures!" & Dashboard!J1 &91) - Dashboard!K1/24,"TBC") -> 45955.625 | BM13: Wolves | BN13: A | BO13: =IF(ISBLANK(fixtures!$L91),"",fixtures!$L91) | BP13: =IF(ISBLANK(fixtures!$L91),"",":") | BQ13: =IF(ISBLANK(fixtures!$K91),"",fixtures!$K91) | BR13: =IF(ISBLANK(fixtures!$L91),"",IF(BO13>BQ13,"W",IF(BO13=BQ13,"D","L"))) | BU13: 25 | BV13: Sat | BW13: =IFERROR(INDIRECT("fixtures!" & Dashboard!J1 &86) - Dashboard!K1/24,"TBC") -> 45955.625 | BY13: Sunderland | BZ13: H | CA13: =IF(ISBLANK(fixtures!$K86),"",fixtures!$K86) | CB13: =IF(ISBLANK(fixtures!$L86),"",":") | CC13: =IF(ISBLANK(fixtures!$L86),"",fixtures!$L86) | CD13: =IF(ISBLANK(fixtures!$L86),"",IF(CA13>CC13,"W",IF(CA13=CC13,"D","L"))) | CG13: 25 | CH13: Sat | CI13: =IFERROR(INDIRECT("fixtures!" & Dashboard!J1 &82) - Dashboard!K1/24,"TBC") -> 45955.625 | CK13: Arsenal | CL13: A | CM13: =IF(ISBLANK(fixtures!$L82),"",fixtures!$L82) | CN13: =IF(ISBLANK(fixtures!$L82),"",":") | CO13: =IF(ISBLANK(fixtures!$K82),"",fixtures!$K82) | CP13: =IF(ISBLANK(fixtures!$L82),"",IF(CM13>CO13,"W",IF(CM13=CO13,"D","L"))) | CS13: 25 | CT13: Sat | CU13: =IFERROR(INDIRECT("fixtures!" & Dashboard!J1 &87) - Dashboard!K1/24,"TBC") -> 45955.625 | CW13: Spurs | CX13: H | CY13: =IF(ISBLANK(fixtures!$K87),"",fixtures!$K87) | CZ13: =IF(ISBLANK(fixtures!$L87),"",":") | DA13: =IF(ISBLANK(fixtures!$L87),"",fixtures!$L87) | DB13: =IF(ISBLANK(fixtures!$L87),"",IF(CY13>DA13,"W",IF(CY13=DA13,"D","L"))) | DE13: 25 | DF13: Sat | DG13: =IFERROR(INDIRECT("fixtures!" & Dashboard!J1 &90) - Dashboard!K1/24,"TBC") -> 45955.625 | DI13: Newcastle | DJ13: A | DK13: =IF(ISBLANK(fixtures!$L90),"",fixtures!$L90) | DL13: =IF(ISBLANK(fixtures!$L90),"",":") | DM13: =IF(ISBLANK(fixtures!$K90),"",fixtures!$K90) | DN13: =IF(ISBLANK(fixtures!$L90),"",IF(DK13>DM13,"W",IF(DK13=DM13,"D","L"))) | DQ13: 25 | DR13: Sat | DS13: =IFERROR(INDIRECT("fixtures!" & Dashboard!J1 &88) - Dashboard!K1/24,"TBC") -> 45955.625 | DU13: West Ham | DV13: H | DW13: =IF(ISBLANK(fixtures!$K88),"",fixtures!$K88) | DX13: =IF(ISBLANK(fixtures!$L88),"",":") | DY13: =IF(ISBLANK(fixtures!$L88),"",fixtures!$L88) | DZ13: =IF(ISBLANK(fixtures!$L88),"",IF(DW13>DY13,"W",IF(DW13=DY13,"D","L"))) | EC13: 25 | ED13: Sat | EE13: =IFERROR(INDIRECT("fixtures!" & Dashboard!J1 &85) - Dashboard!K1/24,"TBC") -> 45955.625 | EG13: Brentford | EH13: A | EI13: =IF(ISBLANK(fixtures!$L85),"",fixtures!$L85) | EJ13: =IF(ISBLANK(fixtures!$L85),"",":") | EK13: =IF(ISBLANK(fixtures!$K85),"",fixtures!$K85) | EL13: =IF(ISBLANK(fixtures!$L85),"",IF(EI13>EK13,"W",IF(EI13=EK13,"D","L"))) | EO13: 25 | EP13: Sat | EQ13: =IFERROR(INDIRECT("fixtures!" & Dashboard!J1 &83) - Dashboard!K1/24,"TBC") -> 45955.625 | ES13: Aston Villa | ET13: A | EU13: =IF(ISBLANK(fixtures!$L83),"",fixtures!$L83) | EV13: =IF(ISBLANK(fixtures!$L83),"",":") | EW13: =IF(ISBLANK(fixtures!$K83),"",fixtures!$K83) | EX13: =IF(ISBLANK(fixtures!$L83),"",IF(EU13>EW13,"W",IF(EU13=EW13,"D","L"))) | FA13: 25 | FB13: Sat | FC13: =IFERROR(INDIRECT("fixtures!" & Dashboard!J1 &89) - Dashboard!K1/24,"TBC") -> 45955.625 | FE13: Brighton | FF13: H | FG13: =IF(ISBLANK(fixtures!$K89),"",fixtures!$K89) | FH13: =IF(ISBLANK(fixtures!$L89),"",":") | FI13: =IF(ISBLANK(fixtures!$L89),"",fixtures!$L89) | FJ13: =IF(ISBLANK(fixtures!$L89),"",IF(FG13>FI13,"W",IF(FG13=FI13,"D","L"))) | FM13: 25 | FN13: Sat | FO13: =IFERROR(INDIRECT("fixtures!" & Dashboard!J1 &90) - Dashboard!K1/24,"TBC") -> 45955.625 | FQ13: Fulham | FR13: H | FS13: =IF(ISBLANK(fixtures!$K90),"",fixtures!$K90) | FT13: =IF(ISBLANK(fixtures!$L90),"",":") | FU13: =IF(ISBLANK(fixtures!$L90),"",fixtures!$L90) | FV13: =IF(ISBLANK(fixtures!$L90),"",IF(FS13>FU13,"W",IF(FS13=FU13,"D","L"))) | FY13: 25 | FZ13: Sat | GA13: =IFERROR(INDIRECT("fixtures!" & Dashboard!J1 &84) - Dashboard!K1/24,"TBC") -> 45955.625 | GC13: Bournemouth | GD13: A | GE13: =IF(ISBLANK(fixtures!$L84),"",fixtures!$L84) | GF13: =IF(ISBLANK(fixtures!$L84),"",":") | GG13: =IF(ISBLANK(fixtures!$K84),"",fixtures!$K84) | GH13: =IF(ISBLANK(fixtures!$L84),"",IF(GE13>GG13,"W",IF(GE13=GG13,"D","L"))) | GK13: 25 | GL13: Sat | GM13: =IFERROR(INDIRECT("fixtures!" & Dashboard!J1 &87) - Dashboard!K1/24,"TBC") -> 45955.625 | GO13: Everton | GP13: A | GQ13: =IF(ISBLANK(fixtures!$L87),"",fixtures!$L87) | GR13: =IF(ISBLANK(fixtures!$L87),"",":") | GS13: =IF(ISBLANK(fixtures!$K87),"",fixtures!$K87) | GT13: =IF(ISBLANK(fixtures!$L87),"",IF(GQ13>GS13,"W",IF(GQ13=GS13,"D","L"))) | GW13: 25 | GX13: Sat | GY13: =IFERROR(INDIRECT("fixtures!" & Dashboard!J1 &86) - Dashboard!K1/24,"TBC") -> 45955.625 | HA13: Chelsea | HB13: A | HC13: =IF(ISBLANK(fixtures!$L86),"",fixtures!$L86) | HD13: =IF(ISBLANK(fixtures!$L86),"",":") | HE13: =IF(ISBLANK(fixtures!$K86),"",fixtures!$K86) | HF13: =IF(ISBLANK(fixtures!$L86),"",IF(HC13>HE13,"W",IF(HC13=HE13,"D","L"))) | HI13: 25 | HJ13: Sat | HK13: =IFERROR(INDIRECT("fixtures!" & Dashboard!J1 &88) - Dashboard!K1/24,"TBC") -> 45955.625 | HM13: Leeds Utd | HN13: A | HO13: =IF(ISBLANK(fixtures!$L88),"",fixtures!$L88) | HP13: =IF(ISBLANK(fixtures!$L88),"",":") | HQ13: =IF(ISBLANK(fixtures!$K88),"",fixtures!$K88) | HR13: =IF(ISBLANK(fixtures!$L88),"",IF(HO13>HQ13,"W",IF(HO13=HQ13,"D","L"))) | HU13: 25 | HV13: Sat | HW13: =IFERROR(INDIRECT("fixtures!" & Dashboard!J1 &91) - Dashboard!K1/24,"TBC") -> 45955.625 | HY13: Burnley | HZ13: H | IA13: =IF(ISBLANK(fixtures!$K91),"",fixtures!$K91) | IB13: =IF(ISBLANK(fixtures!$L91),"",":") | IC13: =IF(ISBLANK(fixtures!$L91),"",fixtures!$L91) | ID13: =IF(ISBLANK(fixtures!$L91),"",IF(IA13>IC13,"W",IF(IA13=IC13,"D","L")))
A14: November | M14: November | Y14: November | AK14: November | AW14: November | BI14: November | BU14: November | CG14: November | CS14: November | DE14: November | DQ14: November | EC14: November | EO14: November | FA14: November | FM14: November | FY14: November | GK14: November | GW14: November | HI14: November | HU14: November
A15: 1 | B15: Sat | C15: =IFERROR(INDIRECT("fixtures!" & Dashboard!J1 &93) - Dashboard!K1/24,"TBC") -> 45962.625 | E15: Burnley | F15: A | G15: =IF(ISBLANK(fixtures!$L93),"",fixtures!$L93) | H15: =IF(ISBLANK(fixtures!$L93),"",":") | I15: =IF(ISBLANK(fixtures!$K93),"",fixtures!$K93) | J15: =IF(ISBLANK(fixtures!$L93),"",IF(G15>I15,"W",IF(G15=I15,"D","L"))) | M15: 1 | N15: Sat | O15: =IFERROR(INDIRECT("fixtures!" & Dashboard!J1 &96) - Dashboard!K1/24,"TBC") -> 45962.625 | Q15: Liverpool | R15: A | S15: =IF(ISBLANK(fixtures!$L96),"",fixtures!$L96) | T15: =IF(ISBLANK(fixtures!$L96),"",":") | U15: =IF(ISBLANK(fixtures!$K96),"",fixtures!$K96) | V15: =IF(ISBLANK(fixtures!$L96),"",IF(S15>U15,"W",IF(S15=U15,"D","L"))) | Y15: 1 | Z15: Sat | AA15: =IFERROR(INDIRECT("fixtures!" & Dashboard!J1 &97) - Dashboard!K1/24,"TBC") -> 45962.625 | AC15: Man City | AD15: A | AE15: =IF(ISBLANK(fixtures!$L97),"",fixtures!$L97) | AF15: =IF(ISBLANK(fixtures!$L97),"",":") | AG15: =IF(ISBLANK(fixtures!$K97),"",fixtures!$K97) | AH15: =IF(ISBLANK(fixtures!$L97),"",IF(AE15>AG15,"W",IF(AE15=AG15,"D","L"))) | AK15: 1 | AL15: Sat | AM15: =IFERROR(INDIRECT("fixtures!" & Dashboard!J1 &94) - Dashboard!K1/24,"TBC") -> 45962.625 | AO15: Crystal Palace | AP15: A | AQ15: =IF(ISBLANK(fixtures!$L94),"",fixtures!$L94) | AR15: =IF(ISBLANK(fixtures!$L94),"",":") | AS15: =IF(ISBLANK(fixtures!$K94),"",fixtures!$K94) | AT15: =IF(ISBLANK(fixtures!$L94),"",IF(AQ15>AS15,"W",IF(AQ15=AS15,"D","L"))) | AW15: 1 | AX15: Sat | AY15: =IFERROR(INDIRECT("fixtures!" & Dashboard!J1 &92) - Dashboard!K1/24,"TBC") -> 45962.625 | BA15: Leeds Utd | BB15: H | BC15: =IF(ISBLANK(fixtures!$K92),"",fixtures!$K92) | BD15: =IF(ISBLANK(fixtures!$L92),"",":") | BE15: =IF(ISBLANK(fixtures!$L92),"",fixtures!$L92) | BF15: =IF(ISBLANK(fixtures!$L92),"",IF(BC15>BE15,"W",IF(BC15=BE15,"D","L"))) | BI15: 1 | BJ15: Sat | BK15: =IFERROR(INDIRECT("fixtures!" & Dashboard!J1 &93) - Dashboard!K1/24,"TBC") -> 45962.625 | BM15: Arsenal | BN15: H | BO15: =IF(ISBLANK(fixtures!$K93),"",fixtures!$K93) | BP15: =IF(ISBLANK(fixtures!$L93),"",":") | BQ15: =IF(ISBLANK(fixtures!$L93),"",fixtures!$L93) | BR15: =IF(ISBLANK(fixtures!$L93),"",IF(BO15>BQ15,"W",IF(BO15=BQ15,"D","L"))) | BU15: 1 | BV15: Sat | BW15: =IFERROR(INDIRECT("fixtures!" & Dashboard!J1 &99) - Dashboard!K1/24,"TBC") -> 45962.625 | BY15: Spurs | BZ15: A | CA15: =IF(ISBLANK(fixtures!$L99),"",fixtures!$L99) | CB15: =IF(ISBLANK(fixtures!$L99),"",":") | CC15: =IF(ISBLANK(fixtures!$K99),"",fixtures!$K99) | CD15: =IF(ISBLANK(fixtures!$L99),"",IF(CA15>CC15,"W",IF(CA15=CC15,"D","L"))) | CG15: 1 | CH15: Sat | CI15: =IFERROR(INDIRECT("fixtures!" & Dashboard!J1 &94) - Dashboard!K1/24,"TBC") -> 45962.625 | CK15: Brentford | CL15: H | CM15: =IF(ISBLANK(fixtures!$K94),"",fixtures!$K94) | CN15: =IF(ISBLANK(fixtures!$L94),"",":") | CO15: =IF(ISBLANK(fixtures!$L94),"",fixtures!$L94) | CP15: =IF(ISBLANK(fixtures!$L94),"",IF(CM15>CO15,"W",IF(CM15=CO15,"D","L"))) | CS15: 1 | CT15: Sat | CU15: =IFERROR(INDIRECT("fixtures!" & Dashboard!J1 &100) - Dashboard!K1/24,"TBC") -> 45962.625 | CW15: Sunderland | CX15: A | CY15: =IF(ISBLANK(fixtures!$L100),"",fixtures!$L100) | CZ15: =IF(ISBLANK(fixtures!$L100),"",":") | DA15: =IF(ISBLANK(fixtures!$K100),"",fixtures!$K100) | DB15: =IF(ISBLANK(fixtures!$L100),"",IF(CY15>DA15,"W",IF(CY15=DA15,"D","L"))) | DE15: 1 | DF15: Sat | DG15: =IFERROR(INDIRECT("fixtures!" & Dashboard!J1 &95) - Dashboard!K1/24,"TBC") -> 45962.625 | DI15: Wolves | DJ15: H | DK15: =IF(ISBLANK(fixtures!$K95),"",fixtures!$K95) | DL15: =IF(ISBLANK(fixtures!$L95),"",":") | DM15: =IF(ISBLANK(fixtures!$L95),"",fixtures!$L95) | DN15: =IF(ISBLANK(fixtures!$L95),"",IF(DK15>DM15,"W",IF(DK15=DM15,"D","L"))) | DQ15: 1 | DR15: Sat | DS15: =IFERROR(INDIRECT("fixtures!" & Dashboard!J1 &92) - Dashboard!K1/24,"TBC") -> 45962.625 | DU15: Brighton | DV15: A | DW15: =IF(ISBLANK(fixtures!$L92),"",fixtures!$L92) | DX15: =IF(ISBLANK(fixtures!$L92),"",":") | DY15: =IF(ISBLANK(fixtures!$K92),"",fixtures!$K92) | DZ15: =IF(ISBLANK(fixtures!$L92),"",IF(DW15>DY15,"W",IF(DW15=DY15,"D","L"))) | EC15: 1 | ED15: Sat | EE15: =IFERROR(INDIRECT("fixtures!" & Dashboard!J1 &96) - Dashboard!K1/24,"TBC") -> 45962.625 | EG15: Aston Villa | EH15: H | EI15: =IF(ISBLANK(fixtures!$K96),"",fixtures!$K96) | EJ15: =IF(ISBLANK(fixtures!$L96),"",":") | EK15: =IF(ISBLANK(fixtures!$L96),"",fixtures!$L96) | EL15: =IF(ISBLANK(fixtures!$L96),"",IF(EI15>EK15,"W",IF(EI15=EK15,"D","L"))) | EO15: 1 | EP15: Sat | EQ15: =IFERROR(INDIRECT("fixtures!" & Dashboard!J1 &97) - Dashboard!K1/24,"TBC") -> 45962.625 | ES15: Bournemouth | ET15: H | EU15: =IF(ISBLANK(fixtures!$K97),"",fixtures!$K97) | EV15: =IF(ISBLANK(fixtures!$L97),"",":") | EW15: =IF(ISBLANK(fixtures!$L97),"",fixtures!$L97) | EX15: =IF(ISBLANK(fixtures!$L97),"",IF(EU15>EW15,"W",IF(EU15=EW15,"D","L"))) | FA15: 1 | FB15: Sat | FC15: =IFERROR(INDIRECT("fixtures!" & Dashboard!J1 &98) - Dashboard!K1/24,"TBC") -> 45962.625 | FE15: Nott'm Forest | FF15: A | FG15: =IF(ISBLANK(fixtures!$L98),"",fixtures!$L98) | FH15: =IF(ISBLANK(fixtures!$L98),"",":") | FI15: =IF(ISBLANK(fixtures!$K98),"",fixtures!$K98) | FJ15: =IF(ISBLANK(fixtures!$L98),"",IF(FG15>FI15,"W",IF(FG15=FI15,"D","L"))) | FM15: 1 | FN15: Sat | FO15: =IFERROR(INDIRECT("fixtures!" & Dashboard!J1 &101) - Dashboard!K1/24,"TBC") -> 45962.625 | FQ15: West Ham | FR15: A | FS15: =IF(ISBLANK(fixtures!$L101),"",fixtures!$L101) | FT15: =IF(ISBLANK(fixtures!$L101),"",":") | FU15: =IF(ISBLANK(fixtures!$K101),"",fixtures!$K101) | FV15: =IF(ISBLANK(fixtures!$L101),"",IF(FS15>FU15,"W",IF(FS15=FU15,"D","L"))) | FY15: 1 | FZ15: Sat | GA15: =IFERROR(INDIRECT("fixtures!" & Dashboard!J1 &98) - Dashboard!K1/24,"TBC") -> 45962.625 | GC15: Man Utd | GD15: H | GE15: =IF(ISBLANK(fixtures!$K98),"",fixtures!$K98) | GF15: =IF(ISBLANK(fixtures!$L98),"",":") | GG15: =IF(ISBLANK(fixtures!$L98),"",fixtures!$L98) | GH15: =IF(ISBLANK(fixtures!$L98),"",IF(GE15>GG15,"W",IF(GE15=GG15,"D","L"))) | GK15: 1 | GL15: Sat | GM15: =IFERROR(INDIRECT("fixtures!" & Dashboard!J1 &99) - Dashboard!K1/24,"TBC") -> 45962.625 | GO15: Chelsea | GP15: H | GQ15: =IF(ISBLANK(fixtures!$K99),"",fixtures!$K99) | GR15: =IF(ISBLANK(fixtures!$L99),"",":") | GS15: =IF(ISBLANK(fixtures!$L99),"",fixtures!$L99) | GT15: =IF(ISBLANK(fixtures!$L99),"",IF(GQ15>GS15,"W",IF(GQ15=GS15,"D","L"))) | GW15: 1 | GX15: Sat | GY15: =IFERROR(INDIRECT("fixtures!" & Dashboard!J1 &100) - Dashboard!K1/24,"TBC") -> 45962.625 | HA15: Everton | HB15: H | HC15: =IF(ISBLANK(fixtures!$K100),"",fixtures!$K100) | HD15: =IF(ISBLANK(fixtures!$L100),"",":") | HE15: =IF(ISBLANK(fixtures!$L100),"",fixtures!$L100) | HF15: =IF(ISBLANK(fixtures!$L100),"",IF(HC15>HE15,"W",IF(HC15=HE15,"D","L"))) | HI15: 1 | HJ15: Sat | HK15: =IFERROR(INDIRECT("fixtures!" & Dashboard!J1 &101) - Dashboard!K1/24,"TBC") -> 45962.625 | HM15: Newcastle | HN15: H | HO15: =IF(ISBLANK(fixtures!$K101),"",fixtures!$K101) | HP15: =IF(ISBLANK(fixtures!$L101),"",":") | HQ15: =IF(ISBLANK(fixtures!$L101),"",fixtures!$L101) | HR15: =IF(ISBLANK(fixtures!$L101),"",IF(HO15>HQ15,"W",IF(HO15=HQ15,"D","L"))) | HU15: 1 | HV15: Sat | HW15: =IFERROR(INDIRECT("fixtures!" & Dashboard!J1 &95) - Dashboard!K1/24,"TBC") -> 45962.625 | HY15: Fulham | HZ15: A | IA15: =IF(ISBLANK(fixtures!$L95),"",fixtures!$L95) | IB15: =IF(ISBLANK(fixtures!$L95),"",":") | IC15: =IF(ISBLANK(fixtures!$K95),"",fixtures!$K95) | ID15: =IF(ISBLANK(fixtures!$L95),"",IF(IA15>IC15,"W",IF(IA15=IC15,"D","L")))
A16: 8 | B16: Sat | C16: =IFERROR(INDIRECT("fixtures!" & Dashboard!J1 &110) - Dashboard!K1/24,"TBC") -> 45969.625 | E16: Sunderland | F16: A | G16: =IF(ISBLANK(fixtures!$L110),"",fixtures!$L110) | H16: =IF(ISBLANK(fixtures!$L110),"",":") | I16: =IF(ISBLANK(fixtures!$K110),"",fixtures!$K110) | J16: =IF(ISBLANK(fixtures!$L110),"",IF(G16>I16,"W",IF(G16=I16,"D","L"))) | M16: 8 | N16: Sat | O16: =IFERROR(INDIRECT("fixtures!" & Dashboard!J1 &102) - Dashboard!K1/24,"TBC") -> 45969.625 | Q16: Bournemouth | R16: H | S16: =IF(ISBLANK(fixtures!$K102),"",fixtures!$K102) | T16: =IF(ISBLANK(fixtures!$L102),"",":") | U16: =IF(ISBLANK(fixtures!$L102),"",fixtures!$L102) | V16: =IF(ISBLANK(fixtures!$L102),"",IF(S16>U16,"W",IF(S16=U16,"D","L"))) | Y16: 8 | Z16: Sat | AA16: =IFERROR(INDIRECT("fixtures!" & Dashboard!J1 &102) - Dashboard!K1/24,"TBC") -> 45969.625 | AC16: Aston Villa | AD16: A | AE16: =IF(ISBLANK(fixtures!$L102),"",fixtures!$L102) | AF16: =IF(ISBLANK(fixtures!$L102),"",":") | AG16: =IF(ISBLANK(fixtures!$K102),"",fixtures!$K102) | AH16: =IF(ISBLANK(fixtures!$L102),"",IF(AE16>AG16,"W",IF(AE16=AG16,"D","L"))) | AK16: 8 | AL16: Sat | AM16: =IFERROR(INDIRECT("fixtures!" & Dashboard!J1 &103) - Dashboard!K1/24,"TBC") -> 45969.625 | AO16: Newcastle | AP16: H | AQ16: =IF(ISBLANK(fixtures!$K103),"",fixtures!$K103) | AR16: =IF(ISBLANK(fixtures!$L103),"",":") | AS16: =IF(ISBLANK(fixtures!$L103),"",fixtures!$L103) | AT16: =IF(ISBLANK(fixtures!$L103),"",IF(AQ16>AS16,"W",IF(AQ16=AS16,"D","L"))) | AW16: 8 | AX16: Sat | AY16: =IFERROR(INDIRECT("fixtures!" & Dashboard!J1 &105) - Dashboard!K1/24,"TBC") -> 45969.625 | BA16: Crystal Palace | BB16: A | BC16: =IF(ISBLANK(fixtures!$L105),"",fixtures!$L105) | BD16: =IF(ISBLANK(fixtures!$L105),"",":") | BE16: =IF(ISBLANK(fixtures!$K105),"",fixtures!$K105) | BF16: =IF(ISBLANK(fixtures!$L105),"",IF(BC16>BE16,"W",IF(BC16=BE16,"D","L"))) | BI16: 8 | BJ16: Sat | BK16: =IFERROR(INDIRECT("fixtures!" & Dashboard!J1 &111) - Dashboard!K1/24,"TBC") -> 45969.625 | BM16: West Ham | BN16: A | BO16: =IF(ISBLANK(fixtures!$L111),"",fixtures!$L111) | BP16: =IF(ISBLANK(fixtures!$L111),"",":") | BQ16: =IF(ISBLANK(fixtures!$K111),"",fixtures!$K111) | BR16: =IF(ISBLANK(fixtures!$L111),"",IF(BO16>BQ16,"W",IF(BO16=BQ16,"D","L"))) | BU16: 8 | BV16: Sat | BW16: =IFERROR(INDIRECT("fixtures!" & Dashboard!J1 &104) - Dashboard!K1/24,"TBC") -> 45969.625 | BY16: Wolves | BZ16: H | CA16: =IF(ISBLANK(fixtures!$K104),"",fixtures!$K104) | CB16: =IF(ISBLANK(fixtures!$L104),"",":") | CC16: =IF(ISBLANK(fixtures!$L104),"",fixtures!$L104) | CD16: =IF(ISBLANK(fixtures!$L104),"",IF(CA16>CC16,"W",IF(CA16=CC16,"D","L"))) | CG16: 8 | CH16: Sat | CI16: =IFERROR(INDIRECT("fixtures!" & Dashboard!J1 &105) - Dashboard!K1/24,"TBC") -> 45969.625 | CK16: Brighton | CL16: H | CM16: =IF(ISBLANK(fixtures!$K105),"",fixtures!$K105) | CN16: =IF(ISBLANK(fixtures!$L105),"",":") | CO16: =IF(ISBLANK(fixtures!$L105),"",fixtures!$L105) | CP16: =IF(ISBLANK(fixtures!$L105),"",IF(CM16>CO16,"W",IF(CM16=CO16,"D","L"))) | CS16: 8 | CT16: Sat | CU16: =IFERROR(INDIRECT("fixtures!" & Dashboard!J1 &106) - Dashboard!K1/24,"TBC") -> 45969.625 | CW16: Fulham | CX16: H | CY16: =IF(ISBLANK(fixtures!$K106),"",fixtures!$K106) | CZ16: =IF(ISBLANK(fixtures!$L106),"",":") | DA16: =IF(ISBLANK(fixtures!$L106),"",fixtures!$L106) | DB16: =IF(ISBLANK(fixtures!$L106),"",IF(CY16>DA16,"W",IF(CY16=DA16,"D","L"))) | DE16: 8 | DF16: Sat | DG16: =IFERROR(INDIRECT("fixtures!" & Dashboard!J1 &106) - Dashboard!K1/24,"TBC") -> 45969.625 | DI16: Everton | DJ16: A | DK16: =IF(ISBLANK(fixtures!$L106),"",fixtures!$L106) | DL16: =IF(ISBLANK(fixtures!$L106),"",":") | DM16: =IF(ISBLANK(fixtures!$K106),"",fixtures!$K106) | DN16: =IF(ISBLANK(fixtures!$L106),"",IF(DK16>DM16,"W",IF(DK16=DM16,"D","L"))) | DQ16: 8 | DR16: Sat | DS16: =IFERROR(INDIRECT("fixtures!" & Dashboard!J1 &108) - Dashboard!K1/24,"TBC") -> 45969.625 | DU16: Nott'm Forest | DV16: A | DW16: =IF(ISBLANK(fixtures!$L108),"",fixtures!$L108) | DX16: =IF(ISBLANK(fixtures!$L108),"",":") | DY16: =IF(ISBLANK(fixtures!$K108),"",fixtures!$K108) | DZ16: =IF(ISBLANK(fixtures!$L108),"",IF(DW16>DY16,"W",IF(DW16=DY16,"D","L"))) | EC16: 8 | ED16: Sat | EE16: =IFERROR(INDIRECT("fixtures!" & Dashboard!J1 &107) - Dashboard!K1/24,"TBC") -> 45969.625 | EG16: Man City | EH16: A | EI16: =IF(ISBLANK(fixtures!$L107),"",fixtures!$L107) | EJ16: =IF(ISBLANK(fixtures!$L107),"",":") | EK16: =IF(ISBLANK(fixtures!$K107),"",fixtures!$K107) | EL16: =IF(ISBLANK(fixtures!$L107),"",IF(EI16>EK16,"W",IF(EI16=EK16,"D","L"))) | EO16: 8 | EP16: Sat | EQ16: =IFERROR(INDIRECT("fixtures!" & Dashboard!J1 &107) - Dashboard!K1/24,"TBC") -> 45969.625 | ES16: Liverpool | ET16: H | EU16: =IF(ISBLANK(fixtures!$K107),"",fixtures!$K107) | EV16: =IF(ISBLANK(fixtures!$L107),"",":") | EW16: =IF(ISBLANK(fixtures!$L107),"",fixtures!$L107) | EX16: =IF(ISBLANK(fixtures!$L107),"",IF(EU16>EW16,"W",IF(EU16=EW16,"D","L"))) | FA16: 8 | FB16: Sat | FC16: =IFERROR(INDIRECT("fixtures!" & Dashboard!J1 &109) - Dashboard!K1/24,"TBC") -> 45969.625 | FE16: Spurs | FF16: A | FG16: =IF(ISBLANK(fixtures!$L109),"",fixtures!$L109) | FH16: =IF(ISBLANK(fixtures!$L109),"",":") | FI16: =IF(ISBLANK(fixtures!$K109),"",fixtures!$K109) | FJ16: =IF(ISBLANK(fixtures!$L109),"",IF(FG16>FI16,"W",IF(FG16=FI16,"D","L"))) | FM16: 8 | FN16: Sat | FO16: =IFERROR(INDIRECT("fixtures!" & Dashboard!J1 &103) - Dashboard!K1/24,"TBC") -> 45969.625 | FQ16: Brentford | FR16: A | FS16: =IF(ISBLANK(fixtures!$L103),"",fixtures!$L103) | FT16: =IF(ISBLANK(fixtures!$L103),"",":") | FU16: =IF(ISBLANK(fixtures!$K103),"",fixtures!$K103) | FV16: =IF(ISBLANK(fixtures!$L103),"",IF(FS16>FU16,"W",IF(FS16=FU16,"D","L"))) | FY16: 8 | FZ16: Sat | GA16: =IFERROR(INDIRECT("fixtures!" & Dashboard!J1 &108) - Dashboard!K1/24,"TBC") -> 45969.625 | GC16: Leeds Utd | GD16: H | GE16: =IF(ISBLANK(fixtures!$K108),"",fixtures!$K108) | GF16: =IF(ISBLANK(fixtures!$L108),"",":") | GG16: =IF(ISBLANK(fixtures!$L108),"",fixtures!$L108) | GH16: =IF(ISBLANK(fixtures!$L108),"",IF(GE16>GG16,"W",IF(GE16=GG16,"D","L"))) | GK16: 8 | GL16: Sat | GM16: =IFERROR(INDIRECT("fixtures!" & Dashboard!J1 &109) - Dashboard!K1/24,"TBC") -> 45969.625 | GO16: Man Utd | GP16: H | GQ16: =IF(ISBLANK(fixtures!$K109),"",fixtures!$K109) | GR16: =IF(ISBLANK(fixtures!$L109),"",":") | GS16: =IF(ISBLANK(fixtures!$L109),"",fixtures!$L109) | GT16: =IF(ISBLANK(fixtures!$L109),"",IF(GQ16>GS16,"W",IF(GQ16=GS16,"D","L"))) | GW16: 8 | GX16: Sat | GY16: =IFERROR(INDIRECT("fixtures!" & Dashboard!J1 &110) - Dashboard!K1/24,"TBC") -> 45969.625 | HA16: Arsenal | HB16: H | HC16: =IF(ISBLANK(fixtures!$K110),"",fixtures!$K110) | HD16: =IF(ISBLANK(fixtures!$L110),"",":") | HE16: =IF(ISBLANK(fixtures!$L110),"",fixtures!$L110) | HF16: =IF(ISBLANK(fixtures!$L110),"",IF(HC16>HE16,"W",IF(HC16=HE16,"D","L"))) | HI16: 8 | HJ16: Sat | HK16: =IFERROR(INDIRECT("fixtures!" & Dashboard!J1 &111) - Dashboard!K1/24,"TBC") -> 45969.625 | HM16: Burnley | HN16: H | HO16: =IF(ISBLANK(fixtures!$K111),"",fixtures!$K111) | HP16: =IF(ISBLANK(fixtures!$L111),"",":") | HQ16: =IF(ISBLANK(fixtures!$L111),"",fixtures!$L111) | HR16: =IF(ISBLANK(fixtures!$L111),"",IF(HO16>HQ16,"W",IF(HO16=HQ16,"D","L"))) | HU16: 8 | HV16: Sat | HW16: =IFERROR(INDIRECT("fixtures!" & Dashboard!J1 &104) - Dashboard!K1/24,"TBC") -> 45969.625 | HY16: Chelsea | HZ16: A | IA16: =IF(ISBLANK(fixtures!$L104),"",fixtures!$L104) | IB16: =IF(ISBLANK(fixtures!$L104),"",":") | IC16: =IF(ISBLANK(fixtures!$K104),"",fixtures!$K104) | ID16: =IF(ISBLANK(fixtures!$L104),"",IF(IA16>IC16,"W",IF(IA16=IC16,"D","L")))
A17: 22 | B17: Sat | C17: =IFERROR(INDIRECT("fixtures!" & Dashboard!J1 &112) - Dashboard!K1/24,"TBC") -> 45983.625 | E17: Spurs | F17: H | G17: =IF(ISBLANK(fixtures!$K112),"",fixtures!$K112) | H17: =IF(ISBLANK(fixtures!$L112),"",":") | I17: =IF(ISBLANK(fixtures!$L112),"",fixtures!$L112) | J17: =IF(ISBLANK(fixtures!$L112),"",IF(G17>I17,"W",IF(G17=I17,"D","L"))) | M17: 22 | N17: Sat | O17: =IFERROR(INDIRECT("fixtures!" & Dashboard!J1 &117) - Dashboard!K1/24,"TBC") -> 45983.625 | Q17: Leeds Utd | R17: A | S17: =IF(ISBLANK(fixtures!$L117),"",fixtures!$L117) | T17: =IF(ISBLANK(fixtures!$L117),"",":") | U17: =IF(ISBLANK(fixtures!$K117),"",fixtures!$K117) | V17: =IF(ISBLANK(fixtures!$L117),"",IF(S17>U17,"W",IF(S17=U17,"D","L"))) | Y17: 22 | Z17: Sat | AA17: =IFERROR(INDIRECT("fixtures!" & Dashboard!J1 &113) - Dashboard!K1/24,"TBC") -> 45983.625 | AC17: West Ham | AD17: H | AE17: =IF(ISBLANK(fixtures!$K113),"",fixtures!$K113) | AF17: =IF(ISBLANK(fixtures!$L113),"",":") | AG17: =IF(ISBLANK(fixtures!$L113),"",fixtures!$L113) | AH17: =IF(ISBLANK(fixtures!$L113),"",IF(AE17>AG17,"W",IF(AE17=AG17,"D","L"))) | AK17: 22 | AL17: Sat | AM17: =IFERROR(INDIRECT("fixtures!" & Dashboard!J1 &114) - Dashboard!K1/24,"TBC") -> 45983.625 | AO17: Brighton | AP17: A | AQ17: =IF(ISBLANK(fixtures!$L114),"",fixtures!$L114) | AR17: =IF(ISBLANK(fixtures!$L114),"",":") | AS17: =IF(ISBLANK(fixtures!$K114),"",fixtures!$K114) | AT17: =IF(ISBLANK(fixtures!$L114),"",IF(AQ17>AS17,"W",IF(AQ17=AS17,"D","L"))) | AW17: 22 | AX17: Sat | AY17: =IFERROR(INDIRECT("fixtures!" & Dashboard!J1 &114) - Dashboard!K1/24,"TBC") -> 45983.625 | BA17: Brentford | BB17: H | BC17: =IF(ISBLANK(fixtures!$K114),"",fixtures!$K114) | BD17: =IF(ISBLANK(fixtures!$L114),"",":") | BE17: =IF(ISBLANK(fixtures!$L114),"",fixtures!$L114) | BF17: =IF(ISBLANK(fixtures!$L114),"",IF(BC17>BE17,"W",IF(BC17=BE17,"D","L"))) | BI17: 22 | BJ17: Sat | BK17: =IFERROR(INDIRECT("fixtures!" & Dashboard!J1 &115) - Dashboard!K1/24,"TBC") -> 45983.625 | BM17: Chelsea | BN17: H | BO17: =IF(ISBLANK(fixtures!$K115),"",fixtures!$K115) | BP17: =IF(ISBLANK(fixtures!$L115),"",":") | BQ17: =IF(ISBLANK(fixtures!$L115),"",fixtures!$L115) | BR17: =IF(ISBLANK(fixtures!$L115),"",IF(BO17>BQ17,"W",IF(BO17=BQ17,"D","L"))) | BU17: 22 | BV17: Sat | BW17: =IFERROR(INDIRECT("fixtures!" & Dashboard!J1 &115) - Dashboard!K1/24,"TBC") -> 45983.625 | BY17: Burnley | BZ17: A | CA17: =IF(ISBLANK(fixtures!$L115),"",fixtures!$L115) | CB17: =IF(ISBLANK(fixtures!$L115),"",":") | CC17: =IF(ISBLANK(fixtures!$K115),"",fixtures!$K115) | CD17: =IF(ISBLANK(fixtures!$L115),"",IF(CA17>CC17,"W",IF(CA17=CC17,"D","L"))) | CG17: 22 | CH17: Sat | CI17: =IFERROR(INDIRECT("fixtures!" & Dashboard!J1 &121) - Dashboard!K1/24,"TBC") -> 45983.625 | CK17: Wolves | CL17: A | CM17: =IF(ISBLANK(fixtures!$L121),"",fixtures!$L121) | CN17: =IF(ISBLANK(fixtures!$L121),"",":") | CO17: =IF(ISBLANK(fixtures!$K121),"",fixtures!$K121) | CP17: =IF(ISBLANK(fixtures!$L121),"",IF(CM17>CO17,"W",IF(CM17=CO17,"D","L"))) | CS17: 22 | CT17: Sat | CU17: =IFERROR(INDIRECT("fixtures!" & Dashboard!J1 &119) - Dashboard!K1/24,"TBC") -> 45983.625 | CW17: Man Utd | CX17: A | CY17: =IF(ISBLANK(fixtures!$L119),"",fixtures!$L119) | CZ17: =IF(ISBLANK(fixtures!$L119),"",":") | DA17: =IF(ISBLANK(fixtures!$K119),"",fixtures!$K119) | DB17: =IF(ISBLANK(fixtures!$L119),"",IF(CY17>DA17,"W",IF(CY17=DA17,"D","L"))) | DE17: 22 | DF17: Sat | DG17: =IFERROR(INDIRECT("fixtures!" & Dashboard!J1 &116) - Dashboard!K1/24,"TBC") -> 45983.625 | DI17: Sunderland | DJ17: H | DK17: =IF(ISBLANK(fixtures!$K116),"",fixtures!$K116) | DL17: =IF(ISBLANK(fixtures!$L116),"",":") | DM17: =IF(ISBLANK(fixtures!$L116),"",fixtures!$L116) | DN17: =IF(ISBLANK(fixtures!$L116),"",IF(DK17>DM17,"W",IF(DK17=DM17,"D","L"))) | DQ17: 22 | DR17: Sat | DS17: =IFERROR(INDIRECT("fixtures!" & Dashboard!J1 &117) - Dashboard!K1/24,"TBC") -> 45983.625 | DU17: Aston Villa | DV17: H | DW17: =IF(ISBLANK(fixtures!$K117),"",fixtures!$K117) | DX17: =IF(ISBLANK(fixtures!$L117),"",":") | DY17: =IF(ISBLANK(fixtures!$L117),"",fixtures!$L117) | DZ17: =IF(ISBLANK(fixtures!$L117),"",IF(DW17>DY17,"W",IF(DW17=DY17,"D","L"))) | EC17: 22 | ED17: Sat | EE17: =IFERROR(INDIRECT("fixtures!" & Dashboard!J1 &118) - Dashboard!K1/24,"TBC") -> 45983.625 | EG17: Nott'm Forest | EH17: H | EI17: =IF(ISBLANK(fixtures!$K118),"",fixtures!$K118) | EJ17: =IF(ISBLANK(fixtures!$L118),"",":") | EK17: =IF(ISBLANK(fixtures!$L118),"",fixtures!$L118) | EL17: =IF(ISBLANK(fixtures!$L118),"",IF(EI17>EK17,"W",IF(EI17=EK17,"D","L"))) | EO17: 22 | EP17: Sat | EQ17: =IFERROR(INDIRECT("fixtures!" & Dashboard!J1 &120) - Dashboard!K1/24,"TBC") -> 45983.625 | ES17: Newcastle | ET17: A | EU17: =IF(ISBLANK(fixtures!$L120),"",fixtures!$L120) | EV17: =IF(ISBLANK(fixtures!$L120),"",":") | EW17: =IF(ISBLANK(fixtures!$K120),"",fixtures!$K120) | EX17: =IF(ISBLANK(fixtures!$L120),"",IF(EU17>EW17,"W",IF(EU17=EW17,"D","L"))) | FA17: 22 | FB17: Sat | FC17: =IFERROR(INDIRECT("fixtures!" & Dashboard!J1 &119) - Dashboard!K1/24,"TBC") -> 45983.625 | FE17: Everton | FF17: H | FG17: =IF(ISBLANK(fixtures!$K119),"",fixtures!$K119) | FH17: =IF(ISBLANK(fixtures!$L119),"",":") | FI17: =IF(ISBLANK(fixtures!$L119),"",fixtures!$L119) | FJ17: =IF(ISBLANK(fixtures!$L119),"",IF(FG17>FI17,"W",IF(FG17=FI17,"D","L"))) | FM17: 22 | FN17: Sat | FO17: =IFERROR(INDIRECT("fixtures!" & Dashboard!J1 &120) - Dashboard!K1/24,"TBC") -> 45983.625 | FQ17: Man City | FR17: H | FS17: =IF(ISBLANK(fixtures!$K120),"",fixtures!$K120) | FT17: =IF(ISBLANK(fixtures!$L120),"",":") | FU17: =IF(ISBLANK(fixtures!$L120),"",fixtures!$L120) | FV17: =IF(ISBLANK(fixtures!$L120),"",IF(FS17>FU17,"W",IF(FS17=FU17,"D","L"))) | FY17: 22 | FZ17: Sat | GA17: =IFERROR(INDIRECT("fixtures!" & Dashboard!J1 &118) - Dashboard!K1/24,"TBC") -> 45983.625 | GC17: Liverpool | GD17: A | GE17: =IF(ISBLANK(fixtures!$L118),"",fixtures!$L118) | GF17: =IF(ISBLANK(fixtures!$L118),"",":") | GG17: =IF(ISBLANK(fixtures!$K118),"",fixtures!$K118) | GH17: =IF(ISBLANK(fixtures!$L118),"",IF(GE17>GG17,"W",IF(GE17=GG17,"D","L"))) | GK17: 22 | GL17: Sat | GM17: =IFERROR(INDIRECT("fixtures!" & Dashboard!J1 &112) - Dashboard!K1/24,"TBC") -> 45983.625 | GO17: Arsenal | GP17: A | GQ17: =IF(ISBLANK(fixtures!$L112),"",fixtures!$L112) | GR17: =IF(ISBLANK(fixtures!$L112),"",":") | GS17: =IF(ISBLANK(fixtures!$K112),"",fixtures!$K112) | GT17: =IF(ISBLANK(fixtures!$L112),"",IF(GQ17>GS17,"W",IF(GQ17=GS17,"D","L"))) | GW17: 22 | GX17: Sat | GY17: =IFERROR(INDIRECT("fixtures!" & Dashboard!J1 &116) - Dashboard!K1/24,"TBC") -> 45983.625 | HA17: Fulham | HB17: A | HC17: =IF(ISBLANK(fixtures!$L116),"",fixtures!$L116) | HD17: =IF(ISBLANK(fixtures!$L116),"",":") | HE17: =IF(ISBLANK(fixtures!$K116),"",fixtures!$K116) | HF17: =IF(ISBLANK(fixtures!$L116),"",IF(HC17>HE17,"W",IF(HC17=HE17,"D","L"))) | HI17: 22 | HJ17: Sat | HK17: =IFERROR(INDIRECT("fixtures!" & Dashboard!J1 &113) - Dashboard!K1/24,"TBC") -> 45983.625 | HM17: Bournemouth | HN17: A | HO17: =IF(ISBLANK(fixtures!$L113),"",fixtures!$L113) | HP17: =IF(ISBLANK(fixtures!$L113),"",":") | HQ17: =IF(ISBLANK(fixtures!$K113),"",fixtures!$K113) | HR17: =IF(ISBLANK(fixtures!$L113),"",IF(HO17>HQ17,"W",IF(HO17=HQ17,"D","L"))) | HU17: 22 | HV17: Sat | HW17: =IFERROR(INDIRECT("fixtures!" & Dashboard!J1 &121) - Dashboard!K1/24,"TBC") -> 45983.625 | HY17: Crystal Palace | HZ17: H | IA17: =IF(ISBLANK(fixtures!$K121),"",fixtures!$K121) | IB17: =IF(ISBLANK(fixtures!$L121),"",":") | IC17: =IF(ISBLANK(fixtures!$L121),"",fixtures!$L121) | ID17: =IF(ISBLANK(fixtures!$L121),"",IF(IA17>IC17,"W",IF(IA17=IC17,"D","L")))
A18: 29 | B18: Sat | C18: =IFERROR(INDIRECT("fixtures!" & Dashboard!J1 &124) - Dashboard!K1/24,"TBC") -> 45990.625 | E18: Chelsea | F18: A | G18: =IF(ISBLANK(fixtures!$L124),"",fixtures!$L124) | H18: =IF(ISBLANK(fixtures!$L124),"",":") | I18: =IF(ISBLANK(fixtures!$K124),"",fixtures!$K124) | J18: =IF(ISBLANK(fixtures!$L124),"",IF(G18>I18,"W",IF(G18=I18,"D","L"))) | M18: 29 | N18: Sat | O18: =IFERROR(INDIRECT("fixtures!" & Dashboard!J1 &122) - Dashboard!K1/24,"TBC") -> 45990.625 | Q18: Wolves | R18: H | S18: =IF(ISBLANK(fixtures!$K122),"",fixtures!$K122) | T18: =IF(ISBLANK(fixtures!$L122),"",":") | U18: =IF(ISBLANK(fixtures!$L122),"",fixtures!$L122) | V18: =IF(ISBLANK(fixtures!$L122),"",IF(S18>U18,"W",IF(S18=U18,"D","L"))) | Y18: 29 | Z18: Sat | AA18: =IFERROR(INDIRECT("fixtures!" & Dashboard!J1 &130) - Dashboard!K1/24,"TBC") -> 45990.625 | AC18: Sunderland | AD18: A | AE18: =IF(ISBLANK(fixtures!$L130),"",fixtures!$L130) | AF18: =IF(ISBLANK(fixtures!$L130),"",":") | AG18: =IF(ISBLANK(fixtures!$K130),"",fixtures!$K130) | AH18: =IF(ISBLANK(fixtures!$L130),"",IF(AE18>AG18,"W",IF(AE18=AG18,"D","L"))) | AK18: 29 | AL18: Sat | AM18: =IFERROR(INDIRECT("fixtures!" & Dashboard!J1 &123) - Dashboard!K1/24,"TBC") -> 45990.625 | AO18: Burnley | AP18: H | AQ18: =IF(ISBLANK(fixtures!$K123),"",fixtures!$K123) | AR18: =IF(ISBLANK(fixtures!$L123),"",":") | AS18: =IF(ISBLANK(fixtures!$L123),"",fixtures!$L123) | AT18: =IF(ISBLANK(fixtures!$L123),"",IF(AQ18>AS18,"W",IF(AQ18=AS18,"D","L"))) | AW18: 29 | AX18: Sat | AY18: =IFERROR(INDIRECT("fixtures!" & Dashboard!J1 &128) - Dashboard!K1/24,"TBC") -> 45990.625 | BA18: Nott'm Forest | BB18: A | BC18: =IF(ISBLANK(fixtures!$L128),"",fixtures!$L128) | BD18: =IF(ISBLANK(fixtures!$L128),"",":") | BE18: =IF(ISBLANK(fixtures!$K128),"",fixtures!$K128) | BF18: =IF(ISBLANK(fixtures!$L128),"",IF(BC18>BE18,"W",IF(BC18=BE18,"D","L"))) | BI18: 29 | BJ18: Sat | BK18: =IFERROR(INDIRECT("fixtures!" & Dashboard!J1 &123) - Dashboard!K1/24,"TBC") -> 45990.625 | BM18: Brentford | BN18: A | BO18: =IF(ISBLANK(fixtures!$L123),"",fixtures!$L123) | BP18: =IF(ISBLANK(fixtures!$L123),"",":") | BQ18: =IF(ISBLANK(fixtures!$K123),"",fixtures!$K123) | BR18: =IF(ISBLANK(fixtures!$L123),"",IF(BO18>BQ18,"W",IF(BO18=BQ18,"D","L"))) | BU18: 29 | BV18: Sat | BW18: =IFERROR(INDIRECT("fixtures!" & Dashboard!J1 &124) - Dashboard!K1/24,"TBC") -> 45990.625 | BY18: Arsenal | BZ18: H | CA18: =IF(ISBLANK(fixtures!$K124),"",fixtures!$K124) | CB18: =IF(ISBLANK(fixtures!$L124),"",":") | CC18: =IF(ISBLANK(fixtures!$L124),"",fixtures!$L124) | CD18: =IF(ISBLANK(fixtures!$L124),"",IF(CA18>CC18,"W",IF(CA18=CC18,"D","L"))) | CG18: 29 | CH18: Sat | CI18: =IFERROR(INDIRECT("fixtures!" & Dashboard!J1 &125) - Dashboard!K1/24,"TBC") -> 45990.625 | CK18: Man Utd | CL18: H | CM18: =IF(ISBLANK(fixtures!$K125),"",fixtures!$K125) | CN18: =IF(ISBLANK(fixtures!$L125),"",":") | CO18: =IF(ISBLANK(fixtures!$L125),"",fixtures!$L125) | CP18: =IF(ISBLANK(fixtures!$L125),"",IF(CM18>CO18,"W",IF(CM18=CO18,"D","L"))) | CS18: 29 | CT18: Sat | CU18: =IFERROR(INDIRECT("fixtures!" & Dashboard!J1 &126) - Dashboard!K1/24,"TBC") -> 45990.625 | CW18: Newcastle | CX18: H | CY18: =IF(ISBLANK(fixtures!$K126),"",fixtures!$K126) | CZ18: =IF(ISBLANK(fixtures!$L126),"",":") | DA18: =IF(ISBLANK(fixtures!$L126),"",fixtures!$L126) | DB18: =IF(ISBLANK(fixtures!$L126),"",IF(CY18>DA18,"W",IF(CY18=DA18,"D","L"))) | DE18: 29 | DF18: Sat | DG18: =IFERROR(INDIRECT("fixtures!" & Dashboard!J1 &129) - Dashboard!K1/24,"TBC") -> 45990.625 | DI18: Spurs | DJ18: A | DK18: =IF(ISBLANK(fixtures!$L129),"",fixtures!$L129) | DL18: =IF(ISBLANK(fixtures!$L129),"",":") | DM18: =IF(ISBLANK(fixtures!$K129),"",fixtures!$K129) | DN18: =IF(ISBLANK(fixtures!$L129),"",IF(DK18>DM18,"W",IF(DK18=DM18,"D","L"))) | DQ18: 29 | DR18: Sat | DS18: =IFERROR(INDIRECT("fixtures!" & Dashboard!J1 &127) - Dashboard!K1/24,"TBC") -> 45990.625 | DU18: Man City | DV18: A | DW18: =IF(ISBLANK(fixtures!$L127),"",fixtures!$L127) | DX18: =IF(ISBLANK(fixtures!$L127),"",":") | DY18: =IF(ISBLANK(fixtures!$K127),"",fixtures!$K127) | DZ18: =IF(ISBLANK(fixtures!$L127),"",IF(DW18>DY18,"W",IF(DW18=DY18,"D","L"))) | EC18: 29 | ED18: Sat | EE18: =IFERROR(INDIRECT("fixtures!" & Dashboard!J1 &131) - Dashboard!K1/24,"TBC") -> 45990.625 | EG18: West Ham | EH18: A | EI18: =IF(ISBLANK(fixtures!$L131),"",fixtures!$L131) | EJ18: =IF(ISBLANK(fixtures!$L131),"",":") | EK18: =IF(ISBLANK(fixtures!$K131),"",fixtures!$K131) | EL18: =IF(ISBLANK(fixtures!$L131),"",IF(EI18>EK18,"W",IF(EI18=EK18,"D","L"))) | EO18: 29 | EP18: Sat | EQ18: =IFERROR(INDIRECT("fixtures!" & Dashboard!J1 &127) - Dashboard!K1/24,"TBC") -> 45990.625 | ES18: Leeds Utd | ET18: H | EU18: =IF(ISBLANK(fixtures!$K127),"",fixtures!$K127) | EV18: =IF(ISBLANK(fixtures!$L127),"",":") | EW18: =IF(ISBLANK(fixtures!$L127),"",fixtures!$L127) | EX18: =IF(ISBLANK(fixtures!$L127),"",IF(EU18>EW18,"W",IF(EU18=EW18,"D","L"))) | FA18: 29 | FB18: Sat | FC18: =IFERROR(INDIRECT("fixtures!" & Dashboard!J1 &125) - Dashboard!K1/24,"TBC") -> 45990.625 | FE18: Crystal Palace | FF18: A | FG18: =IF(ISBLANK(fixtures!$L125),"",fixtures!$L125) | FH18: =IF(ISBLANK(fixtures!$L125),"",":") | FI18: =IF(ISBLANK(fixtures!$K125),"",fixtures!$K125) | FJ18: =IF(ISBLANK(fixtures!$L125),"",IF(FG18>FI18,"W",IF(FG18=FI18,"D","L"))) | FM18: 29 | FN18: Sat | FO18: =IFERROR(INDIRECT("fixtures!" & Dashboard!J1 &126) - Dashboard!K1/24,"TBC") -> 45990.625 | FQ18: Everton | FR18: A | FS18: =IF(ISBLANK(fixtures!$L126),"",fixtures!$L126) | FT18: =IF(ISBLANK(fixtures!$L126),"",":") | FU18: =IF(ISBLANK(fixtures!$K126),"",fixtures!$K126) | FV18: =IF(ISBLANK(fixtures!$L126),"",IF(FS18>FU18,"W",IF(FS18=FU18,"D","L"))) | FY18: 29 | FZ18: Sat | GA18: =IFERROR(INDIRECT("fixtures!" & Dashboard!J1 &128) - Dashboard!K1/24,"TBC") -> 45990.625 | GC18: Brighton | GD18: H | GE18: =IF(ISBLANK(fixtures!$K128),"",fixtures!$K128) | GF18: =IF(ISBLANK(fixtures!$L128),"",":") | GG18: =IF(ISBLANK(fixtures!$L128),"",fixtures!$L128) | GH18: =IF(ISBLANK(fixtures!$L128),"",IF(GE18>GG18,"W",IF(GE18=GG18,"D","L"))) | GK18: 29 | GL18: Sat | GM18: =IFERROR(INDIRECT("fixtures!" & Dashboard!J1 &129) - Dashboard!K1/24,"TBC") -> 45990.625 | GO18: Fulham | GP18: H | GQ18: =IF(ISBLANK(fixtures!$K129),"",fixtures!$K129) | GR18: =IF(ISBLANK(fixtures!$L129),"",":") | GS18: =IF(ISBLANK(fixtures!$L129),"",fixtures!$L129) | GT18: =IF(ISBLANK(fixtures!$L129),"",IF(GQ18>GS18,"W",IF(GQ18=GS18,"D","L"))) | GW18: 29 | GX18: Sat | GY18: =IFERROR(INDIRECT("fixtures!" & Dashboard!J1 &130) - Dashboard!K1/24,"TBC") -> 45990.625 | HA18: Bournemouth | HB18: H | HC18: =IF(ISBLANK(fixtures!$K130),"",fixtures!$K130) | HD18: =IF(ISBLANK(fixtures!$L130),"",":") | HE18: =IF(ISBLANK(fixtures!$L130),"",fixtures!$L130) | HF18: =IF(ISBLANK(fixtures!$L130),"",IF(HC18>HE18,"W",IF(HC18=HE18,"D","L"))) | HI18: 29 | HJ18: Sat | HK18: =IFERROR(INDIRECT("fixtures!" & Dashboard!J1 &131) - Dashboard!K1/24,"TBC") -> 45990.625 | HM18: Liverpool | HN18: H | HO18: =IF(ISBLANK(fixtures!$K131),"",fixtures!$K131) | HP18: =IF(ISBLANK(fixtures!$L131),"",":") | HQ18: =IF(ISBLANK(fixtures!$L131),"",fixtures!$L131) | HR18: =IF(ISBLANK(fixtures!$L131),"",IF(HO18>HQ18,"W",IF(HO18=HQ18,"D","L"))) | HU18: 29 | HV18: Sat | HW18: =IFERROR(INDIRECT("fixtures!" & Dashboard!J1 &122) - Dashboard!K1/24,"TBC") -> 45990.625 | HY18: Aston Villa | HZ18: A | IA18: =IF(ISBLANK(fixtures!$L122),"",fixtures!$L122) | IB18: =IF(ISBLANK(fixtures!$L122),"",":") | IC18: =IF(ISBLANK(fixtures!$K122),"",fixtures!$K122) | ID18: =IF(ISBLANK(fixtures!$L122),"",IF(IA18>IC18,"W",IF(IA18=IC18,"D","L")))
A19: December | M19: December | Y19: December | AK19: December | AW19: December | BI19: December | BU19: December | CG19: December | CS19: December | DE19: December | DQ19: December | EC19: December | EO19: December | FA19: December | FM19: December | FY19: December | GK19: December | GW19: December | HI19: December | HU19: December
A20: 3 | B20: Wed | C20: =IFERROR(INDIRECT("fixtures!" & Dashboard!J1 &132) - Dashboard!K1/24,"TBC") -> 45994.833 | E20: Brentford | F20: H | G20: =IF(ISBLANK(fixtures!$K132),"",fixtures!$K132) | H20: =IF(ISBLANK(fixtures!$L132),"",":") | I20: =IF(ISBLANK(fixtures!$L132),"",fixtures!$L132) | J20: =IF(ISBLANK(fixtures!$L132),"",IF(G20>I20,"W",IF(G20=I20,"D","L"))) | M20: 3 | N20: Wed | O20: =IFERROR(INDIRECT("fixtures!" & Dashboard!J1 &134) - Dashboard!K1/24,"TBC") -> 45994.833 | Q20: Brighton | R20: A | S20: =IF(ISBLANK(fixtures!$L134),"",fixtures!$L134) | T20: =IF(ISBLANK(fixtures!$L134),"",":") | U20: =IF(ISBLANK(fixtures!$K134),"",fixtures!$K134) | V20: =IF(ISBLANK(fixtures!$L134),"",IF(S20>U20,"W",IF(S20=U20,"D","L"))) | Y20: 3 | Z20: Wed | AA20: =IFERROR(INDIRECT("fixtures!" & Dashboard!J1 &133) - Dashboard!K1/24,"TBC") -> 45994.833 | AC20: Everton | AD20: H | AE20: =IF(ISBLANK(fixtures!$K133),"",fixtures!$K133) | AF20: =IF(ISBLANK(fixtures!$L133),"",":") | AG20: =IF(ISBLANK(fixtures!$L133),"",fixtures!$L133) | AH20: =IF(ISBLANK(fixtures!$L133),"",IF(AE20>AG20,"W",IF(AE20=AG20,"D","L"))) | AK20: 3 | AL20: Wed | AM20: =IFERROR(INDIRECT("fixtures!" & Dashboard!J1 &132) - Dashboard!K1/24,"TBC") -> 45994.833 | AO20: Arsenal | AP20: A | AQ20: =IF(ISBLANK(fixtures!$L132),"",fixtures!$L132) | AR20: =IF(ISBLANK(fixtures!$L132),"",":") | AS20: =IF(ISBLANK(fixtures!$K132),"",fixtures!$K132) | AT20: =IF(ISBLANK(fixtures!$L132),"",IF(AQ20>AS20,"W",IF(AQ20=AS20,"D","L"))) | AW20: 3 | AX20: Wed | AY20: =IFERROR(INDIRECT("fixtures!" & Dashboard!J1 &134) - Dashboard!K1/24,"TBC") -> 45994.833 | BA20: Aston Villa | BB20: H | BC20: =IF(ISBLANK(fixtures!$K134),"",fixtures!$K134) | BD20: =IF(ISBLANK(fixtures!$L134),"",":") | BE20: =IF(ISBLANK(fixtures!$L134),"",fixtures!$L134) | BF20: =IF(ISBLANK(fixtures!$L134),"",IF(BC20>BE20,"W",IF(BC20=BE20,"D","L"))) | BI20: 3 | BJ20: Wed | BK20: =IFERROR(INDIRECT("fixtures!" & Dashboard!J1 &135) - Dashboard!K1/24,"TBC") -> 45994.833 | BM20: Crystal Palace | BN20: H | BO20: =IF(ISBLANK(fixtures!$K135),"",fixtures!$K135) | BP20: =IF(ISBLANK(fixtures!$L135),"",":") | BQ20: =IF(ISBLANK(fixtures!$L135),"",fixtures!$L135) | BR20: =IF(ISBLANK(fixtures!$L135),"",IF(BO20>BQ20,"W",IF(BO20=BQ20,"D","L"))) | BU20: 3 | BV20: Wed | BW20: =IFERROR(INDIRECT("fixtures!" & Dashboard!J1 &137) - Dashboard!K1/24,"TBC") -> 45994.833 | BY20: Leeds Utd | BZ20: A | CA20: =IF(ISBLANK(fixtures!$L137),"",fixtures!$L137) | CB20: =IF(ISBLANK(fixtures!$L137),"",":") | CC20: =IF(ISBLANK(fixtures!$K137),"",fixtures!$K137) | CD20: =IF(ISBLANK(fixtures!$L137),"",IF(CA20>CC20,"W",IF(CA20=CC20,"D","L"))) | CG20: 3 | CH20: Wed | CI20: =IFERROR(INDIRECT("fixtures!" & Dashboard!J1 &135) - Dashboard!K1/24,"TBC") -> 45994.833 | CK20: Burnley | CL20: A | CM20: =IF(ISBLANK(fixtures!$L135),"",fixtures!$L135) | CN20: =IF(ISBLANK(fixtures!$L135),"",":") | CO20: =IF(ISBLANK(fixtures!$K135),"",fixtures!$K135) | CP20: =IF(ISBLANK(fixtures!$L135),"",IF(CM20>CO20,"W",IF(CM20=CO20,"D","L"))) | CS20: 3 | CT20: Wed | CU20: =IFERROR(INDIRECT("fixtures!" & Dashboard!J1 &133) - Dashboard!K1/24,"TBC") -> 45994.833 | CW20: Bournemouth | CX20: A | CY20: =IF(ISBLANK(fixtures!$L133),"",fixtures!$L133) | CZ20: =IF(ISBLANK(fixtures!$L133),"",":") | DA20: =IF(ISBLANK(fixtures!$K133),"",fixtures!$K133) | DB20: =IF(ISBLANK(fixtures!$L133),"",IF(CY20>DA20,"W",IF(CY20=DA20,"D","L"))) | DE20: 3 | DF20: Wed | DG20: =IFERROR(INDIRECT("fixtures!" & Dashboard!J1 &136) - Dashboard!K1/24,"TBC") -> 45994.833 | DI20: Man City | DJ20: H | DK20: =IF(ISBLANK(fixtures!$K136),"",fixtures!$K136) | DL20: =IF(ISBLANK(fixtures!$L136),"",":") | DM20: =IF(ISBLANK(fixtures!$L136),"",fixtures!$L136) | DN20: =IF(ISBLANK(fixtures!$L136),"",IF(DK20>DM20,"W",IF(DK20=DM20,"D","L"))) | DQ20: 3 | DR20: Wed | DS20: =IFERROR(INDIRECT("fixtures!" & Dashboard!J1 &137) - Dashboard!K1/24,"TBC") -> 45994.833 | DU20: Chelsea | DV20: H | DW20: =IF(ISBLANK(fixtures!$K137),"",fixtures!$K137) | DX20: =IF(ISBLANK(fixtures!$L137),"",":") | DY20: =IF(ISBLANK(fixtures!$L137),"",fixtures!$L137) | DZ20: =IF(ISBLANK(fixtures!$L137),"",IF(DW20>DY20,"W",IF(DW20=DY20,"D","L"))) | EC20: 3 | ED20: Wed | EE20: =IFERROR(INDIRECT("fixtures!" & Dashboard!J1 &138) - Dashboard!K1/24,"TBC") -> 45994.833 | EG20: Sunderland | EH20: H | EI20: =IF(ISBLANK(fixtures!$K138),"",fixtures!$K138) | EJ20: =IF(ISBLANK(fixtures!$L138),"",":") | EK20: =IF(ISBLANK(fixtures!$L138),"",fixtures!$L138) | EL20: =IF(ISBLANK(fixtures!$L138),"",IF(EI20>EK20,"W",IF(EI20=EK20,"D","L"))) | EO20: 3 | EP20: Wed | EQ20: =IFERROR(INDIRECT("fixtures!" & Dashboard!J1 &136) - Dashboard!K1/24,"TBC") -> 45994.833 | ES20: Fulham | ET20: A | EU20: =IF(ISBLANK(fixtures!$L136),"",fixtures!$L136) | EV20: =IF(ISBLANK(fixtures!$L136),"",":") | EW20: =IF(ISBLANK(fixtures!$K136),"",fixtures!$K136) | EX20: =IF(ISBLANK(fixtures!$L136),"",IF(EU20>EW20,"W",IF(EU20=EW20,"D","L"))) | FA20: 3 | FB20: Wed | FC20: =IFERROR(INDIRECT("fixtures!" & Dashboard!J1 &139) - Dashboard!K1/24,"TBC") -> 45994.833 | FE20: West Ham | FF20: H | FG20: =IF(ISBLANK(fixtures!$K139),"",fixtures!$K139) | FH20: =IF(ISBLANK(fixtures!$L139),"",":") | FI20: =IF(ISBLANK(fixtures!$L139),"",fixtures!$L139) | FJ20: =IF(ISBLANK(fixtures!$L139),"",IF(FG20>FI20,"W",IF(FG20=FI20,"D","L"))) | FM20: 3 | FN20: Wed | FO20: =IFERROR(INDIRECT("fixtures!" & Dashboard!J1 &140) - Dashboard!K1/24,"TBC") -> 45994.833 | FQ20: Spurs | FR20: H | FS20: =IF(ISBLANK(fixtures!$K140),"",fixtures!$K140) | FT20: =IF(ISBLANK(fixtures!$L140),"",":") | FU20: =IF(ISBLANK(fixtures!$L140),"",fixtures!$L140) | FV20: =IF(ISBLANK(fixtures!$L140),"",IF(FS20>FU20,"W",IF(FS20=FU20,"D","L"))) | FY20: 3 | FZ20: Wed | GA20: =IFERROR(INDIRECT("fixtures!" & Dashboard!J1 &141) - Dashboard!K1/24,"TBC") -> 45994.833 | GC20: Wolves | GD20: A | GE20: =IF(ISBLANK(fixtures!$L141),"",fixtures!$L141) | GF20: =IF(ISBLANK(fixtures!$L141),"",":") | GG20: =IF(ISBLANK(fixtures!$K141),"",fixtures!$K141) | GH20: =IF(ISBLANK(fixtures!$L141),"",IF(GE20>GG20,"W",IF(GE20=GG20,"D","L"))) | GK20: 3 | GL20: Wed | GM20: =IFERROR(INDIRECT("fixtures!" & Dashboard!J1 &140) - Dashboard!K1/24,"TBC") -> 45994.833 | GO20: Newcastle | GP20: A | GQ20: =IF(ISBLANK(fixtures!$L140),"",fixtures!$L140) | GR20: =IF(ISBLANK(fixtures!$L140),"",":") | GS20: =IF(ISBLANK(fixtures!$K140),"",fixtures!$K140) | GT20: =IF(ISBLANK(fixtures!$L140),"",IF(GQ20>GS20,"W",IF(GQ20=GS20,"D","L"))) | GW20: 3 | GX20: Wed | GY20: =IFERROR(INDIRECT("fixtures!" & Dashboard!J1 &138) - Dashboard!K1/24,"TBC") -> 45994.833 | HA20: Liverpool | HB20: A | HC20: =IF(ISBLANK(fixtures!$L138),"",fixtures!$L138) | HD20: =IF(ISBLANK(fixtures!$L138),"",":") | HE20: =IF(ISBLANK(fixtures!$K138),"",fixtures!$K138) | HF20: =IF(ISBLANK(fixtures!$L138),"",IF(HC20>HE20,"W",IF(HC20=HE20,"D","L"))) | HI20: 3 | HJ20: Wed | HK20: =IFERROR(INDIRECT("fixtures!" & Dashboard!J1 &139) - Dashboard!K1/24,"TBC") -> 45994.833 | HM20: Man Utd | HN20: A | HO20: =IF(ISBLANK(fixtures!$L139),"",fixtures!$L139) | HP20: =IF(ISBLANK(fixtures!$L139),"",":") | HQ20: =IF(ISBLANK(fixtures!$K139),"",fixtures!$K139) | HR20: =IF(ISBLANK(fixtures!$L139),"",IF(HO20>HQ20,"W",IF(HO20=HQ20,"D","L"))) | HU20: 3 | HV20: Wed | HW20: =IFERROR(INDIRECT("fixtures!" & Dashboard!J1 &141) - Dashboard!K1/24,"TBC") -> 45994.833 | HY20: Nott'm Forest | HZ20: H | IA20: =IF(ISBLANK(fixtures!$K141),"",fixtures!$K141) | IB20: =IF(ISBLANK(fixtures!$L141),"",":") | IC20: =IF(ISBLANK(fixtures!$L141),"",fixtures!$L141) | ID20: =IF(ISBLANK(fixtures!$L141),"",IF(IA20>IC20,"W",IF(IA20=IC20,"D","L")))
A21: 6 | B21: Sat | C21: =IFERROR(INDIRECT("fixtures!" & Dashboard!J1 &142) - Dashboard!K1/24,"TBC") -> 45997.625 | E21: Aston Villa | F21: A | G21: =IF(ISBLANK(fixtures!$L142),"",fixtures!$L142) | H21: =IF(ISBLANK(fixtures!$L142),"",":") | I21: =IF(ISBLANK(fixtures!$K142),"",fixtures!$K142) | J21: =IF(ISBLANK(fixtures!$L142),"",IF(G21>I21,"W",IF(G21=I21,"D","L"))) | M21: 6 | N21: Sat | O21: =IFERROR(INDIRECT("fixtures!" & Dashboard!J1 &142) - Dashboard!K1/24,"TBC") -> 45997.625 | Q21: Arsenal | R21: H | S21: =IF(ISBLANK(fixtures!$K142),"",fixtures!$K142) | T21: =IF(ISBLANK(fixtures!$L142),"",":") | U21: =IF(ISBLANK(fixtures!$L142),"",fixtures!$L142) | V21: =IF(ISBLANK(fixtures!$L142),"",IF(S21>U21,"W",IF(S21=U21,"D","L"))) | Y21: 6 | Z21: Sat | AA21: =IFERROR(INDIRECT("fixtures!" & Dashboard!J1 &143) - Dashboard!K1/24,"TBC") -> 45997.625 | AC21: Chelsea | AD21: H | AE21: =IF(ISBLANK(fixtures!$K143),"",fixtures!$K143) | AF21: =IF(ISBLANK(fixtures!$L143),"",":") | AG21: =IF(ISBLANK(fixtures!$L143),"",fixtures!$L143) | AH21: =IF(ISBLANK(fixtures!$L143),"",IF(AE21>AG21,"W",IF(AE21=AG21,"D","L"))) | AK21: 6 | AL21: Sat | AM21: =IFERROR(INDIRECT("fixtures!" & Dashboard!J1 &150) - Dashboard!K1/24,"TBC") -> 45997.625 | AO21: Spurs | AP21: A | AQ21: =IF(ISBLANK(fixtures!$L150),"",fixtures!$L150) | AR21: =IF(ISBLANK(fixtures!$L150),"",":") | AS21: =IF(ISBLANK(fixtures!$K150),"",fixtures!$K150) | AT21: =IF(ISBLANK(fixtures!$L150),"",IF(AQ21>AS21,"W",IF(AQ21=AS21,"D","L"))) | AW21: 6 | AX21: Sat | AY21: =IFERROR(INDIRECT("fixtures!" & Dashboard!J1 &144) - Dashboard!K1/24,"TBC") -> 45997.625 | BA21: West Ham | BB21: H | BC21: =IF(ISBLANK(fixtures!$K144),"",fixtures!$K144) | BD21: =IF(ISBLANK(fixtures!$L144),"",":") | BE21: =IF(ISBLANK(fixtures!$L144),"",fixtures!$L144) | BF21: =IF(ISBLANK(fixtures!$L144),"",IF(BC21>BE21,"W",IF(BC21=BE21,"D","L"))) | BI21: 6 | BJ21: Sat | BK21: =IFERROR(INDIRECT("fixtures!" & Dashboard!J1 &149) - Dashboard!K1/24,"TBC") -> 45997.625 | BM21: Newcastle | BN21: A | BO21: =IF(ISBLANK(fixtures!$L149),"",fixtures!$L149) | BP21: =IF(ISBLANK(fixtures!$L149),"",":") | BQ21: =IF(ISBLANK(fixtures!$K149),"",fixtures!$K149) | BR21: =IF(ISBLANK(fixtures!$L149),"",IF(BO21>BQ21,"W",IF(BO21=BQ21,"D","L"))) | BU21: 6 | BV21: Sat | BW21: =IFERROR(INDIRECT("fixtures!" & Dashboard!J1 &143) - Dashboard!K1/24,"TBC") -> 45997.625 | BY21: Bournemouth | BZ21: A | CA21: =IF(ISBLANK(fixtures!$L143),"",fixtures!$L143) | CB21: =IF(ISBLANK(fixtures!$L143),"",":") | CC21: =IF(ISBLANK(fixtures!$K143),"",fixtures!$K143) | CD21: =IF(ISBLANK(fixtures!$L143),"",IF(CA21>CC21,"W",IF(CA21=CC21,"D","L"))) | CG21: 6 | CH21: Sat | CI21: =IFERROR(INDIRECT("fixtures!" & Dashboard!J1 &146) - Dashboard!K1/24,"TBC") -> 45997.625 | CK21: Fulham | CL21: A | CM21: =IF(ISBLANK(fixtures!$L146),"",fixtures!$L146) | CN21: =IF(ISBLANK(fixtures!$L146),"",":") | CO21: =IF(ISBLANK(fixtures!$K146),"",fixtures!$K146) | CP21: =IF(ISBLANK(fixtures!$L146),"",IF(CM21>CO21,"W",IF(CM21=CO21,"D","L"))) | CS21: 6 | CT21: Sat | CU21: =IFERROR(INDIRECT("fixtures!" & Dashboard!J1 &145) - Dashboard!K1/24,"TBC") -> 45997.625 | CW21: Nott'm Forest | CX21: H | CY21: =IF(ISBLANK(fixtures!$K145),"",fixtures!$K145) | CZ21: =IF(ISBLANK(fixtures!$L145),"",":") | DA21: =IF(ISBLANK(fixtures!$L145),"",fixtures!$L145) | DB21: =IF(ISBLANK(fixtures!$L145),"",IF(CY21>DA21,"W",IF(CY21=DA21,"D","L"))) | DE21: 6 | DF21: Sat | DG21: =IFERROR(INDIRECT("fixtures!" & Dashboard!J1 &146) - Dashboard!K1/24,"TBC") -> 45997.625 | DI21: Crystal Palace | DJ21: H | DK21: =IF(ISBLANK(fixtures!$K146),"",fixtures!$K146) | DL21: =IF(ISBLANK(fixtures!$L146),"",":") | DM21: =IF(ISBLANK(fixtures!$L146),"",fixtures!$L146) | DN21: =IF(ISBLANK(fixtures!$L146),"",IF(DK21>DM21,"W",IF(DK21=DM21,"D","L"))) | DQ21: 6 | DR21: Sat | DS21: =IFERROR(INDIRECT("fixtures!" & Dashboard!J1 &147) - Dashboard!K1/24,"TBC") -> 45997.625 | DU21: Liverpool | DV21: H | DW21: =IF(ISBLANK(fixtures!$K147),"",fixtures!$K147) | DX21: =IF(ISBLANK(fixtures!$L147),"",":") | DY21: =IF(ISBLANK(fixtures!$L147),"",fixtures!$L147) | DZ21: =IF(ISBLANK(fixtures!$L147),"",IF(DW21>DY21,"W",IF(DW21=DY21,"D","L"))) | EC21: 6 | ED21: Sat | EE21: =IFERROR(INDIRECT("fixtures!" & Dashboard!J1 &147) - Dashboard!K1/24,"TBC") -> 45997.625 | EG21: Leeds Utd | EH21: A | EI21: =IF(ISBLANK(fixtures!$L147),"",fixtures!$L147) | EJ21: =IF(ISBLANK(fixtures!$L147),"",":") | EK21: =IF(ISBLANK(fixtures!$K147),"",fixtures!$K147) | EL21: =IF(ISBLANK(fixtures!$L147),"",IF(EI21>EK21,"W",IF(EI21=EK21,"D","L"))) | EO21: 6 | EP21: Sat | EQ21: =IFERROR(INDIRECT("fixtures!" & Dashboard!J1 &148) - Dashboard!K1/24,"TBC") -> 45997.625 | ES21: Sunderland | ET21: H | EU21: =IF(ISBLANK(fixtures!$K148),"",fixtures!$K148) | EV21: =IF(ISBLANK(fixtures!$L148),"",":") | EW21: =IF(ISBLANK(fixtures!$L148),"",fixtures!$L148) | EX21: =IF(ISBLANK(fixtures!$L148),"",IF(EU21>EW21,"W",IF(EU21=EW21,"D","L"))) | FA21: 6 | FB21: Sat | FC21: =IFERROR(INDIRECT("fixtures!" & Dashboard!J1 &151) - Dashboard!K1/24,"TBC") -> 45997.625 | FE21: Wolves | FF21: A | FG21: =IF(ISBLANK(fixtures!$L151),"",fixtures!$L151) | FH21: =IF(ISBLANK(fixtures!$L151),"",":") | FI21: =IF(ISBLANK(fixtures!$K151),"",fixtures!$K151) | FJ21: =IF(ISBLANK(fixtures!$L151),"",IF(FG21>FI21,"W",IF(FG21=FI21,"D","L"))) | FM21: 6 | FN21: Sat | FO21: =IFERROR(INDIRECT("fixtures!" & Dashboard!J1 &149) - Dashboard!K1/24,"TBC") -> 45997.625 | FQ21: Burnley | FR21: H | FS21: =IF(ISBLANK(fixtures!$K149),"",fixtures!$K149) | FT21: =IF(ISBLANK(fixtures!$L149),"",":") | FU21: =IF(ISBLANK(fixtures!$L149),"",fixtures!$L149) | FV21: =IF(ISBLANK(fixtures!$L149),"",IF(FS21>FU21,"W",IF(FS21=FU21,"D","L"))) | FY21: 6 | FZ21: Sat | GA21: =IFERROR(INDIRECT("fixtures!" & Dashboard!J1 &145) - Dashboard!K1/24,"TBC") -> 45997.625 | GC21: Everton | GD21: A | GE21: =IF(ISBLANK(fixtures!$L145),"",fixtures!$L145) | GF21: =IF(ISBLANK(fixtures!$L145),"",":") | GG21: =IF(ISBLANK(fixtures!$K145),"",fixtures!$K145) | GH21: =IF(ISBLANK(fixtures!$L145),"",IF(GE21>GG21,"W",IF(GE21=GG21,"D","L"))) | GK21: 6 | GL21: Sat | GM21: =IFERROR(INDIRECT("fixtures!" & Dashboard!J1 &150) - Dashboard!K1/24,"TBC") -> 45997.625 | GO21: Brentford | GP21: H | GQ21: =IF(ISBLANK(fixtures!$K150),"",fixtures!$K150) | GR21: =IF(ISBLANK(fixtures!$L150),"",":") | GS21: =IF(ISBLANK(fixtures!$L150),"",fixtures!$L150) | GT21: =IF(ISBLANK(fixtures!$L150),"",IF(GQ21>GS21,"W",IF(GQ21=GS21,"D","L"))) | GW21: 6 | GX21: Sat | GY21: =IFERROR(INDIRECT("fixtures!" & Dashboard!J1 &148) - Dashboard!K1/24,"TBC") -> 45997.625 | HA21: Man City | HB21: A | HC21: =IF(ISBLANK(fixtures!$L148),"",fixtures!$L148) | HD21: =IF(ISBLANK(fixtures!$L148),"",":") | HE21: =IF(ISBLANK(fixtures!$K148),"",fixtures!$K148) | HF21: =IF(ISBLANK(fixtures!$L148),"",IF(HC21>HE21,"W",IF(HC21=HE21,"D","L"))) | HI21: 6 | HJ21: Sat | HK21: =IFERROR(INDIRECT("fixtures!" & Dashboard!J1 &144) - Dashboard!K1/24,"TBC") -> 45997.625 | HM21: Brighton | HN21: A | HO21: =IF(ISBLANK(fixtures!$L144),"",fixtures!$L144) | HP21: =IF(ISBLANK(fixtures!$L144),"",":") | HQ21: =IF(ISBLANK(fixtures!$K144),"",fixtures!$K144) | HR21: =IF(ISBLANK(fixtures!$L144),"",IF(HO21>HQ21,"W",IF(HO21=HQ21,"D","L"))) | HU21: 6 | HV21: Sat | HW21: =IFERROR(INDIRECT("fixtures!" & Dashboard!J1 &151) - Dashboard!K1/24,"TBC") -> 45997.625 | HY21: Man Utd | HZ21: H | IA21: =IF(ISBLANK(fixtures!$K151),"",fixtures!$K151) | IB21: =IF(ISBLANK(fixtures!$L151),"",":") | IC21: =IF(ISBLANK(fixtures!$L151),"",fixtures!$L151) | ID21: =IF(ISBLANK(fixtures!$L151),"",IF(IA21>IC21,"W",IF(IA21=IC21,"D","L")))
A22: 13 | B22: Sat | C22: =IFERROR(INDIRECT("fixtures!" & Dashboard!J1 &152) - Dashboard!K1/24,"TBC") -> 46004.625 | E22: Wolves | F22: H | G22: =IF(ISBLANK(fixtures!$K152),"",fixtures!$K152) | H22: =IF(ISBLANK(fixtures!$L152),"",":") | I22: =IF(ISBLANK(fixtures!$L152),"",fixtures!$L152) | J22: =IF(ISBLANK(fixtures!$L152),"",IF(G22>I22,"W",IF(G22=I22,"D","L"))) | M22: 13 | N22: Sat | O22: =IFERROR(INDIRECT("fixtures!" & Dashboard!J1 &161) - Dashboard!K1/24,"TBC") -> 46004.625 | Q22: West Ham | R22: A | S22: =IF(ISBLANK(fixtures!$L161),"",fixtures!$L161) | T22: =IF(ISBLANK(fixtures!$L161),"",":") | U22: =IF(ISBLANK(fixtures!$K161),"",fixtures!$K161) | V22: =IF(ISBLANK(fixtures!$L161),"",IF(S22>U22,"W",IF(S22=U22,"D","L"))) | Y22: 13 | Z22: Sat | AA22: =IFERROR(INDIRECT("fixtures!" & Dashboard!J1 &158) - Dashboard!K1/24,"TBC") -> 46004.625 | AC22: Man Utd | AD22: A | AE22: =IF(ISBLANK(fixtures!$L158),"",fixtures!$L158) | AF22: =IF(ISBLANK(fixtures!$L158),"",":") | AG22: =IF(ISBLANK(fixtures!$K158),"",fixtures!$K158) | AH22: =IF(ISBLANK(fixtures!$L158),"",IF(AE22>AG22,"W",IF(AE22=AG22,"D","L"))) | AK22: 13 | AL22: Sat | AM22: =IFERROR(INDIRECT("fixtures!" & Dashboard!J1 &153) - Dashboard!K1/24,"TBC") -> 46004.625 | AO22: Leeds Utd | AP22: H | AQ22: =IF(ISBLANK(fixtures!$K153),"",fixtures!$K153) | AR22: =IF(ISBLANK(fixtures!$L153),"",":") | AS22: =IF(ISBLANK(fixtures!$L153),"",fixtures!$L153) | AT22: =IF(ISBLANK(fixtures!$L153),"",IF(AQ22>AS22,"W",IF(AQ22=AS22,"D","L"))) | AW22: 13 | AX22: Sat | AY22: =IFERROR(INDIRECT("fixtures!" & Dashboard!J1 &157) - Dashboard!K1/24,"TBC") -> 46004.625 | BA22: Liverpool | BB22: A | BC22: =IF(ISBLANK(fixtures!$L157),"",fixtures!$L157) | BD22: =IF(ISBLANK(fixtures!$L157),"",":") | BE22: =IF(ISBLANK(fixtures!$K157),"",fixtures!$K157) | BF22: =IF(ISBLANK(fixtures!$L157),"",IF(BC22>BE22,"W",IF(BC22=BE22,"D","L"))) | BI22: 13 | BJ22: Sat | BK22: =IFERROR(INDIRECT("fixtures!" & Dashboard!J1 &154) - Dashboard!K1/24,"TBC") -> 46004.625 | BM22: Fulham | BN22: H | BO22: =IF(ISBLANK(fixtures!$K154),"",fixtures!$K154) | BP22: =IF(ISBLANK(fixtures!$L154),"",":") | BQ22: =IF(ISBLANK(fixtures!$L154),"",fixtures!$L154) | BR22: =IF(ISBLANK(fixtures!$L154),"",IF(BO22>BQ22,"W",IF(BO22=BQ22,"D","L"))) | BU22: 13 | BV22: Sat | BW22: =IFERROR(INDIRECT("fixtures!" & Dashboard!J1 &155) - Dashboard!K1/24,"TBC") -> 46004.625 | BY22: Everton | BZ22: H | CA22: =IF(ISBLANK(fixtures!$K155),"",fixtures!$K155) | CB22: =IF(ISBLANK(fixtures!$L155),"",":") | CC22: =IF(ISBLANK(fixtures!$L155),"",fixtures!$L155) | CD22: =IF(ISBLANK(fixtures!$L155),"",IF(CA22>CC22,"W",IF(CA22=CC22,"D","L"))) | CG22: 13 | CH22: Sat | CI22: =IFERROR(INDIRECT("fixtures!" & Dashboard!J1 &156) - Dashboard!K1/24,"TBC") -> 46004.625 | CK22: Man City | CL22: H | CM22: =IF(ISBLANK(fixtures!$K156),"",fixtures!$K156) | CN22: =IF(ISBLANK(fixtures!$L156),"",":") | CO22: =IF(ISBLANK(fixtures!$L156),"",fixtures!$L156) | CP22: =IF(ISBLANK(fixtures!$L156),"",IF(CM22>CO22,"W",IF(CM22=CO22,"D","L"))) | CS22: 13 | CT22: Sat | CU22: =IFERROR(INDIRECT("fixtures!" & Dashboard!J1 &155) - Dashboard!K1/24,"TBC") -> 46004.625 | CW22: Chelsea | CX22: A | CY22: =IF(ISBLANK(fixtures!$L155),"",fixtures!$L155) | CZ22: =IF(ISBLANK(fixtures!$L155),"",":") | DA22: =IF(ISBLANK(fixtures!$K155),"",fixtures!$K155) | DB22: =IF(ISBLANK(fixtures!$L155),"",IF(CY22>DA22,"W",IF(CY22=DA22,"D","L"))) | DE22: 13 | DF22: Sat | DG22: =IFERROR(INDIRECT("fixtures!" & Dashboard!J1 &154) - Dashboard!K1/24,"TBC") -> 46004.625 | DI22: Burnley | DJ22: A | DK22: =IF(ISBLANK(fixtures!$L154),"",fixtures!$L154) | DL22: =IF(ISBLANK(fixtures!$L154),"",":") | DM22: =IF(ISBLANK(fixtures!$K154),"",fixtures!$K154) | DN22: =IF(ISBLANK(fixtures!$L154),"",IF(DK22>DM22,"W",IF(DK22=DM22,"D","L"))) | DQ22: 13 | DR22: Sat | DS22: =IFERROR(INDIRECT("fixtures!" & Dashboard!J1 &153) - Dashboard!K1/24,"TBC") -> 46004.625 | DU22: Brentford | DV22: A | DW22: =IF(ISBLANK(fixtures!$L153),"",fixtures!$L153) | DX22: =IF(ISBLANK(fixtures!$L153),"",":") | DY22: =IF(ISBLANK(fixtures!$K153),"",fixtures!$K153) | DZ22: =IF(ISBLANK(fixtures!$L153),"",IF(DW22>DY22,"W",IF(DW22=DY22,"D","L"))) | EC22: 13 | ED22: Sat | EE22: =IFERROR(INDIRECT("fixtures!" & Dashboard!J1 &157) - Dashboard!K1/24,"TBC") -> 46004.625 | EG22: Brighton | EH22: H | EI22: =IF(ISBLANK(fixtures!$K157),"",fixtures!$K157) | EJ22: =IF(ISBLANK(fixtures!$L157),"",":") | EK22: =IF(ISBLANK(fixtures!$L157),"",fixtures!$L157) | EL22: =IF(ISBLANK(fixtures!$L157),"",IF(EI22>EK22,"W",IF(EI22=EK22,"D","L"))) | EO22: 13 | EP22: Sat | EQ22: =IFERROR(INDIRECT("fixtures!" & Dashboard!J1 &156) - Dashboard!K1/24,"TBC") -> 46004.625 | ES22: Crystal Palace | ET22: A | EU22: =IF(ISBLANK(fixtures!$L156),"",fixtures!$L156) | EV22: =IF(ISBLANK(fixtures!$L156),"",":") | EW22: =IF(ISBLANK(fixtures!$K156),"",fixtures!$K156) | EX22: =IF(ISBLANK(fixtures!$L156),"",IF(EU22>EW22,"W",IF(EU22=EW22,"D","L"))) | FA22: 13 | FB22: Sat | FC22: =IFERROR(INDIRECT("fixtures!" & Dashboard!J1 &158) - Dashboard!K1/24,"TBC") -> 46004.625 | FE22: Bournemouth | FF22: H | FG22: =IF(ISBLANK(fixtures!$K158),"",fixtures!$K158) | FH22: =IF(ISBLANK(fixtures!$L158),"",":") | FI22: =IF(ISBLANK(fixtures!$L158),"",fixtures!$L158) | FJ22: =IF(ISBLANK(fixtures!$L158),"",IF(FG22>FI22,"W",IF(FG22=FI22,"D","L"))) | FM22: 13 | FN22: Sat | FO22: =IFERROR(INDIRECT("fixtures!" & Dashboard!J1 &160) - Dashboard!K1/24,"TBC") -> 46004.625 | FQ22: Sunderland | FR22: A | FS22: =IF(ISBLANK(fixtures!$L160),"",fixtures!$L160) | FT22: =IF(ISBLANK(fixtures!$L160),"",":") | FU22: =IF(ISBLANK(fixtures!$K160),"",fixtures!$K160) | FV22: =IF(ISBLANK(fixtures!$L160),"",IF(FS22>FU22,"W",IF(FS22=FU22,"D","L"))) | FY22: 13 | FZ22: Sat | GA22: =IFERROR(INDIRECT("fixtures!" & Dashboard!J1 &159) - Dashboard!K1/24,"TBC") -> 46004.625 | GC22: Spurs | GD22: H | GE22: =IF(ISBLANK(fixtures!$K159),"",fixtures!$K159) | GF22: =IF(ISBLANK(fixtures!$L159),"",":") | GG22: =IF(ISBLANK(fixtures!$L159),"",fixtures!$L159) | GH22: =IF(ISBLANK(fixtures!$L159),"",IF(GE22>GG22,"W",IF(GE22=GG22,"D","L"))) | GK22: 13 | GL22: Sat | GM22: =IFERROR(INDIRECT("fixtures!" & Dashboard!J1 &159) - Dashboard!K1/24,"TBC") -> 46004.625 | GO22: Nott'm Forest | GP22: A | GQ22: =IF(ISBLANK(fixtures!$L159),"",fixtures!$L159) | GR22: =IF(ISBLANK(fixtures!$L159),"",":") | GS22: =IF(ISBLANK(fixtures!$K159),"",fixtures!$K159) | GT22: =IF(ISBLANK(fixtures!$L159),"",IF(GQ22>GS22,"W",IF(GQ22=GS22,"D","L"))) | GW22: 13 | GX22: Sat | GY22: =IFERROR(INDIRECT("fixtures!" & Dashboard!J1 &160) - Dashboard!K1/24,"TBC") -> 46004.625 | HA22: Newcastle | HB22: H | HC22: =IF(ISBLANK(fixtures!$K160),"",fixtures!$K160) | HD22: =IF(ISBLANK(fixtures!$L160),"",":") | HE22: =IF(ISBLANK(fixtures!$L160),"",fixtures!$L160) | HF22: =IF(ISBLANK(fixtures!$L160),"",IF(HC22>HE22,"W",IF(HC22=HE22,"D","L"))) | HI22: 13 | HJ22: Sat | HK22: =IFERROR(INDIRECT("fixtures!" & Dashboard!J1 &161) - Dashboard!K1/24,"TBC") -> 46004.625 | HM22: Aston Villa | HN22: H | HO22: =IF(ISBLANK(fixtures!$K161),"",fixtures!$K161) | HP22: =IF(ISBLANK(fixtures!$L161),"",":") | HQ22: =IF(ISBLANK(fixtures!$L161),"",fixtures!$L161) | HR22: =IF(ISBLANK(fixtures!$L161),"",IF(HO22>HQ22,"W",IF(HO22=HQ22,"D","L"))) | HU22: 13 | HV22: Sat | HW22: =IFERROR(INDIRECT("fixtures!" & Dashboard!J1 &152) - Dashboard!K1/24,"TBC") -> 46004.625 | HY22: Arsenal | HZ22: A | IA22: =IF(ISBLANK(fixtures!$L152),"",fixtures!$L152) | IB22: =IF(ISBLANK(fixtures!$L152),"",":") | IC22: =IF(ISBLANK(fixtures!$K152),"",fixtures!$K152) | ID22: =IF(ISBLANK(fixtures!$L152),"",IF(IA22>IC22,"W",IF(IA22=IC22,"D","L")))
A23: 20 | B23: Sat | C23: =IFERROR(INDIRECT("fixtures!" & Dashboard!J1 &165) - Dashboard!K1/24,"TBC") -> 46011.625 | E23: Everton | F23: A | G23: =IF(ISBLANK(fixtures!$L165),"",fixtures!$L165) | H23: =IF(ISBLANK(fixtures!$L165),"",":") | I23: =IF(ISBLANK(fixtures!$K165),"",fixtures!$K165) | J23: =IF(ISBLANK(fixtures!$L165),"",IF(G23>I23,"W",IF(G23=I23,"D","L"))) | M23: 20 | N23: Sat | O23: =IFERROR(INDIRECT("fixtures!" & Dashboard!J1 &162) - Dashboard!K1/24,"TBC") -> 46011.625 | Q23: Man Utd | R23: H | S23: =IF(ISBLANK(fixtures!$K162),"",fixtures!$K162) | T23: =IF(ISBLANK(fixtures!$L162),"",":") | U23: =IF(ISBLANK(fixtures!$L162),"",fixtures!$L162) | V23: =IF(ISBLANK(fixtures!$L162),"",IF(S23>U23,"W",IF(S23=U23,"D","L"))) | Y23: 20 | Z23: Sat | AA23: =IFERROR(INDIRECT("fixtures!" & Dashboard!J1 &163) - Dashboard!K1/24,"TBC") -> 46011.625 | AC23: Burnley | AD23: H | AE23: =IF(ISBLANK(fixtures!$K163),"",fixtures!$K163) | AF23: =IF(ISBLANK(fixtures!$L163),"",":") | AG23: =IF(ISBLANK(fixtures!$L163),"",fixtures!$L163) | AH23: =IF(ISBLANK(fixtures!$L163),"",IF(AE23>AG23,"W",IF(AE23=AG23,"D","L"))) | AK23: 20 | AL23: Sat | AM23: =IFERROR(INDIRECT("fixtures!" & Dashboard!J1 &171) - Dashboard!K1/24,"TBC") -> 46011.625 | AO23: Wolves | AP23: A | AQ23: =IF(ISBLANK(fixtures!$L171),"",fixtures!$L171) | AR23: =IF(ISBLANK(fixtures!$L171),"",":") | AS23: =IF(ISBLANK(fixtures!$K171),"",fixtures!$K171) | AT23: =IF(ISBLANK(fixtures!$L171),"",IF(AQ23>AS23,"W",IF(AQ23=AS23,"D","L"))) | AW23: 20 | AX23: Sat | AY23: =IFERROR(INDIRECT("fixtures!" & Dashboard!J1 &164) - Dashboard!K1/24,"TBC") -> 46011.625 | BA23: Sunderland | BB23: H | BC23: =IF(ISBLANK(fixtures!$K164),"",fixtures!$K164) | BD23: =IF(ISBLANK(fixtures!$L164),"",":") | BE23: =IF(ISBLANK(fixtures!$L164),"",fixtures!$L164) | BF23: =IF(ISBLANK(fixtures!$L164),"",IF(BC23>BE23,"W",IF(BC23=BE23,"D","L"))) | BI23: 20 | BJ23: Sat | BK23: =IFERROR(INDIRECT("fixtures!" & Dashboard!J1 &163) - Dashboard!K1/24,"TBC") -> 46011.625 | BM23: Bournemouth | BN23: A | BO23: =IF(ISBLANK(fixtures!$L163),"",fixtures!$L163) | BP23: =IF(ISBLANK(fixtures!$L163),"",":") | BQ23: =IF(ISBLANK(fixtures!$K163),"",fixtures!$K163) | BR23: =IF(ISBLANK(fixtures!$L163),"",IF(BO23>BQ23,"W",IF(BO23=BQ23,"D","L"))) | BU23: 20 | BV23: Sat | BW23: =IFERROR(INDIRECT("fixtures!" & Dashboard!J1 &169) - Dashboard!K1/24,"TBC") -> 46011.625 | BY23: Newcastle | BZ23: A | CA23: =IF(ISBLANK(fixtures!$L169),"",fixtures!$L169) | CB23: =IF(ISBLANK(fixtures!$L169),"",":") | CC23: =IF(ISBLANK(fixtures!$K169),"",fixtures!$K169) | CD23: =IF(ISBLANK(fixtures!$L169),"",IF(CA23>CC23,"W",IF(CA23=CC23,"D","L"))) | CG23: 20 | CH23: Sat | CI23: =IFERROR(INDIRECT("fixtures!" & Dashboard!J1 &167) - Dashboard!K1/24,"TBC") -> 46011.625 | CK23: Leeds Utd | CL23: A | CM23: =IF(ISBLANK(fixtures!$L167),"",fixtures!$L167) | CN23: =IF(ISBLANK(fixtures!$L167),"",":") | CO23: =IF(ISBLANK(fixtures!$K167),"",fixtures!$K167) | CP23: =IF(ISBLANK(fixtures!$L167),"",IF(CM23>CO23,"W",IF(CM23=CO23,"D","L"))) | CS23: 20 | CT23: Sat | CU23: =IFERROR(INDIRECT("fixtures!" & Dashboard!J1 &165) - Dashboard!K1/24,"TBC") -> 46011.625 | CW23: Arsenal | CX23: H | CY23: =IF(ISBLANK(fixtures!$K165),"",fixtures!$K165) | CZ23: =IF(ISBLANK(fixtures!$L165),"",":") | DA23: =IF(ISBLANK(fixtures!$L165),"",fixtures!$L165) | DB23: =IF(ISBLANK(fixtures!$L165),"",IF(CY23>DA23,"W",IF(CY23=DA23,"D","L"))) | DE23: 20 | DF23: Sat | DG23: =IFERROR(INDIRECT("fixtures!" & Dashboard!J1 &166) - Dashboard!K1/24,"TBC") -> 46011.625 | DI23: Nott'm Forest | DJ23: H | DK23: =IF(ISBLANK(fixtures!$K166),"",fixtures!$K166) | DL23: =IF(ISBLANK(fixtures!$L166),"",":") | DM23: =IF(ISBLANK(fixtures!$L166),"",fixtures!$L166) | DN23: =IF(ISBLANK(fixtures!$L166),"",IF(DK23>DM23,"W",IF(DK23=DM23,"D","L"))) | DQ23: 20 | DR23: Sat | DS23: =IFERROR(INDIRECT("fixtures!" & Dashboard!J1 &167) - Dashboard!K1/24,"TBC") -> 46011.625 | DU23: Crystal Palace | DV23: H | DW23: =IF(ISBLANK(fixtures!$K167),"",fixtures!$K167) | DX23: =IF(ISBLANK(fixtures!$L167),"",":") | DY23: =IF(ISBLANK(fixtures!$L167),"",fixtures!$L167) | DZ23: =IF(ISBLANK(fixtures!$L167),"",IF(DW23>DY23,"W",IF(DW23=DY23,"D","L"))) | EC23: 20 | ED23: Sat | EE23: =IFERROR(INDIRECT("fixtures!" & Dashboard!J1 &170) - Dashboard!K1/24,"TBC") -> 46011.625 | EG23: Spurs | EH23: A | EI23: =IF(ISBLANK(fixtures!$L170),"",fixtures!$L170) | EJ23: =IF(ISBLANK(fixtures!$L170),"",":") | EK23: =IF(ISBLANK(fixtures!$K170),"",fixtures!$K170) | EL23: =IF(ISBLANK(fixtures!$L170),"",IF(EI23>EK23,"W",IF(EI23=EK23,"D","L"))) | EO23: 20 | EP23: Sat | EQ23: =IFERROR(INDIRECT("fixtures!" & Dashboard!J1 &168) - Dashboard!K1/24,"TBC") -> 46011.625 | ES23: West Ham | ET23: H | EU23: =IF(ISBLANK(fixtures!$K168),"",fixtures!$K168) | EV23: =IF(ISBLANK(fixtures!$L168),"",":") | EW23: =IF(ISBLANK(fixtures!$L168),"",fixtures!$L168) | EX23: =IF(ISBLANK(fixtures!$L168),"",IF(EU23>EW23,"W",IF(EU23=EW23,"D","L"))) | FA23: 20 | FB23: Sat | FC23: =IFERROR(INDIRECT("fixtures!" & Dashboard!J1 &162) - Dashboard!K1/24,"TBC") -> 46011.625 | FE23: Aston Villa | FF23: A | FG23: =IF(ISBLANK(fixtures!$L162),"",fixtures!$L162) | FH23: =IF(ISBLANK(fixtures!$L162),"",":") | FI23: =IF(ISBLANK(fixtures!$K162),"",fixtures!$K162) | FJ23: =IF(ISBLANK(fixtures!$L162),"",IF(FG23>FI23,"W",IF(FG23=FI23,"D","L"))) | FM23: 20 | FN23: Sat | FO23: =IFERROR(INDIRECT("fixtures!" & Dashboard!J1 &169) - Dashboard!K1/24,"TBC") -> 46011.625 | FQ23: Chelsea | FR23: H | FS23: =IF(ISBLANK(fixtures!$K169),"",fixtures!$K169) | FT23: =IF(ISBLANK(fixtures!$L169),"",":") | FU23: =IF(ISBLANK(fixtures!$L169),"",fixtures!$L169) | FV23: =IF(ISBLANK(fixtures!$L169),"",IF(FS23>FU23,"W",IF(FS23=FU23,"D","L"))) | FY23: 20 | FZ23: Sat | GA23: =IFERROR(INDIRECT("fixtures!" & Dashboard!J1 &166) - Dashboard!K1/24,"TBC") -> 46011.625 | GC23: Fulham | GD23: A | GE23: =IF(ISBLANK(fixtures!$L166),"",fixtures!$L166) | GF23: =IF(ISBLANK(fixtures!$L166),"",":") | GG23: =IF(ISBLANK(fixtures!$K166),"",fixtures!$K166) | GH23: =IF(ISBLANK(fixtures!$L166),"",IF(GE23>GG23,"W",IF(GE23=GG23,"D","L"))) | GK23: 20 | GL23: Sat | GM23: =IFERROR(INDIRECT("fixtures!" & Dashboard!J1 &170) - Dashboard!K1/24,"TBC") -> 46011.625 | GO23: Liverpool | GP23: H | GQ23: =IF(ISBLANK(fixtures!$K170),"",fixtures!$K170) | GR23: =IF(ISBLANK(fixtures!$L170),"",":") | GS23: =IF(ISBLANK(fixtures!$L170),"",fixtures!$L170) | GT23: =IF(ISBLANK(fixtures!$L170),"",IF(GQ23>GS23,"W",IF(GQ23=GS23,"D","L"))) | GW23: 20 | GX23: Sat | GY23: =IFERROR(INDIRECT("fixtures!" & Dashboard!J1 &164) - Dashboard!K1/24,"TBC") -> 46011.625 | HA23: Brighton | HB23: A | HC23: =IF(ISBLANK(fixtures!$L164),"",fixtures!$L164) | HD23: =IF(ISBLANK(fixtures!$L164),"",":") | HE23: =IF(ISBLANK(fixtures!$K164),"",fixtures!$K164) | HF23: =IF(ISBLANK(fixtures!$L164),"",IF(HC23>HE23,"W",IF(HC23=HE23,"D","L"))) | HI23: 20 | HJ23: Sat | HK23: =IFERROR(INDIRECT("fixtures!" & Dashboard!J1 &168) - Dashboard!K1/24,"TBC") -> 46011.625 | HM23: Man City | HN23: A | HO23: =IF(ISBLANK(fixtures!$L168),"",fixtures!$L168) | HP23: =IF(ISBLANK(fixtures!$L168),"",":") | HQ23: =IF(ISBLANK(fixtures!$K168),"",fixtures!$K168) | HR23: =IF(ISBLANK(fixtures!$L168),"",IF(HO23>HQ23,"W",IF(HO23=HQ23,"D","L"))) | HU23: 20 | HV23: Sat | HW23: =IFERROR(INDIRECT("fixtures!" & Dashboard!J1 &171) - Dashboard!K1/24,"TBC") -> 46011.625 | HY23: Brentford | HZ23: H | IA23: =IF(ISBLANK(fixtures!$K171),"",fixtures!$K171) | IB23: =IF(ISBLANK(fixtures!$L171),"",":") | IC23: =IF(ISBLANK(fixtures!$L171),"",fixtures!$L171) | ID23: =IF(ISBLANK(fixtures!$L171),"",IF(IA23>IC23,"W",IF(IA23=IC23,"D","L")))
A24: 27 | B24: Sat | C24: =IFERROR(INDIRECT("fixtures!" & Dashboard!J1 &172) - Dashboard!K1/24,"TBC") -> 46018.625 | E24: Brighton | F24: H | G24: =IF(ISBLANK(fixtures!$K172),"",fixtures!$K172) | H24: =IF(ISBLANK(fixtures!$L172),"",":") | I24: =IF(ISBLANK(fixtures!$L172),"",fixtures!$L172) | J24: =IF(ISBLANK(fixtures!$L172),"",IF(G24>I24,"W",IF(G24=I24,"D","L"))) | M24: 27 | N24: Sat | O24: =IFERROR(INDIRECT("fixtures!" & Dashboard!J1 &175) - Dashboard!K1/24,"TBC") -> 46018.625 | Q24: Chelsea | R24: A | S24: =IF(ISBLANK(fixtures!$L175),"",fixtures!$L175) | T24: =IF(ISBLANK(fixtures!$L175),"",":") | U24: =IF(ISBLANK(fixtures!$K175),"",fixtures!$K175) | V24: =IF(ISBLANK(fixtures!$L175),"",IF(S24>U24,"W",IF(S24=U24,"D","L"))) | Y24: 27 | Z24: Sat | AA24: =IFERROR(INDIRECT("fixtures!" & Dashboard!J1 &173) - Dashboard!K1/24,"TBC") -> 46018.625 | AC24: Brentford | AD24: A | AE24: =IF(ISBLANK(fixtures!$L173),"",fixtures!$L173) | AF24: =IF(ISBLANK(fixtures!$L173),"",":") | AG24: =IF(ISBLANK(fixtures!$K173),"",fixtures!$K173) | AH24: =IF(ISBLANK(fixtures!$L173),"",IF(AE24>AG24,"W",IF(AE24=AG24,"D","L"))) | AK24: 27 | AL24: Sat | AM24: =IFERROR(INDIRECT("fixtures!" & Dashboard!J1 &173) - Dashboard!K1/24,"TBC") -> 46018.625 | AO24: Bournemouth | AP24: H | AQ24: =IF(ISBLANK(fixtures!$K173),"",fixtures!$K173) | AR24: =IF(ISBLANK(fixtures!$L173),"",":") | AS24: =IF(ISBLANK(fixtures!$L173),"",fixtures!$L173) | AT24: =IF(ISBLANK(fixtures!$L173),"",IF(AQ24>AS24,"W",IF(AQ24=AS24,"D","L"))) | AW24: 27 | AX24: Sat | AY24: =IFERROR(INDIRECT("fixtures!" & Dashboard!J1 &172) - Dashboard!K1/24,"TBC") -> 46018.625 | BA24: Arsenal | BB24: A | BC24: =IF(ISBLANK(fixtures!$L172),"",fixtures!$L172) | BD24: =IF(ISBLANK(fixtures!$L172),"",":") | BE24: =IF(ISBLANK(fixtures!$K172),"",fixtures!$K172) | BF24: =IF(ISBLANK(fixtures!$L172),"",IF(BC24>BE24,"W",IF(BC24=BE24,"D","L"))) | BI24: 27 | BJ24: Sat | BK24: =IFERROR(INDIRECT("fixtures!" & Dashboard!J1 &174) - Dashboard!K1/24,"TBC") -> 46018.625 | BM24: Everton | BN24: H | BO24: =IF(ISBLANK(fixtures!$K174),"",fixtures!$K174) | BP24: =IF(ISBLANK(fixtures!$L174),"",":") | BQ24: =IF(ISBLANK(fixtures!$L174),"",fixtures!$L174) | BR24: =IF(ISBLANK(fixtures!$L174),"",IF(BO24>BQ24,"W",IF(BO24=BQ24,"D","L"))) | BU24: 27 | BV24: Sat | BW24: =IFERROR(INDIRECT("fixtures!" & Dashboard!J1 &175) - Dashboard!K1/24,"TBC") -> 46018.625 | BY24: Aston Villa | BZ24: H | CA24: =IF(ISBLANK(fixtures!$K175),"",fixtures!$K175) | CB24: =IF(ISBLANK(fixtures!$L175),"",":") | CC24: =IF(ISBLANK(fixtures!$L175),"",fixtures!$L175) | CD24: =IF(ISBLANK(fixtures!$L175),"",IF(CA24>CC24,"W",IF(CA24=CC24,"D","L"))) | CG24: 27 | CH24: Sat | CI24: =IFERROR(INDIRECT("fixtures!" & Dashboard!J1 &176) - Dashboard!K1/24,"TBC") -> 46018.625 | CK24: Spurs | CL24: H | CM24: =IF(ISBLANK(fixtures!$K176),"",fixtures!$K176) | CN24: =IF(ISBLANK(fixtures!$L176),"",":") | CO24: =IF(ISBLANK(fixtures!$L176),"",fixtures!$L176) | CP24: =IF(ISBLANK(fixtures!$L176),"",IF(CM24>CO24,"W",IF(CM24=CO24,"D","L"))) | CS24: 27 | CT24: Sat | CU24: =IFERROR(INDIRECT("fixtures!" & Dashboard!J1 &174) - Dashboard!K1/24,"TBC") -> 46018.625 | CW24: Burnley | CX24: A | CY24: =IF(ISBLANK(fixtures!$L174),"",fixtures!$L174) | CZ24: =IF(ISBLANK(fixtures!$L174),"",":") | DA24: =IF(ISBLANK(fixtures!$K174),"",fixtures!$K174) | DB24: =IF(ISBLANK(fixtures!$L174),"",IF(CY24>DA24,"W",IF(CY24=DA24,"D","L"))) | DE24: 27 | DF24: Sat | DG24: =IFERROR(INDIRECT("fixtures!" & Dashboard!J1 &181) - Dashboard!K1/24,"TBC") -> 46018.625 | DI24: West Ham | DJ24: A | DK24: =IF(ISBLANK(fixtures!$L181),"",fixtures!$L181) | DL24: =IF(ISBLANK(fixtures!$L181),"",":") | DM24: =IF(ISBLANK(fixtures!$K181),"",fixtures!$K181) | DN24: =IF(ISBLANK(fixtures!$L181),"",IF(DK24>DM24,"W",IF(DK24=DM24,"D","L"))) | DQ24: 27 | DR24: Sat | DS24: =IFERROR(INDIRECT("fixtures!" & Dashboard!J1 &180) - Dashboard!K1/24,"TBC") -> 46018.625 | DU24: Sunderland | DV24: A | DW24: =IF(ISBLANK(fixtures!$L180),"",fixtures!$L180) | DX24: =IF(ISBLANK(fixtures!$L180),"",":") | DY24: =IF(ISBLANK(fixtures!$K180),"",fixtures!$K180) | DZ24: =IF(ISBLANK(fixtures!$L180),"",IF(DW24>DY24,"W",IF(DW24=DY24,"D","L"))) | EC24: 27 | ED24: Sat | EE24: =IFERROR(INDIRECT("fixtures!" & Dashboard!J1 &177) - Dashboard!K1/24,"TBC") -> 46018.625 | EG24: Wolves | EH24: H | EI24: =IF(ISBLANK(fixtures!$K177),"",fixtures!$K177) | EJ24: =IF(ISBLANK(fixtures!$L177),"",":") | EK24: =IF(ISBLANK(fixtures!$L177),"",fixtures!$L177) | EL24: =IF(ISBLANK(fixtures!$L177),"",IF(EI24>EK24,"W",IF(EI24=EK24,"D","L"))) | EO24: 27 | EP24: Sat | EQ24: =IFERROR(INDIRECT("fixtures!" & Dashboard!J1 &179) - Dashboard!K1/24,"TBC") -> 46018.625 | ES24: Nott'm Forest | ET24: A | EU24: =IF(ISBLANK(fixtures!$L179),"",fixtures!$L179) | EV24: =IF(ISBLANK(fixtures!$L179),"",":") | EW24: =IF(ISBLANK(fixtures!$K179),"",fixtures!$K179) | EX24: =IF(ISBLANK(fixtures!$L179),"",IF(EU24>EW24,"W",IF(EU24=EW24,"D","L"))) | FA24: 27 | FB24: Sat | FC24: =IFERROR(INDIRECT("fixtures!" & Dashboard!J1 &178) - Dashboard!K1/24,"TBC") -> 46018.625 | FE24: Newcastle | FF24: H | FG24: =IF(ISBLANK(fixtures!$K178),"",fixtures!$K178) | FH24: =IF(ISBLANK(fixtures!$L178),"",":") | FI24: =IF(ISBLANK(fixtures!$L178),"",fixtures!$L178) | FJ24: =IF(ISBLANK(fixtures!$L178),"",IF(FG24>FI24,"W",IF(FG24=FI24,"D","L"))) | FM24: 27 | FN24: Sat | FO24: =IFERROR(INDIRECT("fixtures!" & Dashboard!J1 &178) - Dashboard!K1/24,"TBC") -> 46018.625 | FQ24: Man Utd | FR24: A | FS24: =IF(ISBLANK(fixtures!$L178),"",fixtures!$L178) | FT24: =IF(ISBLANK(fixtures!$L178),"",":") | FU24: =IF(ISBLANK(fixtures!$K178),"",fixtures!$K178) | FV24: =IF(ISBLANK(fixtures!$L178),"",IF(FS24>FU24,"W",IF(FS24=FU24,"D","L"))) | FY24: 27 | FZ24: Sat | GA24: =IFERROR(INDIRECT("fixtures!" & Dashboard!J1 &179) - Dashboard!K1/24,"TBC") -> 46018.625 | GC24: Man City | GD24: H | GE24: =IF(ISBLANK(fixtures!$K179),"",fixtures!$K179) | GF24: =IF(ISBLANK(fixtures!$L179),"",":") | GG24: =IF(ISBLANK(fixtures!$L179),"",fixtures!$L179) | GH24: =IF(ISBLANK(fixtures!$L179),"",IF(GE24>GG24,"W",IF(GE24=GG24,"D","L"))) | GK24: 27 | GL24: Sat | GM24: =IFERROR(INDIRECT("fixtures!" & Dashboard!J1 &176) - Dashboard!K1/24,"TBC") -> 46018.625 | GO24: Crystal Palace | GP24: A | GQ24: =IF(ISBLANK(fixtures!$L176),"",fixtures!$L176) | GR24: =IF(ISBLANK(fixtures!$L176),"",":") | GS24: =IF(ISBLANK(fixtures!$K176),"",fixtures!$K176) | GT24: =IF(ISBLANK(fixtures!$L176),"",IF(GQ24>GS24,"W",IF(GQ24=GS24,"D","L"))) | GW24: 27 | GX24: Sat | GY24: =IFERROR(INDIRECT("fixtures!" & Dashboard!J1 &180) - Dashboard!K1/24,"TBC") -> 46018.625 | HA24: Leeds Utd | HB24: H | HC24: =IF(ISBLANK(fixtures!$K180),"",fixtures!$K180) | HD24: =IF(ISBLANK(fixtures!$L180),"",":") | HE24: =IF(ISBLANK(fixtures!$L180),"",fixtures!$L180) | HF24: =IF(ISBLANK(fixtures!$L180),"",IF(HC24>HE24,"W",IF(HC24=HE24,"D","L"))) | HI24: 27 | HJ24: Sat | HK24: =IFERROR(INDIRECT("fixtures!" & Dashboard!J1 &181) - Dashboard!K1/24,"TBC") -> 46018.625 | HM24: Fulham | HN24: H | HO24: =IF(ISBLANK(fixtures!$K181),"",fixtures!$K181) | HP24: =IF(ISBLANK(fixtures!$L181),"",":") | HQ24: =IF(ISBLANK(fixtures!$L181),"",fixtures!$L181) | HR24: =IF(ISBLANK(fixtures!$L181),"",IF(HO24>HQ24,"W",IF(HO24=HQ24,"D","L"))) | HU24: 27 | HV24: Sat | HW24: =IFERROR(INDIRECT("fixtures!" & Dashboard!J1 &177) - Dashboard!K1/24,"TBC") -> 46018.625 | HY24: Liverpool | HZ24: A | IA24: =IF(ISBLANK(fixtures!$L177),"",fixtures!$L177) | IB24: =IF(ISBLANK(fixtures!$L177),"",":") | IC24: =IF(ISBLANK(fixtures!$K177),"",fixtures!$K177) | ID24: =IF(ISBLANK(fixtures!$L177),"",IF(IA24>IC24,"W",IF(IA24=IC24,"D","L")))
A25: 30 | B25: Tue | C25: =IFERROR(INDIRECT("fixtures!" & Dashboard!J1 &182) - Dashboard!K1/24,"TBC") -> 46021.833 | E25: Aston Villa | F25: H | G25: =IF(ISBLANK(fixtures!$K182),"",fixtures!$K182) | H25: =IF(ISBLANK(fixtures!$L182),"",":") | I25: =IF(ISBLANK(fixtures!$L182),"",fixtures!$L182) | J25: =IF(ISBLANK(fixtures!$L182),"",IF(G25>I25,"W",IF(G25=I25,"D","L"))) | M25: 30 | N25: Tue | O25: =IFERROR(INDIRECT("fixtures!" & Dashboard!J1 &182) - Dashboard!K1/24,"TBC") -> 46021.833 | Q25: Arsenal | R25: A | S25: =IF(ISBLANK(fixtures!$L182),"",fixtures!$L182) | T25: =IF(ISBLANK(fixtures!$L182),"",":") | U25: =IF(ISBLANK(fixtures!$K182),"",fixtures!$K182) | V25: =IF(ISBLANK(fixtures!$L182),"",IF(S25>U25,"W",IF(S25=U25,"D","L"))) | Y25: 30 | Z25: Tue | AA25: =IFERROR(INDIRECT("fixtures!" & Dashboard!J1 &185) - Dashboard!K1/24,"TBC") -> 46021.833 | AC25: Chelsea | AD25: A | AE25: =IF(ISBLANK(fixtures!$L185),"",fixtures!$L185) | AF25: =IF(ISBLANK(fixtures!$L185),"",":") | AG25: =IF(ISBLANK(fixtures!$K185),"",fixtures!$K185) | AH25: =IF(ISBLANK(fixtures!$L185),"",IF(AE25>AG25,"W",IF(AE25=AG25,"D","L"))) | AK25: 30 | AL25: Tue | AM25: =IFERROR(INDIRECT("fixtures!" & Dashboard!J1 &183) - Dashboard!K1/24,"TBC") -> 46021.833 | AO25: Spurs | AP25: H | AQ25: =IF(ISBLANK(fixtures!$K183),"",fixtures!$K183) | AR25: =IF(ISBLANK(fixtures!$L183),"",":") | AS25: =IF(ISBLANK(fixtures!$L183),"",fixtures!$L183) | AT25: =IF(ISBLANK(fixtures!$L183),"",IF(AQ25>AS25,"W",IF(AQ25=AS25,"D","L"))) | AW25: 30 | AX25: Tue | AY25: =IFERROR(INDIRECT("fixtures!" & Dashboard!J1 &191) - Dashboard!K1/24,"TBC") -> 46021.833 | BA25: West Ham | BB25: A | BC25: =IF(ISBLANK(fixtures!$L191),"",fixtures!$L191) | BD25: =IF(ISBLANK(fixtures!$L191),"",":") | BE25: =IF(ISBLANK(fixtures!$K191),"",fixtures!$K191) | BF25: =IF(ISBLANK(fixtures!$L191),"",IF(BC25>BE25,"W",IF(BC25=BE25,"D","L"))) | BI25: 30 | BJ25: Tue | BK25: =IFERROR(INDIRECT("fixtures!" & Dashboard!J1 &184) - Dashboard!K1/24,"TBC") -> 46021.833 | BM25: Newcastle | BN25: H | BO25: =IF(ISBLANK(fixtures!$K184),"",fixtures!$K184) | BP25: =IF(ISBLANK(fixtures!$L184),"",":") | BQ25: =IF(ISBLANK(fixtures!$L184),"",fixtures!$L184) | BR25: =IF(ISBLANK(fixtures!$L184),"",IF(BO25>BQ25,"W",IF(BO25=BQ25,"D","L"))) | BU25: 30 | BV25: Tue | BW25: =IFERROR(INDIRECT("fixtures!" & Dashboard!J1 &185) - Dashboard!K1/24,"TBC") -> 46021.833 | BY25: Bournemouth | BZ25: H | CA25: =IF(ISBLANK(fixtures!$K185),"",fixtures!$K185) | CB25: =IF(ISBLANK(fixtures!$L185),"",":") | CC25: =IF(ISBLANK(fixtures!$L185),"",fixtures!$L185) | CD25: =IF(ISBLANK(fixtures!$L185),"",IF(CA25>CC25,"W",IF(CA25=CC25,"D","L"))) | CG25: 30 | CH25: Tue | CI25: =IFERROR(INDIRECT("fixtures!" & Dashboard!J1 &186) - Dashboard!K1/24,"TBC") -> 46021.833 | CK25: Fulham | CL25: H | CM25: =IF(ISBLANK(fixtures!$K186),"",fixtures!$K186) | CN25: =IF(ISBLANK(fixtures!$L186),"",":") | CO25: =IF(ISBLANK(fixtures!$L186),"",fixtures!$L186) | CP25: =IF(ISBLANK(fixtures!$L186),"",IF(CM25>CO25,"W",IF(CM25=CO25,"D","L"))) | CS25: 30 | CT25: Tue | CU25: =IFERROR(INDIRECT("fixtures!" & Dashboard!J1 &189) - Dashboard!K1/24,"TBC") -> 46021.833 | CW25: Nott'm Forest | CX25: A | CY25: =IF(ISBLANK(fixtures!$L189),"",fixtures!$L189) | CZ25: =IF(ISBLANK(fixtures!$L189),"",":") | DA25: =IF(ISBLANK(fixtures!$K189),"",fixtures!$K189) | DB25: =IF(ISBLANK(fixtures!$L189),"",IF(CY25>DA25,"W",IF(CY25=DA25,"D","L"))) | DE25: 30 | DF25: Tue | DG25: =IFERROR(INDIRECT("fixtures!" & Dashboard!J1 &186) - Dashboard!K1/24,"TBC") -> 46021.833 | DI25: Crystal Palace | DJ25: A | DK25: =IF(ISBLANK(fixtures!$L186),"",fixtures!$L186) | DL25: =IF(ISBLANK(fixtures!$L186),"",":") | DM25: =IF(ISBLANK(fixtures!$K186),"",fixtures!$K186) | DN25: =IF(ISBLANK(fixtures!$L186),"",IF(DK25>DM25,"W",IF(DK25=DM25,"D","L"))) | DQ25: 30 | DR25: Tue | DS25: =IFERROR(INDIRECT("fixtures!" & Dashboard!J1 &187) - Dashboard!K1/24,"TBC") -> 46021.833 | DU25: Liverpool | DV25: A | DW25: =IF(ISBLANK(fixtures!$L187),"",fixtures!$L187) | DX25: =IF(ISBLANK(fixtures!$L187),"",":") | DY25: =IF(ISBLANK(fixtures!$K187),"",fixtures!$K187) | DZ25: =IF(ISBLANK(fixtures!$L187),"",IF(DW25>DY25,"W",IF(DW25=DY25,"D","L"))) | EC25: 30 | ED25: Tue | EE25: =IFERROR(INDIRECT("fixtures!" & Dashboard!J1 &187) - Dashboard!K1/24,"TBC") -> 46021.833 | EG25: Leeds Utd | EH25: H | EI25: =IF(ISBLANK(fixtures!$K187),"",fixtures!$K187) | EJ25: =IF(ISBLANK(fixtures!$L187),"",":") | EK25: =IF(ISBLANK(fixtures!$L187),"",fixtures!$L187) | EL25: =IF(ISBLANK(fixtures!$L187),"",IF(EI25>EK25,"W",IF(EI25=EK25,"D","L"))) | EO25: 30 | EP25: Tue | EQ25: =IFERROR(INDIRECT("fixtures!" & Dashboard!J1 &190) - Dashboard!K1/24,"TBC") -> 46021.833 | ES25: Sunderland | ET25: A | EU25: =IF(ISBLANK(fixtures!$L190),"",fixtures!$L190) | EV25: =IF(ISBLANK(fixtures!$L190),"",":") | EW25: =IF(ISBLANK(fixtures!$K190),"",fixtures!$K190) | EX25: =IF(ISBLANK(fixtures!$L190),"",IF(EU25>EW25,"W",IF(EU25=EW25,"D","L"))) | FA25: 30 | FB25: Tue | FC25: =IFERROR(INDIRECT("fixtures!" & Dashboard!J1 &188) - Dashboard!K1/24,"TBC") -> 46021.833 | FE25: Wolves | FF25: H | FG25: =IF(ISBLANK(fixtures!$K188),"",fixtures!$K188) | FH25: =IF(ISBLANK(fixtures!$L188),"",":") | FI25: =IF(ISBLANK(fixtures!$L188),"",fixtures!$L188) | FJ25: =IF(ISBLANK(fixtures!$L188),"",IF(FG25>FI25,"W",IF(FG25=FI25,"D","L"))) | FM25: 30 | FN25: Tue | FO25: =IFERROR(INDIRECT("fixtures!" & Dashboard!J1 &184) - Dashboard!K1/24,"TBC") -> 46021.833 | FQ25: Burnley | FR25: A | FS25: =IF(ISBLANK(fixtures!$L184),"",fixtures!$L184) | FT25: =IF(ISBLANK(fixtures!$L184),"",":") | FU25: =IF(ISBLANK(fixtures!$K184),"",fixtures!$K184) | FV25: =IF(ISBLANK(fixtures!$L184),"",IF(FS25>FU25,"W",IF(FS25=FU25,"D","L"))) | FY25: 30 | FZ25: Tue | GA25: =IFERROR(INDIRECT("fixtures!" & Dashboard!J1 &189) - Dashboard!K1/24,"TBC") -> 46021.833 | GC25: Everton | GD25: H | GE25: =IF(ISBLANK(fixtures!$K189),"",fixtures!$K189) | GF25: =IF(ISBLANK(fixtures!$L189),"",":") | GG25: =IF(ISBLANK(fixtures!$L189),"",fixtures!$L189) | GH25: =IF(ISBLANK(fixtures!$L189),"",IF(GE25>GG25,"W",IF(GE25=GG25,"D","L"))) | GK25: 30 | GL25: Tue | GM25: =IFERROR(INDIRECT("fixtures!" & Dashboard!J1 &183) - Dashboard!K1/24,"TBC") -> 46021.833 | GO25: Brentford | GP25: A | GQ25: =IF(ISBLANK(fixtures!$L183),"",fixtures!$L183) | GR25: =IF(ISBLANK(fixtures!$L183),"",":") | GS25: =IF(ISBLANK(fixtures!$K183),"",fixtures!$K183) | GT25: =IF(ISBLANK(fixtures!$L183),"",IF(GQ25>GS25,"W",IF(GQ25=GS25,"D","L"))) | GW25: 30 | GX25: Tue | GY25: =IFERROR(INDIRECT("fixtures!" & Dashboard!J1 &190) - Dashboard!K1/24,"TBC") -> 46021.833 | HA25: Man City | HB25: H | HC25: =IF(ISBLANK(fixtures!$K190),"",fixtures!$K190) | HD25: =IF(ISBLANK(fixtures!$L190),"",":") | HE25: =IF(ISBLANK(fixtures!$L190),"",fixtures!$L190) | HF25: =IF(ISBLANK(fixtures!$L190),"",IF(HC25>HE25,"W",IF(HC25=HE25,"D","L"))) | HI25: 30 | HJ25: Tue | HK25: =IFERROR(INDIRECT("fixtures!" & Dashboard!J1 &191) - Dashboard!K1/24,"TBC") -> 46021.833 | HM25: Brighton | HN25: H | HO25: =IF(ISBLANK(fixtures!$K191),"",fixtures!$K191) | HP25: =IF(ISBLANK(fixtures!$L191),"",":") | HQ25: =IF(ISBLANK(fixtures!$L191),"",fixtures!$L191) | HR25: =IF(ISBLANK(fixtures!$L191),"",IF(HO25>HQ25,"W",IF(HO25=HQ25,"D","L"))) | HU25: 30 | HV25: Tue | HW25: =IFERROR(INDIRECT("fixtures!" & Dashboard!J1 &188) - Dashboard!K1/24,"TBC") -> 46021.833 | HY25: Man Utd | HZ25: A | IA25: =IF(ISBLANK(fixtures!$L188),"",fixtures!$L188) | IB25: =IF(ISBLANK(fixtures!$L188),"",":") | IC25: =IF(ISBLANK(fixtures!$K188),"",fixtures!$K188) | ID25: =IF(ISBLANK(fixtures!$L188),"",IF(IA25>IC25,"W",IF(IA25=IC25,"D","L")))
A26: January | M26: January | Y26: January | AK26: January | AW26: January | BI26: January | BU26: January | CG26: January | CS26: January | DE26: January | DQ26: January | EC26: January | EO26: January | FA26: January | FM26: January | FY26: January | GK26: January | GW26: January | HI26: January | HU26: January
A27: 3 | B27: Sat | C27: =IFERROR(INDIRECT("fixtures!" & Dashboard!J1 &193) - Dashboard!K1/24,"TBC") -> 46025.625 | E27: Bournemouth | F27: A | G27: =IF(ISBLANK(fixtures!$L193),"",fixtures!$L193) | H27: =IF(ISBLANK(fixtures!$L193),"",":") | I27: =IF(ISBLANK(fixtures!$K193),"",fixtures!$K193) | J27: =IF(ISBLANK(fixtures!$L193),"",IF(G27>I27,"W",IF(G27=I27,"D","L"))) | M27: 3 | N27: Sat | O27: =IFERROR(INDIRECT("fixtures!" & Dashboard!J1 &192) - Dashboard!K1/24,"TBC") -> 46025.625 | Q27: Nott'm Forest | R27: H | S27: =IF(ISBLANK(fixtures!$K192),"",fixtures!$K192) | T27: =IF(ISBLANK(fixtures!$L192),"",":") | U27: =IF(ISBLANK(fixtures!$L192),"",fixtures!$L192) | V27: =IF(ISBLANK(fixtures!$L192),"",IF(S27>U27,"W",IF(S27=U27,"D","L"))) | Y27: 3 | Z27: Sat | AA27: =IFERROR(INDIRECT("fixtures!" & Dashboard!J1 &193) - Dashboard!K1/24,"TBC") -> 46025.625 | AC27: Arsenal | AD27: H | AE27: =IF(ISBLANK(fixtures!$K193),"",fixtures!$K193) | AF27: =IF(ISBLANK(fixtures!$L193),"",":") | AG27: =IF(ISBLANK(fixtures!$L193),"",fixtures!$L193) | AH27: =IF(ISBLANK(fixtures!$L193),"",IF(AE27>AG27,"W",IF(AE27=AG27,"D","L"))) | AK27: 3 | AL27: Sat | AM27: =IFERROR(INDIRECT("fixtures!" & Dashboard!J1 &195) - Dashboard!K1/24,"TBC") -> 46025.625 | AO27: Everton | AP27: A | AQ27: =IF(ISBLANK(fixtures!$L195),"",fixtures!$L195) | AR27: =IF(ISBLANK(fixtures!$L195),"",":") | AS27: =IF(ISBLANK(fixtures!$K195),"",fixtures!$K195) | AT27: =IF(ISBLANK(fixtures!$L195),"",IF(AQ27>AS27,"W",IF(AQ27=AS27,"D","L"))) | AW27: 3 | AX27: Sat | AY27: =IFERROR(INDIRECT("fixtures!" & Dashboard!J1 &194) - Dashboard!K1/24,"TBC") -> 46025.625 | BA27: Burnley | BB27: H | BC27: =IF(ISBLANK(fixtures!$K194),"",fixtures!$K194) | BD27: =IF(ISBLANK(fixtures!$L194),"",":") | BE27: =IF(ISBLANK(fixtures!$L194),"",fixtures!$L194) | BF27: =IF(ISBLANK(fixtures!$L194),"",IF(BC27>BE27,"W",IF(BC27=BE27,"D","L"))) | BI27: 3 | BJ27: Sat | BK27: =IFERROR(INDIRECT("fixtures!" & Dashboard!J1 &194) - Dashboard!K1/24,"TBC") -> 46025.625 | BM27: Brighton | BN27: A | BO27: =IF(ISBLANK(fixtures!$L194),"",fixtures!$L194) | BP27: =IF(ISBLANK(fixtures!$L194),"",":") | BQ27: =IF(ISBLANK(fixtures!$K194),"",fixtures!$K194) | BR27: =IF(ISBLANK(fixtures!$L194),"",IF(BO27>BQ27,"W",IF(BO27=BQ27,"D","L"))) | BU27: 3 | BV27: Sat | BW27: =IFERROR(INDIRECT("fixtures!" & Dashboard!J1 &198) - Dashboard!K1/24,"TBC") -> 46025.625 | BY27: Man City | BZ27: A | CA27: =IF(ISBLANK(fixtures!$L198),"",fixtures!$L198) | CB27: =IF(ISBLANK(fixtures!$L198),"",":") | CC27: =IF(ISBLANK(fixtures!$K198),"",fixtures!$K198) | CD27: =IF(ISBLANK(fixtures!$L198),"",IF(CA27>CC27,"W",IF(CA27=CC27,"D","L"))) | CG27: 3 | CH27: Sat | CI27: =IFERROR(INDIRECT("fixtures!" & Dashboard!J1 &199) - Dashboard!K1/24,"TBC") -> 46025.625 | CK27: Newcastle | CL27: A | CM27: =IF(ISBLANK(fixtures!$L199),"",fixtures!$L199) | CN27: =IF(ISBLANK(fixtures!$L199),"",":") | CO27: =IF(ISBLANK(fixtures!$K199),"",fixtures!$K199) | CP27: =IF(ISBLANK(fixtures!$L199),"",IF(CM27>CO27,"W",IF(CM27=CO27,"D","L"))) | CS27: 3 | CT27: Sat | CU27: =IFERROR(INDIRECT("fixtures!" & Dashboard!J1 &195) - Dashboard!K1/24,"TBC") -> 46025.625 | CW27: Brentford | CX27: H | CY27: =IF(ISBLANK(fixtures!$K195),"",fixtures!$K195) | CZ27: =IF(ISBLANK(fixtures!$L195),"",":") | DA27: =IF(ISBLANK(fixtures!$L195),"",fixtures!$L195) | DB27: =IF(ISBLANK(fixtures!$L195),"",IF(CY27>DA27,"W",IF(CY27=DA27,"D","L"))) | DE27: 3 | DF27: Sat | DG27: =IFERROR(INDIRECT("fixtures!" & Dashboard!J1 &196) - Dashboard!K1/24,"TBC") -> 46025.625 | DI27: Liverpool | DJ27: H | DK27: =IF(ISBLANK(fixtures!$K196),"",fixtures!$K196) | DL27: =IF(ISBLANK(fixtures!$L196),"",":") | DM27: =IF(ISBLANK(fixtures!$L196),"",fixtures!$L196) | DN27: =IF(ISBLANK(fixtures!$L196),"",IF(DK27>DM27,"W",IF(DK27=DM27,"D","L"))) | DQ27: 3 | DR27: Sat | DS27: =IFERROR(INDIRECT("fixtures!" & Dashboard!J1 &197) - Dashboard!K1/24,"TBC") -> 46025.625 | DU27: Man Utd | DV27: H | DW27: =IF(ISBLANK(fixtures!$K197),"",fixtures!$K197) | DX27: =IF(ISBLANK(fixtures!$L197),"",":") | DY27: =IF(ISBLANK(fixtures!$L197),"",fixtures!$L197) | DZ27: =IF(ISBLANK(fixtures!$L197),"",IF(DW27>DY27,"W",IF(DW27=DY27,"D","L"))) | EC27: 3 | ED27: Sat | EE27: =IFERROR(INDIRECT("fixtures!" & Dashboard!J1 &196) - Dashboard!K1/24,"TBC") -> 46025.625 | EG27: Fulham | EH27: A | EI27: =IF(ISBLANK(fixtures!$L196),"",fixtures!$L196) | EJ27: =IF(ISBLANK(fixtures!$L196),"",":") | EK27: =IF(ISBLANK(fixtures!$K196),"",fixtures!$K196) | EL27: =IF(ISBLANK(fixtures!$L196),"",IF(EI27>EK27,"W",IF(EI27=EK27,"D","L"))) | EO27: 3 | EP27: Sat | EQ27: =IFERROR(INDIRECT("fixtures!" & Dashboard!J1 &198) - Dashboard!K1/24,"TBC") -> 46025.625 | ES27: Chelsea | ET27: H | EU27: =IF(ISBLANK(fixtures!$K198),"",fixtures!$K198) | EV27: =IF(ISBLANK(fixtures!$L198),"",":") | EW27: =IF(ISBLANK(fixtures!$L198),"",fixtures!$L198) | EX27: =IF(ISBLANK(fixtures!$L198),"",IF(EU27>EW27,"W",IF(EU27=EW27,"D","L"))) | FA27: 3 | FB27: Sat | FC27: =IFERROR(INDIRECT("fixtures!" & Dashboard!J1 &197) - Dashboard!K1/24,"TBC") -> 46025.625 | FE27: Leeds Utd | FF27: A | FG27: =IF(ISBLANK(fixtures!$L197),"",fixtures!$L197) | FH27: =IF(ISBLANK(fixtures!$L197),"",":") | FI27: =IF(ISBLANK(fixtures!$K197),"",fixtures!$K197) | FJ27: =IF(ISBLANK(fixtures!$L197),"",IF(FG27>FI27,"W",IF(FG27=FI27,"D","L"))) | FM27: 3 | FN27: Sat | FO27: =IFERROR(INDIRECT("fixtures!" & Dashboard!J1 &199) - Dashboard!K1/24,"TBC") -> 46025.625 | FQ27: Crystal Palace | FR27: H | FS27: =IF(ISBLANK(fixtures!$K199),"",fixtures!$K199) | FT27: =IF(ISBLANK(fixtures!$L199),"",":") | FU27: =IF(ISBLANK(fixtures!$L199),"",fixtures!$L199) | FV27: =IF(ISBLANK(fixtures!$L199),"",IF(FS27>FU27,"W",IF(FS27=FU27,"D","L"))) | FY27: 3 | FZ27: Sat | GA27: =IFERROR(INDIRECT("fixtures!" & Dashboard!J1 &192) - Dashboard!K1/24,"TBC") -> 46025.625 | GC27: Aston Villa | GD27: A | GE27: =IF(ISBLANK(fixtures!$L192),"",fixtures!$L192) | GF27: =IF(ISBLANK(fixtures!$L192),"",":") | GG27: =IF(ISBLANK(fixtures!$K192),"",fixtures!$K192) | GH27: =IF(ISBLANK(fixtures!$L192),"",IF(GE27>GG27,"W",IF(GE27=GG27,"D","L"))) | GK27: 3 | GL27: Sat | GM27: =IFERROR(INDIRECT("fixtures!" & Dashboard!J1 &200) - Dashboard!K1/24,"TBC") -> 46025.625 | GO27: Sunderland | GP27: H | GQ27: =IF(ISBLANK(fixtures!$K200),"",fixtures!$K200) | GR27: =IF(ISBLANK(fixtures!$L200),"",":") | GS27: =IF(ISBLANK(fixtures!$L200),"",fixtures!$L200) | GT27: =IF(ISBLANK(fixtures!$L200),"",IF(GQ27>GS27,"W",IF(GQ27=GS27,"D","L"))) | GW27: 3 | GX27: Sat | GY27: =IFERROR(INDIRECT("fixtures!" & Dashboard!J1 &200) - Dashboard!K1/24,"TBC") -> 46025.625 | HA27: Spurs | HB27: A | HC27: =IF(ISBLANK(fixtures!$L200),"",fixtures!$L200) | HD27: =IF(ISBLANK(fixtures!$L200),"",":") | HE27: =IF(ISBLANK(fixtures!$K200),"",fixtures!$K200) | HF27: =IF(ISBLANK(fixtures!$L200),"",IF(HC27>HE27,"W",IF(HC27=HE27,"D","L"))) | HI27: 3 | HJ27: Sat | HK27: =IFERROR(INDIRECT("fixtures!" & Dashboard!J1 &201) - Dashboard!K1/24,"TBC") -> 46025.625 | HM27: Wolves | HN27: A | HO27: =IF(ISBLANK(fixtures!$L201),"",fixtures!$L201) | HP27: =IF(ISBLANK(fixtures!$L201),"",":") | HQ27: =IF(ISBLANK(fixtures!$K201),"",fixtures!$K201) | HR27: =IF(ISBLANK(fixtures!$L201),"",IF(HO27>HQ27,"W",IF(HO27=HQ27,"D","L"))) | HU27: 3 | HV27: Sat | HW27: =IFERROR(INDIRECT("fixtures!" & Dashboard!J1 &201) - Dashboard!K1/24,"TBC") -> 46025.625 | HY27: West Ham | HZ27: H | IA27: =IF(ISBLANK(fixtures!$K201),"",fixtures!$K201) | IB27: =IF(ISBLANK(fixtures!$L201),"",":") | IC27: =IF(ISBLANK(fixtures!$L201),"",fixtures!$L201) | ID27: =IF(ISBLANK(fixtures!$L201),"",IF(IA27>IC27,"W",IF(IA27=IC27,"D","L")))
