Workbook
Name HA_01: INDEX(tableTmp!$C$2:$C$22,MATCH('League Table'!$S$2,tableTmp!$B$2:$B$22,0))
Name HA_02: INDEX(tableTmp!$C$2:$C$22,MATCH('League Table'!$S$3,tableTmp!$B$2:$B$22,0))
Name HA_03: INDEX(tableTmp!$C$2:$C$22,MATCH('League Table'!$S$4,tableTmp!$B$2:$B$22,0))
Name HA_04: INDEX(tableTmp!$C$2:$C$22,MATCH('League Table'!$S$5,tableTmp!$B$2:$B$22,0))
Name HA_05: INDEX(tableTmp!$C$2:$C$22,MATCH('League Table'!$S$6,tableTmp!$B$2:$B$22,0))
Name HA_06: INDEX(tableTmp!$C$2:$C$22,MATCH('League Table'!$S$7,tableTmp!$B$2:$B$22,0))
Name HA_07: INDEX(tableTmp!$C$2:$C$22,MATCH('League Table'!$S$8,tableTmp!$B$2:$B$22,0))
Name HA_08: INDEX(tableTmp!$C$2:$C$22,MATCH('League Table'!$S$9,tableTmp!$B$2:$B$22,0))
Name HA_09: INDEX(tableTmp!$C$2:$C$22,MATCH('League Table'!$S$10,tableTmp!$B$2:$B$22,0))
Name HA_10: INDEX(tableTmp!$C$2:$C$22,MATCH('League Table'!$S$11,tableTmp!$B$2:$B$22,0))
Name HA_11: INDEX(tableTmp!$C$2:$C$22,MATCH('League Table'!$S$12,tableTmp!$B$2:$B$22,0))
Name HA_12: INDEX(tableTmp!$C$2:$C$22,MATCH('League Table'!$S$13,tableTmp!$B$2:$B$22,0))
Name HA_13: INDEX(tableTmp!$C$2:$C$22,MATCH('League Table'!$S$14,tableTmp!$B$2:$B$22,0))
Name HA_14: INDEX(tableTmp!$C$2:$C$22,MATCH('League Table'!$S$15,tableTmp!$B$2:$B$22,0))
Name HA_15: INDEX(tableTmp!$C$2:$C$22,MATCH('League Table'!$S$16,tableTmp!$B$2:$B$22,0))
Name HA_16: INDEX(tableTmp!$C$2:$C$22,MATCH('League Table'!$S$17,tableTmp!$B$2:$B$22,0))
Name HA_17: INDEX(tableTmp!$C$2:$C$22,MATCH('League Table'!$S$18,tableTmp!$B$2:$B$22,0))
Name HA_18: INDEX(tableTmp!$C$2:$C$22,MATCH('League Table'!$S$19,tableTmp!$B$2:$B$22,0))
Name HA_19: INDEX(tableTmp!$C$2:$C$22,MATCH('League Table'!$S$20,tableTmp!$B$2:$B$22,0))
Name HA_20: INDEX(tableTmp!$C$2:$C$22,MATCH('League Table'!$S$21,tableTmp!$B$2:$B$22,0))
Name T_01: INDEX(tableTmp!$C$2:$C$21,MATCH('League Table'!$B$2,tableTmp!$B$2:$B$21,0))
Name T_02: INDEX(tableTmp!$C$2:$C$21,MATCH('League Table'!$B$3,tableTmp!$B$2:$B$21,0))
Name T_03: INDEX(tableTmp!$C$2:$C$21,MATCH('League Table'!$B$4,tableTmp!$B$2:$B$21,0))
Name T_04: INDEX(tableTmp!$C$2:$C$21,MATCH('League Table'!$B$5,tableTmp!$B$2:$B$21,0))
Name T_05: INDEX(tableTmp!$C$2:$C$21,MATCH('League Table'!$B$6,tableTmp!$B$2:$B$21,0))
Name T_06: INDEX(tableTmp!$C$2:$C$21,MATCH('League Table'!$B$7,tableTmp!$B$2:$B$21,0))
Name T_07: INDEX(tableTmp!$C$2:$C$21,MATCH('League Table'!$B$8,tableTmp!$B$2:$B$21,0))
Name T_08: INDEX(tableTmp!$C$2:$C$21,MATCH('League Table'!$B$9,tableTmp!$B$2:$B$21,0))
Name T_09: INDEX(tableTmp!$C$2:$C$21,MATCH('League Table'!$B$10,tableTmp!$B$2:$B$21,0))
Name T_10: INDEX(tableTmp!$C$2:$C$21,MATCH('League Table'!$B$11,tableTmp!$B$2:$B$21,0))
Name T_11: INDEX(tableTmp!$C$2:$C$21,MATCH('League Table'!$B$12,tableTmp!$B$2:$B$21,0))
Name T_12: INDEX(tableTmp!$C$2:$C$21,MATCH('League Table'!$B$13,tableTmp!$B$2:$B$21,0))
Name T_13: INDEX(tableTmp!$C$2:$C$21,MATCH('League Table'!$B$14,tableTmp!$B$2:$B$21,0))
Name T_14: INDEX(tableTmp!$C$2:$C$21,MATCH('League Table'!$B$15,tableTmp!$B$2:$B$21,0))
Name T_15: INDEX(tableTmp!$C$2:$C$21,MATCH('League Table'!$B$16,tableTmp!$B$2:$B$21,0))
Name T_16: INDEX(tableTmp!$C$2:$C$21,MATCH('League Table'!$B$17,tableTmp!$B$2:$B$21,0))
Name T_17: INDEX(tableTmp!$C$2:$C$21,MATCH('League Table'!$B$18,tableTmp!$B$2:$B$21,0))
Name T_18: INDEX(tableTmp!$C$2:$C$21,MATCH('League Table'!$B$19,tableTmp!$B$2:$B$21,0))
Name T_19: INDEX(tableTmp!$C$2:$C$21,MATCH('League Table'!$B$20,tableTmp!$B$2:$B$21,0))
Name T_20: INDEX(tableTmp!$C$2:$C$21,MATCH('League Table'!$B$21,tableTmp!$B$2:$B$21,0))

Sheet Dashboard
B1: Premier League 2025 | C1: Time Zone | D1: London | H1: Updated on 7/27/2025 | J1: =VLOOKUP(D1,I2:K11,2,FALSE) -> D | K1: =VLOOKUP(D1,I2:K11,3,FALSE) -> 0
B2: Arsenal | G2: Introduction: | I2: New York | J2: C | K2: 0
B3: Aston Villa | G3: 1 | H3: Enter home goal and away goal in "fixtures" tab | I3: Chicago | J3: C | K3: 1
B4: Bournemouth | G4: 2 | H4: "League Table", "Fixtures_by_Clubs" and "Fixtures_by_Date" Tabs will automatically update. | I4: Albuquerque | J4: C | K4: 2
B5: Brentford | G5: 3 | H5: In case penalty points are imposed on to a certain club, enter the penalty points in the "Deduction" tab. | I5: San Francisco | J5: C | K5: 3
B6: Brighton | G6: 4 | H6: Fixture calendar is subject to change. Check back at excel4soccer.com for score charts with updated schedule. | I6: London | J6: D | K6: 0
B7: Burnley | G7: 5 | H7: Good luck to your favorite club! | I7: Paris | J7: D | K7: -1
B8: Chelsea | H8: Fixture date and time are subject to change. | I8: Bucharest | J8: D | K8: -2
B9: Crystal Palace | I9: Moscow | J9: E | K9: 0
B10: Everton | I10: Dubai | J10: F | K10: 0
B11: Fulham | D11: League | E11: Premier League | I11: Shanghai | J11: G | K11: 0
B12: Leeds Utd | D12: Season | E12: 2025
B13: Liverpool | D13: Number of Clubs | E13: 20
B14: Man City | D14: Start Date | E14: 45884
B15: Man Utd | D15: End Date | E15: 46166
B16: Newcastle
B17: Nott'm Forest
B18: Spurs
B19: Sunderland
B20: West Ham
B21: Wolves
A29: Useful links:
A30: 1 | B30: https://www.excel4soccer.com/
A34: ©2025 excel4soccer.com

Sheet League Table
A1: Rank | B1: Team | D1: MP | E1: Won | F1: Drawn | G1: Lost | H1: GF | I1: GA | J1: GD | K1: Points | L1: Form | Q1: Next
A2: 1 | B2: =VLOOKUP('League Table'!A2,tableTmp!$A$2:$S$21,2,FALSE) -> Arsenal | C2: =VLOOKUP('League Table'!B2,tableTmp!$B$2:$C$21,2,FALSE) -> #VALUE! | D2: =VLOOKUP('League Table'!A2,tableTmp!$A$2:$S$21,4,FALSE) -> 0 | E2: =VLOOKUP('League Table'!A2,tableTmp!$A$2:$S$21,5,FALSE) -> 0 | F2: =VLOOKUP('League Table'!A2,tableTmp!$A$2:$S$21,6,FALSE) -> 0 | G2: =VLOOKUP('League Table'!A2,tableTmp!$A$2:$S$21,7,FALSE) -> 0 | H2: =VLOOKUP('League Table'!A2,tableTmp!$A$2:$S$21,8,FALSE) -> 0 | I2: =VLOOKUP('League Table'!A2,tableTmp!$A$2:$S$21,9,FALSE) -> 0 | J2: =VLOOKUP('League Table'!A2,tableTmp!$A$2:$S$21,10,FALSE) -> 0 | K2: =VLOOKUP('League Table'!A2,tableTmp!$A$2:$S$21,11,FALSE) -> 0 | L2: =VLOOKUP('League Table'!A2,tableTmp!$A$2:$S$21,12,FALSE) | M2: =VLOOKUP('League Table'!A2,tableTmp!$A$2:$S$21,13,FALSE) | N2: =VLOOKUP('League Table'!A2,tableTmp!$A$2:$S$21,14,FALSE) | O2: =VLOOKUP('League Table'!A2,tableTmp!$A$2:$S$21,15,FALSE) | P2: =VLOOKUP('League Table'!A2,tableTmp!$A$2:$S$21,16,FALSE) | Q2: =VLOOKUP('League Table'!S2,tableTmp!$B$2:$C$21,2,FALSE) -> #VALUE! | R2: =VLOOKUP('League Table'!A2,tableTmp!$A$2:$S$21,18,FALSE) -> A | S2: =VLOOKUP('League Table'!A2,tableTmp!$A$2:$S$21,17,FALSE) -> Man Utd
A3: 2 | B3: =VLOOKUP('League Table'!A3,tableTmp!$A$2:$S$21,2,FALSE) -> Aston Villa | C3: =VLOOKUP('League Table'!B3,tableTmp!$B$2:$C$21,2,FALSE) -> #VALUE! | D3: =VLOOKUP('League Table'!A3,tableTmp!$A$2:$S$21,4,FALSE) -> 0 | E3: =VLOOKUP('League Table'!A3,tableTmp!$A$2:$S$21,5,FALSE) -> 0 | F3: =VLOOKUP('League Table'!A3,tableTmp!$A$2:$S$21,6,FALSE) -> 0 | G3: =VLOOKUP('League Table'!A3,tableTmp!$A$2:$S$21,7,FALSE) -> 0 | H3: =VLOOKUP('League Table'!A3,tableTmp!$A$2:$S$21,8,FALSE) -> 0 | I3: =VLOOKUP('League Table'!A3,tableTmp!$A$2:$S$21,9,FALSE) -> 0 | J3: =VLOOKUP('League Table'!A3,tableTmp!$A$2:$S$21,10,FALSE) -> 0 | K3: =VLOOKUP('League Table'!A3,tableTmp!$A$2:$S$21,11,FALSE) -> 0 | L3: =VLOOKUP('League Table'!A3,tableTmp!$A$2:$S$21,12,FALSE) | M3: =VLOOKUP('League Table'!A3,tableTmp!$A$2:$S$21,13,FALSE) | N3: =VLOOKUP('League Table'!A3,tableTmp!$A$2:$S$21,14,FALSE) | O3: =VLOOKUP('League Table'!A3,tableTmp!$A$2:$S$21,15,FALSE) | P3: =VLOOKUP('League Table'!A3,tableTmp!$A$2:$S$21,16,FALSE) | Q3: =VLOOKUP('League Table'!S3,tableTmp!$B$2:$C$21,2,FALSE) -> #VALUE! | R3: =VLOOKUP('League Table'!A3,tableTmp!$A$2:$S$21,18,FALSE) -> H | S3: =VLOOKUP('League Table'!A3,tableTmp!$A$2:$S$21,17,FALSE) -> Newcastle
A4: 3 | B4: =VLOOKUP('League Table'!A4,tableTmp!$A$2:$S$21,2,FALSE) -> Bournemouth | C4: =VLOOKUP('League Table'!B4,tableTmp!$B$2:$C$21,2,FALSE) -> #VALUE! | D4: =VLOOKUP('League Table'!A4,tableTmp!$A$2:$S$21,4,FALSE) -> 0 | E4: =VLOOKUP('League Table'!A4,tableTmp!$A$2:$S$21,5,FALSE) -> 0 | F4: =VLOOKUP('League Table'!A4,tableTmp!$A$2:$S$21,6,FALSE) -> 0 | G4: =VLOOKUP('League Table'!A4,tableTmp!$A$2:$S$21,7,FALSE) -> 0 | H4: =VLOOKUP('League Table'!A4,tableTmp!$A$2:$S$21,8,FALSE) -> 0 | I4: =VLOOKUP('League Table'!A4,tableTmp!$A$2:$S$21,9,FALSE) -> 0 | J4: =VLOOKUP('League Table'!A4,tableTmp!$A$2:$S$21,10,FALSE) -> 0 | K4: =VLOOKUP('League Table'!A4,tableTmp!$A$2:$S$21,11,FALSE) -> 0 | L4: =VLOOKUP('League Table'!A4,tableTmp!$A$2:$S$21,12,FALSE) | M4: =VLOOKUP('League Table'!A4,tableTmp!$A$2:$S$21,13,FALSE) | N4: =VLOOKUP('League Table'!A4,tableTmp!$A$2:$S$21,14,FALSE) | O4: =VLOOKUP('League Table'!A4,tableTmp!$A$2:$S$21,15,FALSE) | P4: =VLOOKUP('League Table'!A4,tableTmp!$A$2:$S$21,16,FALSE) | Q4: =VLOOKUP('League Table'!S4,tableTmp!$B$2:$C$21,2,FALSE) -> #VALUE! | R4: =VLOOKUP('League Table'!A4,tableTmp!$A$2:$S$21,18,FALSE) -> A | S4: =VLOOKUP('League Table'!A4,tableTmp!$A$2:$S$21,17,FALSE) -> Liverpool
A5: 4 | B5: =VLOOKUP('League Table'!A5,tableTmp!$A$2:$S$21,2,FALSE) -> Brentford | C5: =VLOOKUP('League Table'!B5,tableTmp!$B$2:$C$21,2,FALSE) -> #VALUE! | D5: =VLOOKUP('League Table'!A5,tableTmp!$A$2:$S$21,4,FALSE) -> 0 | E5: =VLOOKUP('League Table'!A5,tableTmp!$A$2:$S$21,5,FALSE) -> 0 | F5: =VLOOKUP('League Table'!A5,tableTmp!$A$2:$S$21,6,FALSE) -> 0 | G5: =VLOOKUP('League Table'!A5,tableTmp!$A$2:$S$21,7,FALSE) -> 0 | H5: =VLOOKUP('League Table'!A5,tableTmp!$A$2:$S$21,8,FALSE) -> 0 | I5: =VLOOKUP('League Table'!A5,tableTmp!$A$2:$S$21,9,FALSE) -> 0 | J5: =VLOOKUP('League Table'!A5,tableTmp!$A$2:$S$21,10,FALSE) -> 0 | K5: =VLOOKUP('League Table'!A5,tableTmp!$A$2:$S$21,11,FALSE) -> 0 | L5: =VLOOKUP('League Table'!A5,tableTmp!$A$2:$S$21,12,FALSE) | M5: =VLOOKUP('League Table'!A5,tableTmp!$A$2:$S$21,13,FALSE) | N5: =VLOOKUP('League Table'!A5,tableTmp!$A$2:$S$21,14,FALSE) | O5: =VLOOKUP('League Table'!A5,tableTmp!$A$2:$S$21,15,FALSE) | P5: =VLOOKUP('League Table'!A5,tableTmp!$A$2:$S$21,16,FALSE) | Q5: =VLOOKUP('League Table'!S5,tableTmp!$B$2:$C$21,2,FALSE) -> #VALUE! | R5: =VLOOKUP('League Table'!A5,tableTmp!$A$2:$S$21,18,FALSE) -> A | S5: =VLOOKUP('League Table'!A5,tableTmp!$A$2:$S$21,17,FALSE) -> Nott'm Forest
A6: 5 | B6: =VLOOKUP('League Table'!A6,tableTmp!$A$2:$S$21,2,FALSE) -> Brighton | C6: =VLOOKUP('League Table'!B6,tableTmp!$B$2:$C$21,2,FALSE) -> #VALUE! | D6: =VLOOKUP('League Table'!A6,tableTmp!$A$2:$S$21,4,FALSE) -> 0 | E6: =VLOOKUP('League Table'!A6,tableTmp!$A$2:$S$21,5,FALSE) -> 0 | F6: =VLOOKUP('League Table'!A6,tableTmp!$A$2:$S$21,6,FALSE) -> 0 | G6: =VLOOKUP('League Table'!A6,tableTmp!$A$2:$S$21,7,FALSE) -> 0 | H6: =VLOOKUP('League Table'!A6,tableTmp!$A$2:$S$21,8,FALSE) -> 0 | I6: =VLOOKUP('League Table'!A6,tableTmp!$A$2:$S$21,9,FALSE) -> 0 | J6: =VLOOKUP('League Table'!A6,tableTmp!$A$2:$S$21,10,FALSE) -> 0 | K6: =VLOOKUP('League Table'!A6,tableTmp!$A$2:$S$21,11,FALSE) -> 0 | L6: =VLOOKUP('League Table'!A6,tableTmp!$A$2:$S$21,12,FALSE) | M6: =VLOOKUP('League Table'!A6,tableTmp!$A$2:$S$21,13,FALSE) | N6: =VLOOKUP('League Table'!A6,tableTmp!$A$2:$S$21,14,FALSE) | O6: =VLOOKUP('League Table'!A6,tableTmp!$A$2:$S$21,15,FALSE) | P6: =VLOOKUP('League Table'!A6,tableTmp!$A$2:$S$21,16,FALSE) | Q6: =VLOOKUP('League Table'!S6,tableTmp!$B$2:$C$21,2,FALSE) -> #VALUE! | R6: =VLOOKUP('League Table'!A6,tableTmp!$A$2:$S$21,18,FALSE) -> H | S6: =VLOOKUP('League Table'!A6,tableTmp!$A$2:$S$21,17,FALSE) -> Fulham
A7: 6 | B7: =VLOOKUP('League Table'!A7,tableTmp!$A$2:$S$21,2,FALSE) -> Burnley | C7: =VLOOKUP('League Table'!B7,tableTmp!$B$2:$C$21,2,FALSE) -> #VALUE! | D7: =VLOOKUP('League Table'!A7,tableTmp!$A$2:$S$21,4,FALSE) -> 0 | E7: =VLOOKUP('League Table'!A7,tableTmp!$A$2:$S$21,5,FALSE) -> 0 | F7: =VLOOKUP('League Table'!A7,tableTmp!$A$2:$S$21,6,FALSE) -> 0 | G7: =VLOOKUP('League Table'!A7,tableTmp!$A$2:$S$21,7,FALSE) -> 0 | H7: =VLOOKUP('League Table'!A7,tableTmp!$A$2:$S$21,8,FALSE) -> 0 | I7: =VLOOKUP('League Table'!A7,tableTmp!$A$2:$S$21,9,FALSE) -> 0 | J7: =VLOOKUP('League Table'!A7,tableTmp!$A$2:$S$21,10,FALSE) -> 0 | K7: =VLOOKUP('League Table'!A7,tableTmp!$A$2:$S$21,11,FALSE) -> 0 | L7: =VLOOKUP('League Table'!A7,tableTmp!$A$2:$S$21,12,FALSE) | M7: =VLOOKUP('League Table'!A7,tableTmp!$A$2:$S$21,13,FALSE) | N7: =VLOOKUP('League Table'!A7,tableTmp!$A$2:$S$21,14,FALSE) | O7: =VLOOKUP('League Table'!A7,tableTmp!$A$2:$S$21,15,FALSE) | P7: =VLOOKUP('League Table'!A7,tableTmp!$A$2:$S$21,16,FALSE) | Q7: =VLOOKUP('League Table'!S7,tableTmp!$B$2:$C$21,2,FALSE) -> #VALUE! | R7: =VLOOKUP('League Table'!A7,tableTmp!$A$2:$S$21,18,FALSE) -> A | S7: =VLOOKUP('League Table'!A7,tableTmp!$A$2:$S$21,17,FALSE) -> Spurs
A8: 7 | B8: =VLOOKUP('League Table'!A8,tableTmp!$A$2:$S$21,2,FALSE) -> Chelsea | C8: =VLOOKUP('League Table'!B8,tableTmp!$B$2:$C$21,2,FALSE) -> #VALUE! | D8: =VLOOKUP('League Table'!A8,tableTmp!$A$2:$S$21,4,FALSE) -> 0 | E8: =VLOOKUP('League Table'!A8,tableTmp!$A$2:$S$21,5,FALSE) -> 0 | F8: =VLOOKUP('League Table'!A8,tableTmp!$A$2:$S$21,6,FALSE) -> 0 | G8: =VLOOKUP('League Table'!A8,tableTmp!$A$2:$S$21,7,FALSE) -> 0 | H8: =VLOOKUP('League Table'!A8,tableTmp!$A$2:$S$21,8,FALSE) -> 0 | I8: =VLOOKUP('League Table'!A8,tableTmp!$A$2:$S$21,9,FALSE) -> 0 | J8: =VLOOKUP('League Table'!A8,tableTmp!$A$2:$S$21,10,FALSE) -> 0 | K8: =VLOOKUP('League Table'!A8,tableTmp!$A$2:$S$21,11,FALSE) -> 0 | L8: =VLOOKUP('League Table'!A8,tableTmp!$A$2:$S$21,12,FALSE) | M8: =VLOOKUP('League Table'!A8,tableTmp!$A$2:$S$21,13,FALSE) | N8: =VLOOKUP('League Table'!A8,tableTmp!$A$2:$S$21,14,FALSE) | O8: =VLOOKUP('League Table'!A8,tableTmp!$A$2:$S$21,15,FALSE) | P8: =VLOOKUP('League Table'!A8,tableTmp!$A$2:$S$21,16,FALSE) | Q8: =VLOOKUP('League Table'!S8,tableTmp!$B$2:$C$21,2,FALSE) -> #VALUE! | R8: =VLOOKUP('League Table'!A8,tableTmp!$A$2:$S$21,18,FALSE) -> H | S8: =VLOOKUP('League Table'!A8,tableTmp!$A$2:$S$21,17,FALSE) -> Crystal Palace
A9: 8 | B9: =VLOOKUP('League Table'!A9,tableTmp!$A$2:$S$21,2,FALSE) -> Crystal Palace | C9: =VLOOKUP('League Table'!B9,tableTmp!$B$2:$C$21,2,FALSE) -> #VALUE! | D9: =VLOOKUP('League Table'!A9,tableTmp!$A$2:$S$21,4,FALSE) -> 0 | E9: =VLOOKUP('League Table'!A9,tableTmp!$A$2:$S$21,5,FALSE) -> 0 | F9: =VLOOKUP('League Table'!A9,tableTmp!$A$2:$S$21,6,FALSE) -> 0 | G9: =VLOOKUP('League Table'!A9,tableTmp!$A$2:$S$21,7,FALSE) -> 0 | H9: =VLOOKUP('League Table'!A9,tableTmp!$A$2:$S$21,8,FALSE) -> 0 | I9: =VLOOKUP('League Table'!A9,tableTmp!$A$2:$S$21,9,FALSE) -> 0 | J9: =VLOOKUP('League Table'!A9,tableTmp!$A$2:$S$21,10,FALSE) -> 0 | K9: =VLOOKUP('League Table'!A9,tableTmp!$A$2:$S$21,11,FALSE) -> 0 | L9: =VLOOKUP('League Table'!A9,tableTmp!$A$2:$S$21,12,FALSE) | M9: =VLOOKUP('League Table'!A9,tableTmp!$A$2:$S$21,13,FALSE) | N9: =VLOOKUP('League Table'!A9,tableTmp!$A$2:$S$21,14,FALSE) | O9: =VLOOKUP('League Table'!A9,tableTmp!$A$2:$S$21,15,FALSE) | P9: =VLOOKUP('League Table'!A9,tableTmp!$A$2:$S$21,16,FALSE) | Q9: =VLOOKUP('League Table'!S9,tableTmp!$B$2:$C$21,2,FALSE) -> #VALUE! | R9: =VLOOKUP('League Table'!A9,tableTmp!$A$2:$S$21,18,FALSE) -> A | S9: =VLOOKUP('League Table'!A9,tableTmp!$A$2:$S$21,17,FALSE) -> Chelsea
A10: 9 | B10: =VLOOKUP('League Table'!A10,tableTmp!$A$2:$S$21,2,FALSE) -> Everton | C10: =VLOOKUP('League Table'!B10,tableTmp!$B$2:$C$21,2,FALSE) -> #VALUE! | D10: =VLOOKUP('League Table'!A10,tableTmp!$A$2:$S$21,4,FALSE) -> 0 | E10: =VLOOKUP('League Table'!A10,tableTmp!$A$2:$S$21,5,FALSE) -> 0 | F10: =VLOOKUP('League Table'!A10,tableTmp!$A$2:$S$21,6,FALSE) -> 0 | G10: =VLOOKUP('League Table'!A10,tableTmp!$A$2:$S$21,7,FALSE) -> 0 | H10: =VLOOKUP('League Table'!A10,tableTmp!$A$2:$S$21,8,FALSE) -> 0 | I10: =VLOOKUP('League Table'!A10,tableTmp!$A$2:$S$21,9,FALSE) -> 0 | J10: =VLOOKUP('League Table'!A10,tableTmp!$A$2:$S$21,10,FALSE) -> 0 | K10: =VLOOKUP('League Table'!A10,tableTmp!$A$2:$S$21,11,FALSE) -> 0 | L10: =VLOOKUP('League Table'!A10,tableTmp!$A$2:$S$21,12,FALSE) | M10: =VLOOKUP('League Table'!A10,tableTmp!$A$2:$S$21,13,FALSE) | N10: =VLOOKUP('League Table'!A10,tableTmp!$A$2:$S$21,14,FALSE) | O10: =VLOOKUP('League Table'!A10,tableTmp!$A$2:$S$21,15,FALSE) | P10: =VLOOKUP('League Table'!A10,tableTmp!$A$2:$S$21,16,FALSE) | Q10: =VLOOKUP('League Table'!S10,tableTmp!$B$2:$C$21,2,FALSE) -> #VALUE! | R10: =VLOOKUP('League Table'!A10,tableTmp!$A$2:$S$21,18,FALSE) -> A | S10: =VLOOKUP('League Table'!A10,tableTmp!$A$2:$S$21,17,FALSE) -> Leeds Utd
A11: 10 | B11: =VLOOKUP('League Table'!A11,tableTmp!$A$2:$S$21,2,FALSE) -> Fulham | C11: =VLOOKUP('League Table'!B11,tableTmp!$B$2:$C$21,2,FALSE) -> #VALUE! | D11: =VLOOKUP('League Table'!A11,tableTmp!$A$2:$S$21,4,FALSE) -> 0 | E11: =VLOOKUP('League Table'!A11,tableTmp!$A$2:$S$21,5,FALSE) -> 0 | F11: =VLOOKUP('League Table'!A11,tableTmp!$A$2:$S$21,6,FALSE) -> 0 | G11: =VLOOKUP('League Table'!A11,tableTmp!$A$2:$S$21,7,FALSE) -> 0 | H11: =VLOOKUP('League Table'!A11,tableTmp!$A$2:$S$21,8,FALSE) -> 0 | I11: =VLOOKUP('League Table'!A11,tableTmp!$A$2:$S$21,9,FALSE) -> 0 | J11: =VLOOKUP('League Table'!A11,tableTmp!$A$2:$S$21,10,FALSE) -> 0 | K11: =VLOOKUP('League Table'!A11,tableTmp!$A$2:$S$21,11,FALSE) -> 0 | L11: =VLOOKUP('League Table'!A11,tableTmp!$A$2:$S$21,12,FALSE) | M11: =VLOOKUP('League Table'!A11,tableTmp!$A$2:$S$21,13,FALSE) | N11: =VLOOKUP('League Table'!A11,tableTmp!$A$2:$S$21,14,FALSE) | O11: =VLOOKUP('League Table'!A11,tableTmp!$A$2:$S$21,15,FALSE) | P11: =VLOOKUP('League Table'!A11,tableTmp!$A$2:$S$21,16,FALSE) | Q11: =VLOOKUP('League Table'!S11,tableTmp!$B$2:$C$21,2,FALSE) -> #VALUE! | R11: =VLOOKUP('League Table'!A11,tableTmp!$A$2:$S$21,18,FALSE) -> A | S11: =VLOOKUP('League Table'!A11,tableTmp!$A$2:$S$21,17,FALSE) -> Brighton
A12: 11 | B12: =VLOOKUP('League Table'!A12,tableTmp!$A$2:$S$21,2,FALSE) -> Leeds Utd | C12: =VLOOKUP('League Table'!B12,tableTmp!$B$2:$C$21,2,FALSE) -> #VALUE! | D12: =VLOOKUP('League Table'!A12,tableTmp!$A$2:$S$21,4,FALSE) -> 0 | E12: =VLOOKUP('League Table'!A12,tableTmp!$A$2:$S$21,5,FALSE) -> 0 | F12: =VLOOKUP('League Table'!A12,tableTmp!$A$2:$S$21,6,FALSE) -> 0 | G12: =VLOOKUP('League Table'!A12,tableTmp!$A$2:$S$21,7,FALSE) -> 0 | H12: =VLOOKUP('League Table'!A12,tableTmp!$A$2:$S$21,8,FALSE) -> 0 | I12: =VLOOKUP('League Table'!A12,tableTmp!$A$2:$S$21,9,FALSE) -> 0 | J12: =VLOOKUP('League Table'!A12,tableTmp!$A$2:$S$21,10,FALSE) -> 0 | K12: =VLOOKUP('League Table'!A12,tableTmp!$A$2:$S$21,11,FALSE) -> 0 | L12: =VLOOKUP('League Table'!A12,tableTmp!$A$2:$S$21,12,FALSE) | M12: =VLOOKUP('League Table'!A12,tableTmp!$A$2:$S$21,13,FALSE) | N12: =VLOOKUP('League Table'!A12,tableTmp!$A$2:$S$21,14,FALSE) | O12: =VLOOKUP('League Table'!A12,tableTmp!$A$2:$S$21,15,FALSE) | P12: =VLOOKUP('League Table'!A12,tableTmp!$A$2:$S$21,16,FALSE) | Q12: =VLOOKUP('League Table'!S12,tableTmp!$B$2:$C$21,2,FALSE) -> #VALUE! | R12: =VLOOKUP('League Table'!A12,tableTmp!$A$2:$S$21,18,FALSE) -> H | S12: =VLOOKUP('League Table'!A12,tableTmp!$A$2:$S$21,17,FALSE) -> Everton
A13: 12 | B13: =VLOOKUP('League Table'!A13,tableTmp!$A$2:$S$21,2,FALSE) -> Liverpool | C13: =VLOOKUP('League Table'!B13,tableTmp!$B$2:$C$21,2,FALSE) -> #VALUE! | D13: =VLOOKUP('League Table'!A13,tableTmp!$A$2:$S$21,4,FALSE) -> 0 | E13: =VLOOKUP('League Table'!A13,tableTmp!$A$2:$S$21,5,FALSE) -> 0 | F13: =VLOOKUP('League Table'!A13,tableTmp!$A$2:$S$21,6,FALSE) -> 0 | G13: =VLOOKUP('League Table'!A13,tableTmp!$A$2:$S$21,7,FALSE) -> 0 | H13: =VLOOKUP('League Table'!A13,tableTmp!$A$2:$S$21,8,FALSE) -> 0 | I13: =VLOOKUP('League Table'!A13,tableTmp!$A$2:$S$21,9,FALSE) -> 0 | J13: =VLOOKUP('League Table'!A13,tableTmp!$A$2:$S$21,10,FALSE) -> 0 | K13: =VLOOKUP('League Table'!A13,tableTmp!$A$2:$S$21,11,FALSE) -> 0 | L13: =VLOOKUP('League Table'!A13,tableTmp!$A$2:$S$21,12,FALSE) | M13: =VLOOKUP('League Table'!A13,tableTmp!$A$2:$S$21,13,FALSE) | N13: =VLOOKUP('League Table'!A13,tableTmp!$A$2:$S$21,14,FALSE) | O13: =VLOOKUP('League Table'!A13,tableTmp!$A$2:$S$21,15,FALSE) | P13: =VLOOKUP('League Table'!A13,tableTmp!$A$2:$S$21,16,FALSE) | Q13: =VLOOKUP('League Table'!S13,tableTmp!$B$2:$C$21,2,FALSE) -> #VALUE! | R13: =VLOOKUP('League Table'!A13,tableTmp!$A$2:$S$21,18,FALSE) -> H | S13: =VLOOKUP('League Table'!A13,tableTmp!$A$2:$S$21,17,FALSE) -> Bournemouth
... A21: 20 | B21: =VLOOKUP('League Table'!A21,tableTmp!$A$2:$S$21,2,FALSE) -> Wolves | C21: =VLOOKUP('League Table'!B21,tableTmp!$B$2:$C$21,2,FALSE) -> #VALUE! | D21: =VLOOKUP('League Table'!A21,tableTmp!$A$2:$S$21,4,FALSE) -> 0 | E21: =VLOOKUP('League Table'!A21,tableTmp!$A$2:$S$21,5,FALSE) -> 0 | F21: =VLOOKUP('League Table'!A21,tableTmp!$A$2:$S$21,6,FALSE) -> 0 | G21: =VLOOKUP('League Table'!A21,tableTmp!$A$2:$S$21,7,FALSE) -> 0 | H21: =VLOOKUP('League Table'!A21,tableTmp!$A$2:$S$21,8,FALSE) -> 0 | I21: =VLOOKUP('League Table'!A21,tableTmp!$A$2:$S$21,9,FALSE) -> 0 | J21: =VLOOKUP('League Table'!A21,tableTmp!$A$2:$S$21,10,FALSE) -> 0 | K21: =VLOOKUP('League Table'!A21,tableTmp!$A$2:$S$21,11,FALSE) -> 0 | L21: =VLOOKUP('League Table'!A21,tableTmp!$A$2:$S$21,12,FALSE) | M21: =VLOOKUP('League Table'!A21,tableTmp!$A$2:$S$21,13,FALSE) | N21: =VLOOKUP('League Table'!A21,tableTmp!$A$2:$S$21,14,FALSE) | O21: =VLOOKUP('League Table'!A21,tableTmp!$A$2:$S$21,15,FALSE) | P21: =VLOOKUP('League Table'!A21,tableTmp!$A$2:$S$21,16,FALSE) | Q21: =VLOOKUP('League Table'!S21,tableTmp!$B$2:$C$21,2,FALSE) -> #VALUE! | R21: =VLOOKUP('League Table'!A21,tableTmp!$A$2:$S$21,18,FALSE) -> H | S21: =VLOOKUP('League Table'!A21,tableTmp!$A$2:$S$21,17,FALSE) -> Man City
B22: BLK
B23: UEFA Champions League Group Stage
B24: UEFA Europa League Group Stage
B25: Relagation
A28: ©2025 excel4soccer.com

Sheet tableTmp
A1: Rank | B1: Team | D1: MP | E1: Won | F1: Drawn | G1: Lost | H1: GF | I1: GA | J1: GD | K1: Points | L1: Form | Q1: Next Game | T1: GF1 | U1: Compsite | V1: Order
A2: =RANK(U2,U$2:U$21) -> 1 | B2: Arsenal | C2: #VALUE! | D2: =Fixtures_by_Clubs!B55 -> 0 | E2: =Fixtures_by_Clubs!B56 -> 0 | F2: =Fixtures_by_Clubs!B57 -> 0 | G2: =Fixtures_by_Clubs!B58 -> 0 | H2: =Fixtures_by_Clubs!E54 -> 0 | I2: =Fixtures_by_Clubs!E55 -> 0 | J2: =Fixtures_by_Clubs!E56 -> 0 | K2: =Fixtures_by_Clubs!B54-Deduction!$C$2 -> 0 | L2: =IFERROR(Fixtures_by_Clubs!G58,"") | M2: =IFERROR(Fixtures_by_Clubs!G57,"") | N2: =IFERROR(Fixtures_by_Clubs!G56,"") | O2: =IFERROR(Fixtures_by_Clubs!G55,"") | P2: =IFERROR(Fixtures_by_Clubs!G54,"") | Q2: =IFERROR(Fixtures_by_Clubs!E58,"BLK") -> Man Utd | R2: =IFERROR(Fixtures_by_Clubs!E59,"") -> A | S2: =Fixtures_by_Clubs!E53 -> 0 | T2: =Fixtures_by_Clubs!E53 -> 0 | U2: =K2*100+J2+H2/100+T2/10000-D2/1000000-V2/100000000 -> -1e-08 | V2: 1
A3: =RANK(U3,U$2:U$21) -> 2 | B3: Aston Villa | C3: #VALUE! | D3: =Fixtures_by_Clubs!N55 -> 0 | E3: =Fixtures_by_Clubs!N56 -> 0 | F3: =Fixtures_by_Clubs!N57 -> 0 | G3: =Fixtures_by_Clubs!N58 -> 0 | H3: =Fixtures_by_Clubs!Q54 -> 0 | I3: =Fixtures_by_Clubs!Q55 -> 0 | J3: =Fixtures_by_Clubs!Q56 -> 0 | K3: =Fixtures_by_Clubs!N54-Deduction!$C$3 -> 0 | L3: =IFERROR(Fixtures_by_Clubs!S58,"") | M3: =IFERROR(Fixtures_by_Clubs!S57,"") | N3: =IFERROR(Fixtures_by_Clubs!S56,"") | O3: =IFERROR(Fixtures_by_Clubs!S55,"") | P3: =IFERROR(Fixtures_by_Clubs!S54,"") | Q3: =IFERROR(Fixtures_by_Clubs!Q58,"BLK") -> Newcastle | R3: =IFERROR(Fixtures_by_Clubs!Q59,"") -> H | S3: =Fixtures_by_Clubs!Q53 -> 0 | T3: =Fixtures_by_Clubs!Q53 -> 0 | U3: =K3*100+J3+H3/100+T3/10000-D3/1000000-V3/100000000 -> -2e-08 | V3: 2
A4: =RANK(U4,U$2:U$21) -> 3 | B4: Bournemouth | C4: #VALUE! | D4: =Fixtures_by_Clubs!Z55 -> 0 | E4: =Fixtures_by_Clubs!Z56 -> 0 | F4: =Fixtures_by_Clubs!Z57 -> 0 | G4: =Fixtures_by_Clubs!Z58 -> 0 | H4: =Fixtures_by_Clubs!AC54 -> 0 | I4: =Fixtures_by_Clubs!AC55 -> 0 | J4: =Fixtures_by_Clubs!AC56 -> 0 | K4: =Fixtures_by_Clubs!Z54-Deduction!$C$4 -> 0 | L4: =IFERROR(Fixtures_by_Clubs!AE58,"") | M4: =IFERROR(Fixtures_by_Clubs!AE57,"") | N4: =IFERROR(Fixtures_by_Clubs!AE56,"") | O4: =IFERROR(Fixtures_by_Clubs!AE55,"") | P4: =IFERROR(Fixtures_by_Clubs!AE54,"") | Q4: =IFERROR(Fixtures_by_Clubs!AC58,"BLK") -> Liverpool | R4: =IFERROR(Fixtures_by_Clubs!AC59,"") -> A | S4: =Fixtures_by_Clubs!AC53 -> 0 | T4: =Fixtures_by_Clubs!AC53 -> 0 | U4: =K4*100+J4+H4/100+T4/10000-D4/1000000-V4/100000000 -> -3e-08 | V4: 3
A5: =RANK(U5,U$2:U$21) -> 4 | B5: Brentford | C5: #VALUE! | D5: =Fixtures_by_Clubs!AL55 -> 0 | E5: =Fixtures_by_Clubs!AL56 -> 0 | F5: =Fixtures_by_Clubs!AL57 -> 0 | G5: =Fixtures_by_Clubs!AL58 -> 0 | H5: =Fixtures_by_Clubs!AO54 -> 0 | I5: =Fixtures_by_Clubs!AO55 -> 0 | J5: =Fixtures_by_Clubs!AO56 -> 0 | K5: =Fixtures_by_Clubs!AL54-Deduction!$C$5 -> 0 | L5: =IFERROR(Fixtures_by_Clubs!AQ58,"") | M5: =IFERROR(Fixtures_by_Clubs!AQ57,"") | N5: =IFERROR(Fixtures_by_Clubs!AQ56,"") | O5: =IFERROR(Fixtures_by_Clubs!AQ55,"") | P5: =IFERROR(Fixtures_by_Clubs!AQ54,"") | Q5: =IFERROR(Fixtures_by_Clubs!AO58,"BLK") -> Nott'm Forest | R5: =IFERROR(Fixtures_by_Clubs!AO59,"") -> A | S5: =Fixtures_by_Clubs!AO53 -> 0 | T5: =Fixtures_by_Clubs!AO53 -> 0 | U5: =K5*100+J5+H5/100+T5/10000-D5/1000000-V5/100000000 -> -4e-08 | V5: 4
A6: =RANK(U6,U$2:U$21) -> 5 | B6: Brighton | C6: #VALUE! | D6: =Fixtures_by_Clubs!AX55 -> 0 | E6: =Fixtures_by_Clubs!AX56 -> 0 | F6: =Fixtures_by_Clubs!AX57 -> 0 | G6: =Fixtures_by_Clubs!AX58 -> 0 | H6: =Fixtures_by_Clubs!BA54 -> 0 | I6: =Fixtures_by_Clubs!BA55 -> 0 | J6: =Fixtures_by_Clubs!BA56 -> 0 | K6: =Fixtures_by_Clubs!AX54-Deduction!$C$6 -> 0 | L6: =IFERROR(Fixtures_by_Clubs!BC58,"") | M6: =IFERROR(Fixtures_by_Clubs!BC57,"") | N6: =IFERROR(Fixtures_by_Clubs!BC56,"") | O6: =IFERROR(Fixtures_by_Clubs!BC55,"") | P6: =IFERROR(Fixtures_by_Clubs!BC54,"") | Q6: =IFERROR(Fixtures_by_Clubs!BA58,"BLK") -> Fulham | R6: =IFERROR(Fixtures_by_Clubs!BA59,"") -> H | S6: =Fixtures_by_Clubs!BA53 -> 0 | T6: =Fixtures_by_Clubs!BA53 -> 0 | U6: =K6*100+J6+H6/100+T6/10000-D6/1000000-V6/100000000 -> -5e-08 | V6: 5
A7: =RANK(U7,U$2:U$21) -> 6 | B7: Burnley | C7: #VALUE! | D7: =Fixtures_by_Clubs!BJ55 -> 0 | E7: =Fixtures_by_Clubs!BJ56 -> 0 | F7: =Fixtures_by_Clubs!BJ57 -> 0 | G7: =Fixtures_by_Clubs!BJ58 -> 0 | H7: =Fixtures_by_Clubs!BM54 -> 0 | I7: =Fixtures_by_Clubs!BM55 -> 0 | J7: =Fixtures_by_Clubs!BM56 -> 0 | K7: =Fixtures_by_Clubs!BJ54-Deduction!$C$7 -> 0 | L7: =IFERROR(Fixtures_by_Clubs!BO58,"") | M7: =IFERROR(Fixtures_by_Clubs!BO57,"") | N7: =IFERROR(Fixtures_by_Clubs!BO56,"") | O7: =IFERROR(Fixtures_by_Clubs!BO55,"") | P7: =IFERROR(Fixtures_by_Clubs!BO54,"") | Q7: =IFERROR(Fixtures_by_Clubs!BM58,"BLK") -> Spurs | R7: =IFERROR(Fixtures_by_Clubs!BM59,"") -> A | S7: =Fixtures_by_Clubs!BM53 -> 0 | T7: =Fixtures_by_Clubs!BM53 -> 0 | U7: =K7*100+J7+H7/100+T7/10000-D7/1000000-V7/100000000 -> -6e-08 | V7: 6
A8: =RANK(U8,U$2:U$21) -> 7 | B8: Chelsea | C8: #VALUE! | D8: =Fixtures_by_Clubs!BV55 -> 0 | E8: =Fixtures_by_Clubs!BV56 -> 0 | F8: =Fixtures_by_Clubs!BV57 -> 0 | G8: =Fixtures_by_Clubs!BV58 -> 0 | H8: =Fixtures_by_Clubs!BY54 -> 0 | I8: =Fixtures_by_Clubs!BY55 -> 0 | J8: =Fixtures_by_Clubs!BY56 -> 0 | K8: =Fixtures_by_Clubs!BV54-Deduction!$C$8 -> 0 | L8: =IFERROR(Fixtures_by_Clubs!CA58,"") | M8: =IFERROR(Fixtures_by_Clubs!CA57,"") | N8: =IFERROR(Fixtures_by_Clubs!CA56,"") | O8: =IFERROR(Fixtures_by_Clubs!CA55,"") | P8: =IFERROR(Fixtures_by_Clubs!CA54,"") | Q8: =IFERROR(Fixtures_by_Clubs!BY58,"BLK") -> Crystal Palace | R8: =IFERROR(Fixtures_by_Clubs!BY59,"") -> H | S8: =Fixtures_by_Clubs!BY53 -> 0 | T8: =Fixtures_by_Clubs!BY53 -> 0 | U8: =K8*100+J8+H8/100+T8/10000-D8/1000000-V8/100000000 -> -7e-08 | V8: 7
A9: =RANK(U9,U$2:U$21) -> 8 | B9: Crystal Palace | C9: #VALUE! | D9: =Fixtures_by_Clubs!CH55 -> 0 | E9: =Fixtures_by_Clubs!CH56 -> 0 | F9: =Fixtures_by_Clubs!CH57 -> 0 | G9: =Fixtures_by_Clubs!CH58 -> 0 | H9: =Fixtures_by_Clubs!CK54 -> 0 | I9: =Fixtures_by_Clubs!CK55 -> 0 | J9: =Fixtures_by_Clubs!CK56 -> 0 | K9: =Fixtures_by_Clubs!CH54-Deduction!$C$9 -> 0 | L9: =IFERROR(Fixtures_by_Clubs!CM58,"") | M9: =IFERROR(Fixtures_by_Clubs!CM57,"") | N9: =IFERROR(Fixtures_by_Clubs!CM56,"") | O9: =IFERROR(Fixtures_by_Clubs!CM55,"") | P9: =IFERROR(Fixtures_by_Clubs!CM54,"") | Q9: =IFERROR(Fixtures_by_Clubs!CK58,"BLK") -> Chelsea | R9: =IFERROR(Fixtures_by_Clubs!CK59,"") -> A | S9: =Fixtures_by_Clubs!CK53 -> 0 | T9: =Fixtures_by_Clubs!CK53 -> 0 | U9: =K9*100+J9+H9/100+T9/10000-D9/1000000-V9/100000000 -> -8e-08 | V9: 8
A10: =RANK(U10,U$2:U$21) -> 9 | B10: Everton | C10: #VALUE! | D10: =Fixtures_by_Clubs!CT55 -> 0 | E10: =Fixtures_by_Clubs!CT56 -> 0 | F10: =Fixtures_by_Clubs!CT57 -> 0 | G10: =Fixtures_by_Clubs!CT58 -> 0 | H10: =Fixtures_by_Clubs!CW54 -> 0 | I10: =Fixtures_by_Clubs!CW55 -> 0 | J10: =Fixtures_by_Clubs!CW56 -> 0 | K10: =Fixtures_by_Clubs!CT54-Deduction!$C$10 -> 0 | L10: =IFERROR(Fixtures_by_Clubs!CY58,"") | M10: =IFERROR(Fixtures_by_Clubs!CY57,"") | N10: =IFERROR(Fixtures_by_Clubs!CY56,"") | O10: =IFERROR(Fixtures_by_Clubs!CY55,"") | P10: =IFERROR(Fixtures_by_Clubs!CY54,"") | Q10: =IFERROR(Fixtures_by_Clubs!CW58,"BLK") -> Leeds Utd | R10: =IFERROR(Fixtures_by_Clubs!CW59,"") -> A | S10: =Fixtures_by_Clubs!CW53 -> 0 | T10: =Fixtures_by_Clubs!CW53 -> 0 | U10: =K10*100+J10+H10/100+T10/10000-D10/1000000-V10/100000000 -> -9e-08 | V10: 9
A11: =RANK(U11,U$2:U$21) -> 10 | B11: Fulham | C11: #VALUE! | D11: =Fixtures_by_Clubs!DF55 -> 0 | E11: =Fixtures_by_Clubs!DF56 -> 0 | F11: =Fixtures_by_Clubs!DF57 -> 0 | G11: =Fixtures_by_Clubs!DF58 -> 0 | H11: =Fixtures_by_Clubs!DI54 -> 0 | I11: =Fixtures_by_Clubs!DI55 -> 0 | J11: =Fixtures_by_Clubs!DI56 -> 0 | K11: =Fixtures_by_Clubs!DF54-Deduction!$C$11 -> 0 | L11: =IFERROR(Fixtures_by_Clubs!DK58,"") | M11: =IFERROR(Fixtures_by_Clubs!DK57,"") | N11: =IFERROR(Fixtures_by_Clubs!DK56,"") | O11: =IFERROR(Fixtures_by_Clubs!DK55,"") | P11: =IFERROR(Fixtures_by_Clubs!DK54,"") | Q11: =IFERROR(Fixtures_by_Clubs!DI58,"BLK") -> Brighton | R11: =IFERROR(Fixtures_by_Clubs!DI59,"") -> A | S11: =Fixtures_by_Clubs!DI53 -> 0 | T11: =Fixtures_by_Clubs!DI53 -> 0 | U11: =K11*100+J11+H11/100+T11/10000-D11/1000000-V11/100000000 -> -1e-07 | V11: 10
A12: =RANK(U12,U$2:U$21) -> 11 | B12: Leeds Utd | C12: #VALUE! | D12: =Fixtures_by_Clubs!DR55 -> 0 | E12: =Fixtures_by_Clubs!DR56 -> 0 | F12: =Fixtures_by_Clubs!DR57 -> 0 | G12: =Fixtures_by_Clubs!DR58 -> 0 | H12: =Fixtures_by_Clubs!DU54 -> 0 | I12: =Fixtures_by_Clubs!DU55 -> 0 | J12: =Fixtures_by_Clubs!DU56 -> 0 | K12: =Fixtures_by_Clubs!DR54-Deduction!$C$12 -> 0 | L12: =IFERROR(Fixtures_by_Clubs!DW58,"") | M12: =IFERROR(Fixtures_by_Clubs!DW57,"") | N12: =IFERROR(Fixtures_by_Clubs!DW56,"") | O12: =IFERROR(Fixtures_by_Clubs!DW55,"") | P12: =IFERROR(Fixtures_by_Clubs!DW54,"") | Q12: =IFERROR(Fixtures_by_Clubs!DU58,"BLK") -> Everton | R12: =IFERROR(Fixtures_by_Clubs!DU59,"") -> H | S12: =Fixtures_by_Clubs!DU53 -> 0 | T12: =Fixtures_by_Clubs!DU53 -> 0 | U12: =K12*100+J12+H12/100+T12/10000-D12/1000000-V12/100000000 -> -1.1e-07 | V12: 11
A13: =RANK(U13,U$2:U$21) -> 12 | B13: Liverpool | C13: #VALUE! | D13: =Fixtures_by_Clubs!ED55 -> 0 | E13: =Fixtures_by_Clubs!ED56 -> 0 | F13: =Fixtures_by_Clubs!ED57 -> 0 | G13: =Fixtures_by_Clubs!ED58 -> 0 | H13: =Fixtures_by_Clubs!EG54 -> 0 | I13: =Fixtures_by_Clubs!EG55 -> 0 | J13: =Fixtures_by_Clubs!EG56 -> 0 | K13: =Fixtures_by_Clubs!ED54-Deduction!$C$13 -> 0 | L13: =IFERROR(Fixtures_by_Clubs!EI58,"") | M13: =IFERROR(Fixtures_by_Clubs!EI57,"") | N13: =IFERROR(Fixtures_by_Clubs!EI56,"") | O13: =IFERROR(Fixtures_by_Clubs!EI55,"") | P13: =IFERROR(Fixtures_by_Clubs!EI54,"") | Q13: =IFERROR(Fixtures_by_Clubs!EG58,"BLK") -> Bournemouth | R13: =IFERROR(Fixtures_by_Clubs!EG59,"") -> H | S13: =Fixtures_by_Clubs!EG53 -> 0 | T13: =Fixtures_by_Clubs!EG53 -> 0 | U13: =K13*100+J13+H13/100+T13/10000-D13/1000000-V13/100000000 -> -1.2e-07 | V13: 12
A14: =RANK(U14,U$2:U$21) -> 13 | B14: Man City | C14: #VALUE! | D14: =Fixtures_by_Clubs!EP55 -> 0 | E14: =Fixtures_by_Clubs!EP56 -> 0 | F14: =Fixtures_by_Clubs!EP57 -> 0 | G14: =Fixtures_by_Clubs!EP58 -> 0 | H14: =Fixtures_by_Clubs!ES54 -> 0 | I14: =Fixtures_by_Clubs!ES55 -> 0 | J14: =Fixtures_by_Clubs!ES56 -> 0 | K14: =Fixtures_by_Clubs!EP54-Deduction!$C$14 -> 0 | L14: =IFERROR(Fixtures_by_Clubs!EU58,"") | M14: =IFERROR(Fixtures_by_Clubs!EU57,"") | N14: =IFERROR(Fixtures_by_Clubs!EU56,"") | O14: =IFERROR(Fixtures_by_Clubs!EU55,"") | P14: =IFERROR(Fixtures_by_Clubs!EU54,"") | Q14: =IFERROR(Fixtures_by_Clubs!ES58,"BLK") -> Wolves | R14: =IFERROR(Fixtures_by_Clubs!ES59,"") -> A | S14: =Fixtures_by_Clubs!ES53 -> 0 | T14: =Fixtures_by_Clubs!ES53 -> 0 | U14: =K14*100+J14+H14/100+T14/10000-D14/1000000-V14/100000000 -> -1.3e-07 | V14: 13
A15: =RANK(U15,U$2:U$21) -> 14 | B15: Man Utd | C15: #VALUE! | D15: =Fixtures_by_Clubs!FB55 -> 0 | E15: =Fixtures_by_Clubs!FB56 -> 0 | F15: =Fixtures_by_Clubs!FB57 -> 0 | G15: =Fixtures_by_Clubs!FB58 -> 0 | H15: =Fixtures_by_Clubs!FE54 -> 0 | I15: =Fixtures_by_Clubs!FE55 -> 0 | J15: =Fixtures_by_Clubs!FE56 -> 0 | K15: =Fixtures_by_Clubs!FB54-Deduction!$C$15 -> 0 | L15: =IFERROR(Fixtures_by_Clubs!FG58,"") | M15: =IFERROR(Fixtures_by_Clubs!FG57,"") | N15: =IFERROR(Fixtures_by_Clubs!FG56,"") | O15: =IFERROR(Fixtures_by_Clubs!FG55,"") | P15: =IFERROR(Fixtures_by_Clubs!FG54,"") | Q15: =IFERROR(Fixtures_by_Clubs!FE58,"BLK") -> Arsenal | R15: =IFERROR(Fixtures_by_Clubs!FE59,"") -> H | S15: =Fixtures_by_Clubs!FE53 -> 0 | T15: =Fixtures_by_Clubs!FE53 -> 0 | U15: =K15*100+J15+H15/100+T15/10000-D15/1000000-V15/100000000 -> -1.4e-07 | V15: 14
A16: =RANK(U16,U$2:U$21) -> 15 | B16: Newcastle | C16: #VALUE! | D16: =Fixtures_by_Clubs!FN55 -> 0 | E16: =Fixtures_by_Clubs!FN56 -> 0 | F16: =Fixtures_by_Clubs!FN57 -> 0 | G16: =Fixtures_by_Clubs!FN58 -> 0 | H16: =Fixtures_by_Clubs!FQ54 -> 0 | I16: =Fixtures_by_Clubs!FQ55 -> 0 | J16: =Fixtures_by_Clubs!FQ56 -> 0 | K16: =Fixtures_by_Clubs!FN54-Deduction!$C$16 -> 0 | L16: =IFERROR(Fixtures_by_Clubs!FS58,"") | M16: =IFERROR(Fixtures_by_Clubs!FS57,"") | N16: =IFERROR(Fixtures_by_Clubs!FS56,"") | O16: =IFERROR(Fixtures_by_Clubs!FS55,"") | P16: =IFERROR(Fixtures_by_Clubs!FS54,"") | Q16: =IFERROR(Fixtures_by_Clubs!FQ58,"BLK") -> Aston Villa | R16: =IFERROR(Fixtures_by_Clubs!FQ59,"") -> A | S16: =Fixtures_by_Clubs!FQ53 -> 0 | T16: =Fixtures_by_Clubs!FQ53 -> 0 | U16: =K16*100+J16+H16/100+T16/10000-D16/1000000-V16/100000000 -> -1.5e-07 | V16: 15
A17: =RANK(U17,U$2:U$21) -> 16 | B17: Nott'm Forest | C17: #VALUE! | D17: =Fixtures_by_Clubs!FZ55 -> 0 | E17: =Fixtures_by_Clubs!FZ56 -> 0 | F17: =Fixtures_by_Clubs!FZ57 -> 0 | G17: =Fixtures_by_Clubs!FZ58 -> 0 | H17: =Fixtures_by_Clubs!GC54 -> 0 | I17: =Fixtures_by_Clubs!GC55 -> 0 | J17: =Fixtures_by_Clubs!GC56 -> 0 | K17: =Fixtures_by_Clubs!FZ54-Deduction!$C$17 -> 0 | L17: =IFERROR(Fixtures_by_Clubs!GE58,"") | M17: =IFERROR(Fixtures_by_Clubs!GE57,"") | N17: =IFERROR(Fixtures_by_Clubs!GE56,"") | O17: =IFERROR(Fixtures_by_Clubs!GE55,"") | P17: =IFERROR(Fixtures_by_Clubs!GE54,"") | Q17: =IFERROR(Fixtures_by_Clubs!GC58,"BLK") -> Brentford | R17: =IFERROR(Fixtures_by_Clubs!GC59,"") -> H | S17: =Fixtures_by_Clubs!GC53 -> 0 | T17: =Fixtures_by_Clubs!GC53 -> 0 | U17: =K17*100+J17+H17/100+T17/10000-D17/1000000-V17/100000000 -> -1.6e-07 | V17: 16
A18: =RANK(U18,U$2:U$21) -> 17 | B18: Spurs | C18: #VALUE! | D18: =Fixtures_by_Clubs!GL55 -> 0 | E18: =Fixtures_by_Clubs!GL56 -> 0 | F18: =Fixtures_by_Clubs!GL57 -> 0 | G18: =Fixtures_by_Clubs!GL58 -> 0 | H18: =Fixtures_by_Clubs!GO54 -> 0 | I18: =Fixtures_by_Clubs!GO55 -> 0 | J18: =Fixtures_by_Clubs!GO56 -> 0 | K18: =Fixtures_by_Clubs!GL54-Deduction!$C$18 -> 0 | L18: =IFERROR(Fixtures_by_Clubs!GQ58,"") | M18: =IFERROR(Fixtures_by_Clubs!GQ57,"") | N18: =IFERROR(Fixtures_by_Clubs!GQ56,"") | O18: =IFERROR(Fixtures_by_Clubs!GQ55,"") | P18: =IFERROR(Fixtures_by_Clubs!GQ54,"") | Q18: =IFERROR(Fixtures_by_Clubs!GO58,"BLK") -> Burnley | R18: =IFERROR(Fixtures_by_Clubs!GO59,"") -> H | S18: =Fixtures_by_Clubs!GO53 -> 0 | T18: =Fixtures_by_Clubs!GO53 -> 0 | U18: =K18*100+J18+H18/100+T18/10000-D18/1000000-V18/100000000 -> -1.7e-07 | V18: 17
A19: =RANK(U19,U$2:U$21) -> 18 | B19: Sunderland | C19: #VALUE! | D19: =Fixtures_by_Clubs!GX55 -> 0 | E19: =Fixtures_by_Clubs!GX56 -> 0 | F19: =Fixtures_by_Clubs!GX57 -> 0 | G19: =Fixtures_by_Clubs!GX58 -> 0 | H19: =Fixtures_by_Clubs!HA54 -> 0 | I19: =Fixtures_by_Clubs!HA55 -> 0 | J19: =Fixtures_by_Clubs!HA56 -> 0 | K19: =Fixtures_by_Clubs!GX54-Deduction!$C$19 -> 0 | L19: =IFERROR(Fixtures_by_Clubs!HC58,"") | M19: =IFERROR(Fixtures_by_Clubs!HC57,"") | N19: =IFERROR(Fixtures_by_Clubs!HC56,"") | O19: =IFERROR(Fixtures_by_Clubs!HC55,"") | P19: =IFERROR(Fixtures_by_Clubs!HC54,"") | Q19: =IFERROR(Fixtures_by_Clubs!HA58,"BLK") -> West Ham | R19: =IFERROR(Fixtures_by_Clubs!HA59,"") -> H | S19: =Fixtures_by_Clubs!HA53 -> 0 | T19: =Fixtures_by_Clubs!HA53 -> 0 | U19: =K19*100+J19+H19/100+T19/10000-D19/1000000-V19/100000000 -> -1.8e-07 | V19: 18
A20: =RANK(U20,U$2:U$21) -> 19 | B20: West Ham | C20: #VALUE! | D20: =Fixtures_by_Clubs!HJ55 -> 0 | E20: =Fixtures_by_Clubs!HJ56 -> 0 | F20: =Fixtures_by_Clubs!HJ57 -> 0 | G20: =Fixtures_by_Clubs!HJ58 -> 0 | H20: =Fixtures_by_Clubs!HM54 -> 0 | I20: =Fixtures_by_Clubs!HM55 -> 0 | J20: =Fixtures_by_Clubs!HM56 -> 0 | K20: =Fixtures_by_Clubs!HJ54-Deduction!$C$20 -> 0 | L20: =IFERROR(Fixtures_by_Clubs!HO58,"") | M20: =IFERROR(Fixtures_by_Clubs!HO57,"") | N20: =IFERROR(Fixtures_by_Clubs!HO56,"") | O20: =IFERROR(Fixtures_by_Clubs!HO55,"") | P20: =IFERROR(Fixtures_by_Clubs!HO54,"") | Q20: =IFERROR(Fixtures_by_Clubs!HM58,"BLK") -> Sunderland | R20: =IFERROR(Fixtures_by_Clubs!HM59,"") -> A | S20: =Fixtures_by_Clubs!HM53 -> 0 | T20: =Fixtures_by_Clubs!HM53 -> 0 | U20: =K20*100+J20+H20/100+T20/10000-D20/1000000-V20/100000000 -> -1.9e-07 | V20: 19
A21: =RANK(U21,U$2:U$21) -> 20 | B21: Wolves | C21: #VALUE! | D21: =Fixtures_by_Clubs!HV55 -> 0 | E21: =Fixtures_by_Clubs!HV56 -> 0 | F21: =Fixtures_by_Clubs!HV57 -> 0 | G21: =Fixtures_by_Clubs!HV58 -> 0 | H21: =Fixtures_by_Clubs!HY54 -> 0 | I21: =Fixtures_by_Clubs!HY55 -> 0 | J21: =Fixtures_by_Clubs!HY56 -> 0 | K21: =Fixtures_by_Clubs!HV54-Deduction!$C$21 -> 0 | L21: =IFERROR(Fixtures_by_Clubs!IA58,"") | M21: =IFERROR(Fixtures_by_Clubs!IA57,"") | N21: =IFERROR(Fixtures_by_Clubs!IA56,"") | O21: =IFERROR(Fixtures_by_Clubs!IA55,"") | P21: =IFERROR(Fixtures_by_Clubs!IA54,"") | Q21: =IFERROR(Fixtures_by_Clubs!HY58,"BLK") -> Man City | R21: =IFERROR(Fixtures_by_Clubs!HY59,"") -> H | S21: =Fixtures_by_Clubs!HY53 -> 0 | T21: =Fixtures_by_Clubs!HY53 -> 0 | U21: =K21*100+J21+H21/100+T21/10000-D21/1000000-V21/100000000 -> -2e-07 | V21: 20
B22: BLK

Sheet Deduction
B1: Premier League 2025 | C1: Penalty Points Imposed by League
B2: Arsenal | C2: 0
B3: Aston Villa | C3: 0
B4: Bournemouth | C4: 0
B5: Brentford | C5: 0
B6: Brighton | C6: 0
B7: Burnley | C7: 0
B8: Chelsea | C8: 0
B9: Crystal Palace | C9: 0
B10: Everton | C10: 0
B11: Fulham | C11: 0
B12: Leeds Utd | C12: 0
B13: Liverpool | C13: 0
... B21: Wolves | C21: 0
A24: ©2025 excel4soccer.com

Sheet fixtures
A1: Match Day | B1: Match Date (UTC) | C1: Match Time(New York) | D1: Match Time(London) | E1: Match Time(Moscow) | F1: Match Time(Dubai) | G1: Match Time(Shanghai) | H1: Fixture | I1: Stadium | J1: Home Team | K1: Home Goal | L1: Away Goal | M1: Away Team | N1: Win % | O1: Draw % | P1: Loss % | Q1: Projected Home Goal | R1: Projected Away Goal | S1: Last Update Time | T1: Stage | U1: Status | V1: Match Time(Chicago) | W1: Match Time(Albuqerque) | X1: Match Time(San Francisco)
A2: 1 | B2: 45884 | C2: 45884.625 | D2: 45884.833 | E2: 45884.917 | F2: 45884.958 | G2: 45885.125 | H2: Liverpool vs Bournemouth | I2: Anfield | J2: Liverpool | M2: Bournemouth | N2: 0.6954 | O2: 0.1675 | P2: 0.1371 | Q2: 2.5445 | R2: 1.0578 | S2: 45865.7 | T2: REGULAR_SEASON | U2: SCHEDULED | V2: =IF(C2<>"TBC",C2-1/24,"TBC") -> 45884.583 | W2: =IF(C2<>"TBC",C2-1/12,"TBC") -> 45884.542 | X2: =IF(C2<>"TBC",C2-1/8,"TBC") -> 45884.5
A3: 1 | B3: 45885 | C3: 45885.312 | D3: 45885.521 | E3: 45885.604 | F3: 45885.646 | G3: 45885.812 | H3: Aston Villa vs Newcastle | I3: Villa Park | J3: Aston Villa | M3: Newcastle | N3: 0.3867 | O3: 0.2643 | P3: 0.349 | Q3: 1.3349 | R3: 1.2543 | S3: 45865.7 | T3: REGULAR_SEASON | U3: SCHEDULED | V3: =IF(C3<>"TBC",C3-1/24,"TBC") -> 45885.271 | W3: =IF(C3<>"TBC",C3-1/12,"TBC") -> 45885.229 | X3: =IF(C3<>"TBC",C3-1/8,"TBC") -> 45885.188
A4: 1 | B4: 45885 | C4: 45885.417 | D4: 45885.625 | E4: 45885.708 | F4: 45885.75 | G4: 45885.917 | H4: Brighton vs Fulham | I4: American Express Stadium | J4: Brighton | M4: Fulham | N4: 0.5057 | O4: 0.2559 | P4: 0.2383 | Q4: 1.5433 | R4: 0.9727 | S4: 45865.7 | T4: REGULAR_SEASON | U4: SCHEDULED | V4: =IF(C4<>"TBC",C4-1/24,"TBC") -> 45885.375 | W4: =IF(C4<>"TBC",C4-1/12,"TBC") -> 45885.333 | X4: =IF(C4<>"TBC",C4-1/8,"TBC") -> 45885.292
A5: 1 | B5: 45885 | C5: 45885.417 | D5: 45885.625 | E5: 45885.708 | F5: 45885.75 | G5: 45885.917 | H5: Spurs vs Burnley | I5: Tottenham Hotspur Stadium | J5: Spurs | M5: Burnley | N5: 0.7087 | O5: 0.179 | P5: 0.1123 | Q5: 2.2322 | R5: 0.76 | S5: 45865.7 | T5: REGULAR_SEASON | U5: SCHEDULED | V5: =IF(C5<>"TBC",C5-1/24,"TBC") -> 45885.375 | W5: =IF(C5<>"TBC",C5-1/12,"TBC") -> 45885.333 | X5: =IF(C5<>"TBC",C5-1/8,"TBC") -> 45885.292
A6: 1 | B6: 45885 | C6: 45885.417 | D6: 45885.625 | E6: 45885.708 | F6: 45885.75 | G6: 45885.917 | H6: Sunderland vs West Ham | I6: Stadium of Light | J6: Sunderland | M6: West Ham | N6: 0.2959 | O6: 0.2763 | P6: 0.4278 | Q6: 1.0433 | R6: 1.3142 | S6: 45865.7 | T6: REGULAR_SEASON | U6: SCHEDULED | V6: =IF(C6<>"TBC",C6-1/24,"TBC") -> 45885.375 | W6: =IF(C6<>"TBC",C6-1/12,"TBC") -> 45885.333 | X6: =IF(C6<>"TBC",C6-1/8,"TBC") -> 45885.292
A7: 1 | B7: 45885 | C7: 45885.521 | D7: 45885.729 | E7: 45885.812 | F7: 45885.854 | G7: 45886.021 | H7: Wolves vs Man City | I7: Molineux Stadium | J7: Wolves | M7: Man City | N7: 0.1724 | O7: 0.2092 | P7: 0.6183 | Q7: 0.9596 | R7: 2.014 | S7: 45865.7 | T7: REGULAR_SEASON | U7: SCHEDULED | V7: =IF(C7<>"TBC",C7-1/24,"TBC") -> 45885.479 | W7: =IF(C7<>"TBC",C7-1/12,"TBC") -> 45885.438 | X7: =IF(C7<>"TBC",C7-1/8,"TBC") -> 45885.396
A8: 1 | B8: 45886 | C8: 45886.375 | D8: 45886.583 | E8: 45886.667 | F8: 45886.708 | G8: 45886.875 | H8: Chelsea vs Crystal Palace | I8: Stamford Bridge | J8: Chelsea | M8: Crystal Palace | N8: 0.6139 | O8: 0.215 | P8: 0.1711 | Q8: 1.9404 | R8: 0.9133 | S8: 45865.7 | T8: REGULAR_SEASON | U8: SCHEDULED | V8: =IF(C8<>"TBC",C8-1/24,"TBC") -> 45886.333 | W8: =IF(C8<>"TBC",C8-1/12,"TBC") -> 45886.292 | X8: =IF(C8<>"TBC",C8-1/8,"TBC") -> 45886.25
A9: 1 | B9: 45886 | C9: 45886.375 | D9: 45886.583 | E9: 45886.667 | F9: 45886.708 | G9: 45886.875 | H9: Nott'm Forest vs Brentford | I9: The City Ground | J9: Nott'm Forest | M9: Brentford | N9: 0.4336 | O9: 0.2648 | P9: 0.3016 | Q9: 1.4066 | R9: 1.1272 | S9: 45865.7 | T9: REGULAR_SEASON | U9: SCHEDULED | V9: =IF(C9<>"TBC",C9-1/24,"TBC") -> 45886.333 | W9: =IF(C9<>"TBC",C9-1/12,"TBC") -> 45886.292 | X9: =IF(C9<>"TBC",C9-1/8,"TBC") -> 45886.25
A10: 1 | B10: 45886 | C10: 45886.479 | D10: 45886.688 | E10: 45886.771 | F10: 45886.812 | G10: 45886.979 | H10: Man Utd vs Arsenal | I10: Old Trafford | J10: Man Utd | M10: Arsenal | N10: 0.2954 | O10: 0.2721 | P10: 0.4325 | Q10: 1.0658 | R10: 1.3502 | S10: 45865.7 | T10: REGULAR_SEASON | U10: SCHEDULED | V10: =IF(C10<>"TBC",C10-1/24,"TBC") -> 45886.438 | W10: =IF(C10<>"TBC",C10-1/12,"TBC") -> 45886.396 | X10: =IF(C10<>"TBC",C10-1/8,"TBC") -> 45886.354
A11: 1 | B11: 45887 | C11: 45887.625 | D11: 45887.833 | E11: 45887.917 | F11: 45887.958 | G11: 45888.125 | H11: Leeds Utd vs Everton | I11: Elland Road | J11: Leeds Utd | M11: Everton | N11: 0.3566 | O11: 0.2869 | P11: 0.3566 | Q11: 1.1286 | R11: 1.1286 | S11: 45865.7 | T11: REGULAR_SEASON | U11: SCHEDULED | V11: =IF(C11<>"TBC",C11-1/24,"TBC") -> 45887.583 | W11: =IF(C11<>"TBC",C11-1/12,"TBC") -> 45887.542 | X11: =IF(C11<>"TBC",C11-1/8,"TBC") -> 45887.5
A12: 2 | B12: 45891 | C12: 45891.625 | D12: 45891.833 | E12: 45891.917 | F12: 45891.958 | G12: 45892.125 | H12: West Ham vs Chelsea | I12: London Stadium | J12: West Ham | M12: Chelsea | N12: 0 | O12: 0 | P12: 0 | Q12: 0 | R12: 0 | S12: 45865.7 | T12: REGULAR_SEASON | U12: SCHEDULED | V12: =IF(C12<>"TBC",C12-1/24,"TBC") -> 45891.583 | W12: =IF(C12<>"TBC",C12-1/12,"TBC") -> 45891.542 | X12: =IF(C12<>"TBC",C12-1/8,"TBC") -> 45891.5
A13: 2 | B13: 45892 | C13: 45892.312 | D13: 45892.521 | E13: 45892.604 | F13: 45892.646 | G13: 45892.812 | H13: Man City vs Spurs | I13: Etihad Stadium | J13: Man City | M13: Spurs | N13: 0 | O13: 0 | P13: 0 | Q13: 0 | R13: 0 | S13: 45865.7 | T13: REGULAR_SEASON | U13: SCHEDULED | V13: =IF(C13<>"TBC",C13-1/24,"TBC") -> 45892.271 | W13: =IF(C13<>"TBC",C13-1/12,"TBC") -> 45892.229 | X13: =IF(C13<>"TBC",C13-1/8,"TBC") -> 45892.188
... A381: 38 | B381: 46166 | C381: 46166.458 | D381: 46166.667 | E381: 46166.75 | F381: 46166.792 | G381: 46166.958 | H381: West Ham vs Leeds Utd | I381: London Stadium | J381: West Ham | M381: Leeds Utd | N381: 0 | O381: 0 | P381: 0 | Q381: 0 | R381: 0 | S381: 45865.7 | T381: REGULAR_SEASON | U381: SCHEDULED | V381: =IF(C381<>"TBC",C381-1/24,"TBC") -> 46166.417 | W381: =IF(C381<>"TBC",C381-1/12,"TBC") -> 46166.375 | X381: =IF(C381<>"TBC",C381-1/8,"TBC") -> 46166.333

Sheet Fixtures_by_Clubs
B1: Arsenal | N1: Aston Villa | Z1: Bournemouth | AL1: Brentford | AX1: Brighton | BJ1: Burnley | BV1: Chelsea | CH1: Crystal Palace | CT1: Everton | DF1: Fulham | DR1: Leeds Utd | ED1: Liverpool | EP1: Man City | FB1: Man Utd | FN1: Newcastle | FZ1: Nott'm Forest | GL1: Spurs | GX1: Sunderland | HJ1: West Ham | HV1: Wolves
A2: August | M2: August | Y2: August | AK2: August | AW2: August | BI2: August | BU2: August | CG2: August | CS2: August | DE2: August | DQ2: August | EC2: August | EO2: August | FA2: August | FM2: August | FY2: August | GK2: August | GW2: August | HI2: August | HU2: August
A3: 17 | B3: Sun | C3: =IFERROR(INDIRECT("fixtures!" & Dashboard!J1 &10) - Dashboard!K1/24,"TBC") -> 45886.688 | E3: Man Utd | F3: A | G3: =IF(ISBLANK(fixtures!$L10),"",fixtures!$L10) | H3: =IF(ISBLANK(fixtures!$L10),"",":") | I3: =IF(ISBLANK(fixtures!$K10),"",fixtures!$K10) | J3: =IF(ISBLANK(fixtures!$L10),"",IF(G3>I3,"W",IF(G3=I3,"D","L"))) | M3: 16 | N3: Sat | O3: =IFERROR(INDIRECT("fixtures!" & Dashboard!J1 &3) - Dashboard!K1/24,"TBC") -> 45885.521 | Q3: Newcastle | R3: H | S3: =IF(ISBLANK(fixtures!$K3),"",fixtures!$K3) | T3: =IF(ISBLANK(fixtures!$L3),"",":") | U3: =IF(ISBLANK(fixtures!$L3),"",fixtures!$L3) | V3: =IF(ISBLANK(fixtures!$L3),"",IF(S3>U3,"W",IF(S3=U3,"D","L"))) | Y3: 15 | Z3: Fri | AA3: =IFERROR(INDIRECT("fixtures!" & Dashboard!J1 &2) - Dashboard!K1/24,"TBC") -> 45884.833 | AC3: Liverpool | AD3: A | AE3: =IF(ISBLANK(fixtures!$L2),"",fixtures!$L2) | AF3: =IF(ISBLANK(fixtures!$L2),"",":") | AG3: =IF(ISBLANK(fixtures!$K2),"",fixtures!$K2) | AH3: =IF(ISBLANK(fixtures!$L2),"",IF(AE3>AG3,"W",IF(AE3=AG3,"D","L"))) | AK3: 17 | AL3: Sun | AM3: =IFERROR(INDIRECT("fixtures!" & Dashboard!J1 &9) - Dashboard!K1/24,"TBC") -> 45886.583 | AO3: Nott'm Forest | AP3: A | AQ3: =IF(ISBLANK(fixtures!$L9),"",fixtures!$L9) | AR3: =IF(ISBLANK(fixtures!$L9),"",":") | AS3: =IF(ISBLANK(fixtures!$K9),"",fixtures!$K9) | AT3: =IF(ISBLANK(fixtures!$L9),"",IF(AQ3>AS3,"W",IF(AQ3=AS3,"D","L"))) | AW3: 16 | AX3: Sat | AY3: =IFERROR(INDIRECT("fixtures!" & Dashboard!J1 &4) - Dashboard!K1/24,"TBC") -> 45885.625 | BA3: Fulham | BB3: H | BC3: =IF(ISBLANK(fixtures!$K4),"",fixtures!$K4) | BD3: =IF(ISBLANK(fixtures!$L4),"",":") | BE3: =IF(ISBLANK(fixtures!$L4),"",fixtures!$L4) | BF3: =IF(ISBLANK(fixtures!$L4),"",IF(BC3>BE3,"W",IF(BC3=BE3,"D","L"))) | BI3: 16 | BJ3: Sat | BK3: =IFERROR(INDIRECT("fixtures!" & Dashboard!J1 &5) - Dashboard!K1/24,"TBC") -> 45885.625 | BM3: Spurs | BN3: A | BO3: =IF(ISBLANK(fixtures!$L5),"",fixtures!$L5) | BP3: =IF(ISBLANK(fixtures!$L5),"",":") | BQ3: =IF(ISBLANK(fixtures!$K5),"",fixtures!$K5) | BR3: =IF(ISBLANK(fixtures!$L5),"",IF(BO3>BQ3,"W",IF(BO3=BQ3,"D","L"))) | BU3: 17 | BV3: Sun | BW3: =IFERROR(INDIRECT("fixtures!" & Dashboard!J1 &8) - Dashboard!K1/24,"TBC") -> 45886.583 | BY3: Crystal Palace | BZ3: H | CA3: =IF(ISBLANK(fixtures!$K8),"",fixtures!$K8) | CB3: =IF(ISBLANK(fixtures!$L8),"",":") | CC3: =IF(ISBLANK(fixtures!$L8),"",fixtures!$L8) | CD3: =IF(ISBLANK(fixtures!$L8),"",IF(CA3>CC3,"W",IF(CA3=CC3,"D","L"))) | CG3: 17 | CH3: Sun | CI3: =IFERROR(INDIRECT("fixtures!" & Dashboard!J1 &8) - Dashboard!K1/24,"TBC") -> 45886.583 | CK3: Chelsea | CL3: A | CM3: =IF(ISBLANK(fixtures!$L8),"",fixtures!$L8) | CN3: =IF(ISBLANK(fixtures!$L8),"",":") | CO3: =IF(ISBLANK(fixtures!$K8),"",fixtures!$K8) | CP3: =IF(ISBLANK(fixtures!$L8),"",IF(CM3>CO3,"W",IF(CM3=CO3,"D","L"))) | CS3: 18 | CT3: Mon | CU3: =IFERROR(INDIRECT("fixtures!" & Dashboard!J1 &11) - Dashboard!K1/24,"TBC") -> 45887.833 | CW3: Leeds Utd | CX3: A | CY3: =IF(ISBLANK(fixtures!$L11),"",fixtures!$L11) | CZ3: =IF(ISBLANK(fixtures!$L11),"",":") | DA3: =IF(ISBLANK(fixtures!$K11),"",fixtures!$K11) | DB3: =IF(ISBLANK(fixtures!$L11),"",IF(CY3>DA3,"W",IF(CY3=DA3,"D","L"))) | DE3: 16 | DF3: Sat | DG3: =IFERROR(INDIRECT("fixtures!" & Dashboard!J1 &4) - Dashboard!K1/24,"TBC") -> 45885.625 | DI3: Brighton | DJ3: A | DK3: =IF(ISBLANK(fixtures!$L4),"",fixtures!$L4) | DL3: =IF(ISBLANK(fixtures!$L4),"",":") | DM3: =IF(ISBLANK(fixtures!$K4),"",fixtures!$K4) | DN3: =IF(ISBLANK(fixtures!$L4),"",IF(DK3>DM3,"W",IF(DK3=DM3,"D","L"))) | DQ3: 18 | DR3: Mon | DS3: =IFERROR(INDIRECT("fixtures!" & Dashboard!J1 &11) - Dashboard!K1/24,"TBC") -> 45887.833 | DU3: Everton | DV3: H | DW3: =IF(ISBLANK(fixtures!$K11),"",fixtures!$K11) | DX3: =IF(ISBLANK(fixtures!$L11),"",":") | DY3: =IF(ISBLANK(fixtures!$L11),"",fixtures!$L11) | DZ3: =IF(ISBLANK(fixtures!$L11),"",IF(DW3>DY3,"W",IF(DW3=DY3,"D","L"))) | EC3: 15 | ED3: Fri | EE3: =IFERROR(INDIRECT("fixtures!" & Dashboard!J1 &2) - Dashboard!K1/24,"TBC") -> 45884.833 | EG3: Bournemouth | EH3: H | EI3: =IF(ISBLANK(fixtures!$K2),"",fixtures!$K2) | EJ3: =IF(ISBLANK(fixtures!$L2),"",":") | EK3: =IF(ISBLANK(fixtures!$L2),"",fixtures!$L2) | EL3: =IF(ISBLANK(fixtures!$L2),"",IF(EI3>EK3,"W",IF(EI3=EK3,"D","L"))) | EO3: 16 | EP3: Sat | EQ3: =IFERROR(INDIRECT("fixtures!" & Dashboard!J1 &7) - Dashboard!K1/24,"TBC") -> 45885.729 | ES3: Wolves | ET3: A | EU3: =IF(ISBLANK(fixtures!$L7),"",fixtures!$L7) | EV3: =IF(ISBLANK(fixtures!$L7),"",":") | EW3: =IF(ISBLANK(fixtures!$K7),"",fixtures!$K7) | EX3: =IF(ISBLANK(fixtures!$L7),"",IF(EU3>EW3,"W",IF(EU3=EW3,"D","L"))) | FA3: 17 | FB3: Sun | FC3: =IFERROR(INDIRECT("fixtures!" & Dashboard!J1 &10) - Dashboard!K1/24,"TBC") -> 45886.688 | FE3: Arsenal | FF3: H | FG3: =IF(ISBLANK(fixtures!$K10),"",fixtures!$K10) | FH3: =IF(ISBLANK(fixtures!$L10),"",":") | FI3: =IF(ISBLANK(fixtures!$L10),"",fixtures!$L10) | FJ3: =IF(ISBLANK(fixtures!$L10),"",IF(FG3>FI3,"W",IF(FG3=FI3,"D","L"))) | FM3: 16 | FN3: Sat | FO3: =IFERROR(INDIRECT("fixtures!" & Dashboard!J1 &3) - Dashboard!K1/24,"TBC") -> 45885.521 | FQ3: Aston Villa | FR3: A | FS3: =IF(ISBLANK(fixtures!$L3),"",fixtures!$L3) | FT3: =IF(ISBLANK(fixtures!$L3),"",":") | FU3: =IF(ISBLANK(fixtures!$K3),"",fixtures!$K3) | FV3: =IF(ISBLANK(fixtures!$L3),"",IF(FS3>FU3,"W",IF(FS3=FU3,"D","L"))) | FY3: 17 | FZ3: Sun | GA3: =IFERROR(INDIRECT("fixtures!" & Dashboard!J1 &9) - Dashboard!K1/24,"TBC") -> 45886.583 | GC3: Brentford | GD3: H | GE3: =IF(ISBLANK(fixtures!$K9),"",fixtures!$K9) | GF3: =IF(ISBLANK(fixtures!$L9),"",":") | GG3: =IF(ISBLANK(fixtures!$L9),"",fixtures!$L9) | GH3: =IF(ISBLANK(fixtures!$L9),"",IF(GE3>GG3,"W",IF(GE3=GG3,"D","L"))) | GK3: 16 | GL3: Sat | GM3: =IFERROR(INDIRECT("fixtures!" & Dashboard!J1 &5) - Dashboard!K1/24,"TBC") -> 45885.625 | GO3: Burnley | GP3: H | GQ3: =IF(ISBLANK(fixtures!$K5),"",fixtures!$K5) | GR3: =IF(ISBLANK(fixtures!$L5),"",":") | GS3: =IF(ISBLANK(fixtures!$L5),"",fixtures!$L5) | GT3: =IF(ISBLANK(fixtures!$L5),"",IF(GQ3>GS3,"W",IF(GQ3=GS3,"D","L"))) | GW3: 16 | GX3: Sat | GY3: =IFERROR(INDIRECT("fixtures!" & Dashboard!J1 &6) - Dashboard!K1/24,"TBC") -> 45885.625 | HA3: West Ham | HB3: H | HC3: =IF(ISBLANK(fixtures!$K6),"",fixtures!$K6) | HD3: =IF(ISBLANK(fixtures!$L6),"",":") | HE3: =IF(ISBLANK(fixtures!$L6),"",fixtures!$L6) | HF3: =IF(ISBLANK(fixtures!$L6),"",IF(HC3>HE3,"W",IF(HC3=HE3,"D","L"))) | HI3: 16 | HJ3: Sat | HK3: =IFERROR(INDIRECT("fixtures!" & Dashboard!J1 &6) - Dashboard!K1/24,"TBC") -> 45885.625 | HM3: Sunderland | HN3: A | HO3: =IF(ISBLANK(fixtures!$L6),"",fixtures!$L6) | HP3: =IF(ISBLANK(fixtures!$L6),"",":") | HQ3: =IF(ISBLANK(fixtures!$K6),"",fixtures!$K6) | HR3: =IF(ISBLANK(fixtures!$L6),"",IF(HO3>HQ3,"W",IF(HO3=HQ3,"D","L"))) | HU3: 16 | HV3: Sat | HW3: =IFERROR(INDIRECT("fixtures!" & Dashboard!J1 &7) - Dashboard!K1/24,"TBC") -> 45885.729 | HY3: Man City | HZ3: H | IA3: =IF(ISBLANK(fixtures!$K7),"",fixtures!$K7) | IB3: =IF(ISBLANK(fixtures!$L7),"",":") | IC3: =IF(ISBLANK(fixtures!$L7),"",fixtures!$L7) | ID3: =IF(ISBLANK(fixtures!$L7),"",IF(IA3>IC3,"W",IF(IA3=IC3,"D","L")))
A4: 23 | B4: Sat | C4: =IFERROR(INDIRECT("fixtures!" & Dashboard!J1 &17) - Dashboard!K1/24,"TBC") -> 45892.729 | E4: Leeds Utd | F4: H | G4: =IF(ISBLANK(fixtures!$K17),"",fixtures!$K17) | H4: =IF(ISBLANK(fixtures!$L17),"",":") | I4: =IF(ISBLANK(fixtures!$L17),"",fixtures!$L17) | J4: =IF(ISBLANK(fixtures!$L17),"",IF(G4>I4,"W",IF(G4=I4,"D","L"))) | M4: 23 | N4: Sat | O4: =IFERROR(INDIRECT("fixtures!" & Dashboard!J1 &15) - Dashboard!K1/24,"TBC") -> 45892.625 | Q4: Brentford | R4: A | S4: =IF(ISBLANK(fixtures!$L15),"",fixtures!$L15) | T4: =IF(ISBLANK(fixtures!$L15),"",":") | U4: =IF(ISBLANK(fixtures!$K15),"",fixtures!$K15) | V4: =IF(ISBLANK(fixtures!$L15),"",IF(S4>U4,"W",IF(S4=U4,"D","L"))) | Y4: 23 | Z4: Sat | AA4: =IFERROR(INDIRECT("fixtures!" & Dashboard!J1 &14) - Dashboard!K1/24,"TBC") -> 45892.625 | AC4: Wolves | AD4: H | AE4: =IF(ISBLANK(fixtures!$K14),"",fixtures!$K14) | AF4: =IF(ISBLANK(fixtures!$L14),"",":") | AG4: =IF(ISBLANK(fixtures!$L14),"",fixtures!$L14) | AH4: =IF(ISBLANK(fixtures!$L14),"",IF(AE4>AG4,"W",IF(AE4=AG4,"D","L"))) | AK4: 23 | AL4: Sat | AM4: =IFERROR(INDIRECT("fixtures!" & Dashboard!J1 &15) - Dashboard!K1/24,"TBC") -> 45892.625 | AO4: Aston Villa | AP4: H | AQ4: =IF(ISBLANK(fixtures!$K15),"",fixtures!$K15) | AR4: =IF(ISBLANK(fixtures!$L15),"",":") | AS4: =IF(ISBLANK(fixtures!$L15),"",fixtures!$L15) | AT4: =IF(ISBLANK(fixtures!$L15),"",IF(AQ4>AS4,"W",IF(AQ4=AS4,"D","L"))) | AW4: 24 | AX4: Sun | AY4: =IFERROR(INDIRECT("fixtures!" & Dashboard!J1 &19) - Dashboard!K1/24,"TBC") -> 45893.583 | BA4: Everton | BB4: A | BC4: =IF(ISBLANK(fixtures!$L19),"",fixtures!$L19) | BD4: =IF(ISBLANK(fixtures!$L19),"",":") | BE4: =IF(ISBLANK(fixtures!$K19),"",fixtures!$K19) | BF4: =IF(ISBLANK(fixtures!$L19),"",IF(BC4>BE4,"W",IF(BC4=BE4,"D","L"))) | BI4: 23 | BJ4: Sat | BK4: =IFERROR(INDIRECT("fixtures!" & Dashboard!J1 &16) - Dashboard!K1/24,"TBC") -> 45892.625 | BM4: Sunderland | BN4: H | BO4: =IF(ISBLANK(fixtures!$K16),"",fixtures!$K16) | BP4: =IF(ISBLANK(fixtures!$L16),"",":") | BQ4: =IF(ISBLANK(fixtures!$L16),"",fixtures!$L16) | BR4: =IF(ISBLANK(fixtures!$L16),"",IF(BO4>BQ4,"W",IF(BO4=BQ4,"D","L"))) | BU4: 22 | BV4: Fri | BW4: =IFERROR(INDIRECT("fixtures!" & Dashboard!J1 &12) - Dashboard!K1/24,"TBC") -> 45891.833 | BY4: West Ham | BZ4: A | CA4: =IF(ISBLANK(fixtures!$L12),"",fixtures!$L12) | CB4: =IF(ISBLANK(fixtures!$L12),"",":") | CC4: =IF(ISBLANK(fixtures!$K12),"",fixtures!$K12) | CD4: =IF(ISBLANK(fixtures!$L12),"",IF(CA4>CC4,"W",IF(CA4=CC4,"D","L"))) | CG4: 24 | CH4: Sun | CI4: =IFERROR(INDIRECT("fixtures!" & Dashboard!J1 &18) - Dashboard!K1/24,"TBC") -> 45893.583 | CK4: Nott'm Forest | CL4: H | CM4: =IF(ISBLANK(fixtures!$K18),"",fixtures!$K18) | CN4: =IF(ISBLANK(fixtures!$L18),"",":") | CO4: =IF(ISBLANK(fixtures!$L18),"",fixtures!$L18) | CP4: =IF(ISBLANK(fixtures!$L18),"",IF(CM4>CO4,"W",IF(CM4=CO4,"D","L"))) | CS4: 24 | CT4: Sun | CU4: =IFERROR(INDIRECT("fixtures!" & Dashboard!J1 &19) - Dashboard!K1/24,"TBC") -> 45893.583 | CW4: Brighton | CX4: H | CY4: =IF(ISBLANK(fixtures!$K19),"",fixtures!$K19) | CZ4: =IF(ISBLANK(fixtures!$L19),"",":") | DA4: =IF(ISBLANK(fixtures!$L19),"",fixtures!$L19) | DB4: =IF(ISBLANK(fixtures!$L19),"",IF(CY4>DA4,"W",IF(CY4=DA4,"D","L"))) | DE4: 24 | DF4: Sun | DG4: =IFERROR(INDIRECT("fixtures!" & Dashboard!J1 &20) - Dashboard!K1/24,"TBC") -> 45893.688 | DI4: Man Utd | DJ4: H | DK4: =IF(ISBLANK(fixtures!$K20),"",fixtures!$K20) | DL4: =IF(ISBLANK(fixtures!$L20),"",":") | DM4: =IF(ISBLANK(fixtures!$L20),"",fixtures!$L20) | DN4: =IF(ISBLANK(fixtures!$L20),"",IF(DK4>DM4,"W",IF(DK4=DM4,"D","L"))) | DQ4: 23 | DR4: Sat | DS4: =IFERROR(INDIRECT("fixtures!" & Dashboard!J1 &17) - Dashboard!K1/24,"TBC") -> 45892.729 | DU4: Arsenal | DV4: A | DW4: =IF(ISBLANK(fixtures!$L17),"",fixtures!$L17) | DX4: =IF(ISBLANK(fixtures!$L17),"",":") | DY4: =IF(ISBLANK(fixtures!$K17),"",fixtures!$K17) | DZ4: =IF(ISBLANK(fixtures!$L17),"",IF(DW4>DY4,"W",IF(DW4=DY4,"D","L"))) | EC4: 25 | ED4: Mon | EE4: =IFERROR(INDIRECT("fixtures!" & Dashboard!J1 &21) - Dashboard!K1/24,"TBC") -> 45894.833 | EG4: Newcastle | EH4: A | EI4: =IF(ISBLANK(fixtures!$L21),"",fixtures!$L21) | EJ4: =IF(ISBLANK(fixtures!$L21),"",":") | EK4: =IF(ISBLANK(fixtures!$K21),"",fixtures!$K21) | EL4: =IF(ISBLANK(fixtures!$L21),"",IF(EI4>EK4,"W",IF(EI4=EK4,"D","L"))) | EO4: 23 | EP4: Sat | EQ4: =IFERROR(INDIRECT("fixtures!" & Dashboard!J1 &13) - Dashboard!K1/24,"TBC") -> 45892.521 | ES4: Spurs | ET4: H | EU4: =IF(ISBLANK(fixtures!$K13),"",fixtures!$K13) | EV4: =IF(ISBLANK(fixtures!$L13),"",":") | EW4: =IF(ISBLANK(fixtures!$L13),"",fixtures!$L13) | EX4: =IF(ISBLANK(fixtures!$L13),"",IF(EU4>EW4,"W",IF(EU4=EW4,"D","L"))) | FA4: 24 | FB4: Sun | FC4: =IFERROR(INDIRECT("fixtures!" & Dashboard!J1 &20) - Dashboard!K1/24,"TBC") -> 45893.688 | FE4: Fulham | FF4: A | FG4: =IF(ISBLANK(fixtures!$L20),"",fixtures!$L20) | FH4: =IF(ISBLANK(fixtures!$L20),"",":") | FI4: =IF(ISBLANK(fixtures!$K20),"",fixtures!$K20) | FJ4: =IF(ISBLANK(fixtures!$L20),"",IF(FG4>FI4,"W",IF(FG4=FI4,"D","L"))) | FM4: 25 | FN4: Mon | FO4: =IFERROR(INDIRECT("fixtures!" & Dashboard!J1 &21) - Dashboard!K1/24,"TBC") -> 45894.833 | FQ4: Liverpool | FR4: H | FS4: =IF(ISBLANK(fixtures!$K21),"",fixtures!$K21) | FT4: =IF(ISBLANK(fixtures!$L21),"",":") | FU4: =IF(ISBLANK(fixtures!$L21),"",fixtures!$L21) | FV4: =IF(ISBLANK(fixtures!$L21),"",IF(FS4>FU4,"W",IF(FS4=FU4,"D","L"))) | FY4: 24 | FZ4: Sun | GA4: =IFERROR(INDIRECT("fixtures!" & Dashboard!J1 &18) - Dashboard!K1/24,"TBC") -> 45893.583 | GC4: Crystal Palace | GD4: A | GE4: =IF(ISBLANK(fixtures!$L18),"",fixtures!$L18) | GF4: =IF(ISBLANK(fixtures!$L18),"",":") | GG4: =IF(ISBLANK(fixtures!$K18),"",fixtures!$K18) | GH4: =IF(ISBLANK(fixtures!$L18),"",IF(GE4>GG4,"W",IF(GE4=GG4,"D","L"))) | GK4: 23 | GL4: Sat | GM4: =IFERROR(INDIRECT("fixtures!" & Dashboard!J1 &13) - Dashboard!K1/24,"TBC") -> 45892.521 | GO4: Man City | GP4: A | GQ4: =IF(ISBLANK(fixtures!$L13),"",fixtures!$L13) | GR4: =IF(ISBLANK(fixtures!$L13),"",":") | GS4: =IF(ISBLANK(fixtures!$K13),"",fixtures!$K13) | GT4: =IF(ISBLANK(fixtures!$L13),"",IF(GQ4>GS4,"W",IF(GQ4=GS4,"D","L"))) | GW4: 23 | GX4: Sat | GY4: =IFERROR(INDIRECT("fixtures!" & Dashboard!J1 &16) - Dashboard!K1/24,"TBC") -> 45892.625 | HA4: Burnley | HB4: A | HC4: =IF(ISBLANK(fixtures!$L16),"",fixtures!$L16) | HD4: =IF(ISBLANK(fixtures!$L16),"",":") | HE4: =IF(ISBLANK(fixtures!$K16),"",fixtures!$K16) | HF4: =IF(ISBLANK(fixtures!$L16),"",IF(HC4>HE4,"W",IF(HC4=HE4,"D","L"))) | HI4: 22 | HJ4: Fri | HK4: =IFERROR(INDIRECT("fixtures!" & Dashboard!J1 &12) - Dashboard!K1/24,"TBC") -> 45891.833 | HM4: Chelsea | HN4: H | HO4: =IF(ISBLANK(fixtures!$K12),"",fixtures!$K12) | HP4: =IF(ISBLANK(fixtures!$L12),"",":") | HQ4: =IF(ISBLANK(fixtures!$L12),"",fixtures!$L12) | HR4: =IF(ISBLANK(fixtures!$L12),"",IF(HO4>HQ4,"W",IF(HO4=HQ4,"D","L"))) | HU4: 23 | HV4: Sat | HW4: =IFERROR(INDIRECT("fixtures!" & Dashboard!J1 &14) - Dashboard!K1/24,"TBC") -> 45892.625 | HY4: Bournemouth | HZ4: A | IA4: =IF(ISBLANK(fixtures!$L14),"",fixtures!$L14) | IB4: =IF(ISBLANK(fixtures!$L14),"",":") | IC4: =IF(ISBLANK(fixtures!$K14),"",fixtures!$K14) | ID4: =IF(ISBLANK(fixtures!$L14),"",IF(IA4>IC4,"W",IF(IA4=IC4,"D","L")))
